BEGIN:VCALENDAR
VERSION:2.0
PRODID:-//DPV - ECPv6.15.20//NONSGML v1.0//EN
CALSCALE:GREGORIAN
METHOD:PUBLISH
X-ORIGINAL-URL:https://pilates-verband.org
X-WR-CALDESC:Veranstaltungen für DPV
REFRESH-INTERVAL;VALUE=DURATION:PT1H
X-Robots-Tag:noindex
X-PUBLISHED-TTL:PT1H
BEGIN:VTIMEZONE
TZID:Europe/Berlin
BEGIN:DAYLIGHT
TZOFFSETFROM:+0100
TZOFFSETTO:+0200
TZNAME:CEST
DTSTART:20230326T010000
END:DAYLIGHT
BEGIN:STANDARD
TZOFFSETFROM:+0200
TZOFFSETTO:+0100
TZNAME:CET
DTSTART:20231029T010000
END:STANDARD
BEGIN:DAYLIGHT
TZOFFSETFROM:+0100
TZOFFSETTO:+0200
TZNAME:CEST
DTSTART:20240331T010000
END:DAYLIGHT
BEGIN:STANDARD
TZOFFSETFROM:+0200
TZOFFSETTO:+0100
TZNAME:CET
DTSTART:20241027T010000
END:STANDARD
BEGIN:DAYLIGHT
TZOFFSETFROM:+0100
TZOFFSETTO:+0200
TZNAME:CEST
DTSTART:20250330T010000
END:DAYLIGHT
BEGIN:STANDARD
TZOFFSETFROM:+0200
TZOFFSETTO:+0100
TZNAME:CET
DTSTART:20251026T010000
END:STANDARD
END:VTIMEZONE
BEGIN:VEVENT
DTSTART;VALUE=DATE:20240101
DTEND;VALUE=DATE:20250101
DTSTAMP:20260423T023155
CREATED:20231012T091245Z
LAST-MODIFIED:20231012T091245Z
UID:6161-1704067200-1735689599@pilates-verband.org
SUMMARY:Pilates Reformer Modul 2
DESCRIPTION:Pilates Reformer Modul 2\n Veranstaltungsort: Berlin
URL:https://pilates-verband.org/event/pilates-reformer-modul-2/
LOCATION:Pilates Studio Berlin – Galina Rohleder\, Kurfürstendamm 69\, Berlin\, info@pilates-studio.berlin\, 10707\, Germany
CATEGORIES:Ausbildung
ATTACH;FMTTYPE=image/svg+xml:https://pilates-verband.org/wp-content/uploads/pilates-studio-berlin-galina-rohleder-logo.svg
END:VEVENT
BEGIN:VEVENT
DTSTART;VALUE=DATE:20240201
DTEND;VALUE=DATE:20241221
DTSTAMP:20260423T023155
CREATED:20231128T090215Z
LAST-MODIFIED:20231128T090215Z
UID:6345-1706745600-1734739199@pilates-verband.org
SUMMARY:Teacher Training / Complete System Classical Pilates
DESCRIPTION:Teacher Training / Complete System Classical Pilates\n \n Veranstaltungsort: Berlin
URL:https://pilates-verband.org/event/teacher-training-complete-system-classical-pilates/
LOCATION:Pilates Studio Berlin – Galina Rohleder\, Kurfürstendamm 69\, Berlin\, info@pilates-studio.berlin\, 10707\, Germany
CATEGORIES:Ausbildung
ATTACH;FMTTYPE=image/svg+xml:https://pilates-verband.org/wp-content/uploads/pilates-studio-berlin-galina-rohleder-logo.svg
END:VEVENT
BEGIN:VEVENT
DTSTART;VALUE=DATE:20240701
DTEND;VALUE=DATE:20250101
DTSTAMP:20260423T023155
CREATED:20231012T091127Z
LAST-MODIFIED:20231012T091127Z
UID:6159-1719792000-1735689599@pilates-verband.org
SUMMARY:Pilates Reformer Modul 1
DESCRIPTION:Pilates Reformer Modul 1\n Veranstaltungsort: Berlin
URL:https://pilates-verband.org/event/pilates-reformer-modul-1/
LOCATION:Pilates Studio Berlin – Galina Rohleder\, Kurfürstendamm 69\, Berlin\, info@pilates-studio.berlin\, 10707\, Germany
CATEGORIES:Ausbildung
ATTACH;FMTTYPE=image/svg+xml:https://pilates-verband.org/wp-content/uploads/pilates-studio-berlin-galina-rohleder-logo.svg
END:VEVENT
BEGIN:VEVENT
DTSTART;VALUE=DATE:20240817
DTEND;VALUE=DATE:20240818
DTSTAMP:20260423T023155
CREATED:20231205T110947Z
LAST-MODIFIED:20231205T110947Z
UID:6598-1723852800-1723939199@pilates-verband.org
SUMMARY:Koblenz - Rund um die Hüfte – Pilates Mattentraining
DESCRIPTION:Rund um die Hüfte – Pilates Mattentraining\n Veranstaltungsort: Koblenz
URL:https://pilates-verband.org/event/koblenz-rund-um-die-huefte-pilates-mattentraining/
LOCATION:Polestar Pilates\, Krefelder Straße 18\, Köln\, info@polestarpilates.de\, 50670\, Germany
CATEGORIES:Fortbildung
ATTACH;FMTTYPE=image/png:https://pilates-verband.org/wp-content/uploads/POLESTAR_Logo.png
END:VEVENT
BEGIN:VEVENT
DTSTART;VALUE=DATE:20240817
DTEND;VALUE=DATE:20240819
DTSTAMP:20260423T023155
CREATED:20231205T103755Z
LAST-MODIFIED:20231205T103755Z
UID:6555-1723852800-1724025599@pilates-verband.org
SUMMARY:Reformer 3
DESCRIPTION:Reformer 3\n Veranstaltungsort: Basel
URL:https://pilates-verband.org/event/reformer-3-6/
LOCATION:Polestar Pilates\, Krefelder Straße 18\, Köln\, info@polestarpilates.de\, 50670\, Germany
CATEGORIES:Ausbildung
ATTACH;FMTTYPE=image/png:https://pilates-verband.org/wp-content/uploads/POLESTAR_Logo.png
END:VEVENT
BEGIN:VEVENT
DTSTART;VALUE=DATE:20240817
DTEND;VALUE=DATE:20240819
DTSTAMP:20260423T023155
CREATED:20240122T074952Z
LAST-MODIFIED:20240122T075312Z
UID:7112-1723852800-1724025599@pilates-verband.org
SUMMARY:München Geräte Ausbildung
DESCRIPTION:Studioausbildung (Matte und Geräte) – Modul 5-6\n Veranstaltungsort: München
URL:https://pilates-verband.org/event/muenchen-geraete-ausbildung-18/
LOCATION:BASI Pilates\, Kaiser Ludwig Straße 21\, Fürstenfeldbruck\, natascha@basipilates.net\, 82256\, Germany
CATEGORIES:Fortbildung
ATTACH;FMTTYPE=image/svg+xml:https://pilates-verband.org/wp-content/uploads/basi-pilates-logo.svg
END:VEVENT
BEGIN:VEVENT
DTSTART;VALUE=DATE:20240817
DTEND;VALUE=DATE:20240819
DTSTAMP:20260423T023155
CREATED:20240122T074954Z
LAST-MODIFIED:20240122T075312Z
UID:7117-1723852800-1724025599@pilates-verband.org
SUMMARY:München Matten Ausbildung
DESCRIPTION:Grundausbildung Matte – Modul 5-6\n Veranstaltungsort: München
URL:https://pilates-verband.org/event/muenchen-matten-ausbildung-10/
LOCATION:BASI Pilates\, Kaiser Ludwig Straße 21\, Fürstenfeldbruck\, natascha@basipilates.net\, 82256\, Germany
CATEGORIES:Fortbildung
ATTACH;FMTTYPE=image/svg+xml:https://pilates-verband.org/wp-content/uploads/basi-pilates-logo.svg
END:VEVENT
BEGIN:VEVENT
DTSTART;TZID=Europe/Berlin:20240817T080000
DTEND;TZID=Europe/Berlin:20240817T170000
DTSTAMP:20260423T023155
CREATED:20231205T111036Z
LAST-MODIFIED:20231205T111036Z
UID:6600-1723881600-1723914000@pilates-verband.org
SUMMARY:Koblenz - Rund um die Hüfte – Pilates Reformertraining
DESCRIPTION:Rund um die Hüfte – Pilates Reformertraining\n Veranstaltungsort: Koblenz
URL:https://pilates-verband.org/event/koblenz-rund-um-die-huefte-pilates-reformertraining/
LOCATION:Polestar Pilates\, Krefelder Straße 18\, Köln\, info@polestarpilates.de\, 50670\, Germany
CATEGORIES:Fortbildung
ATTACH;FMTTYPE=image/png:https://pilates-verband.org/wp-content/uploads/POLESTAR_Logo.png
END:VEVENT
END:VCALENDAR