BEGIN:VCALENDAR
VERSION:2.0
PRODID:-//DPV - ECPv6.15.20//NONSGML v1.0//EN
CALSCALE:GREGORIAN
METHOD:PUBLISH
X-ORIGINAL-URL:https://pilates-verband.org
X-WR-CALDESC:Veranstaltungen für DPV
REFRESH-INTERVAL;VALUE=DURATION:PT1H
X-Robots-Tag:noindex
X-PUBLISHED-TTL:PT1H
BEGIN:VTIMEZONE
TZID:Europe/Berlin
BEGIN:DAYLIGHT
TZOFFSETFROM:+0100
TZOFFSETTO:+0200
TZNAME:CEST
DTSTART:20230326T010000
END:DAYLIGHT
BEGIN:STANDARD
TZOFFSETFROM:+0200
TZOFFSETTO:+0100
TZNAME:CET
DTSTART:20231029T010000
END:STANDARD
BEGIN:DAYLIGHT
TZOFFSETFROM:+0100
TZOFFSETTO:+0200
TZNAME:CEST
DTSTART:20240331T010000
END:DAYLIGHT
BEGIN:STANDARD
TZOFFSETFROM:+0200
TZOFFSETTO:+0100
TZNAME:CET
DTSTART:20241027T010000
END:STANDARD
BEGIN:DAYLIGHT
TZOFFSETFROM:+0100
TZOFFSETTO:+0200
TZNAME:CEST
DTSTART:20250330T010000
END:DAYLIGHT
BEGIN:STANDARD
TZOFFSETFROM:+0200
TZOFFSETTO:+0100
TZNAME:CET
DTSTART:20251026T010000
END:STANDARD
END:VTIMEZONE
BEGIN:VEVENT
DTSTART;VALUE=DATE:20240101
DTEND;VALUE=DATE:20250101
DTSTAMP:20260422T215122
CREATED:20231012T091245Z
LAST-MODIFIED:20231012T091245Z
UID:6161-1704067200-1735689599@pilates-verband.org
SUMMARY:Pilates Reformer Modul 2
DESCRIPTION:Pilates Reformer Modul 2\n Veranstaltungsort: Berlin
URL:https://pilates-verband.org/event/pilates-reformer-modul-2/
LOCATION:Pilates Studio Berlin – Galina Rohleder\, Kurfürstendamm 69\, Berlin\, info@pilates-studio.berlin\, 10707\, Germany
CATEGORIES:Ausbildung
ATTACH;FMTTYPE=image/svg+xml:https://pilates-verband.org/wp-content/uploads/pilates-studio-berlin-galina-rohleder-logo.svg
END:VEVENT
BEGIN:VEVENT
DTSTART;VALUE=DATE:20240201
DTEND;VALUE=DATE:20241221
DTSTAMP:20260422T215122
CREATED:20231128T090215Z
LAST-MODIFIED:20231128T090215Z
UID:6345-1706745600-1734739199@pilates-verband.org
SUMMARY:Teacher Training / Complete System Classical Pilates
DESCRIPTION:Teacher Training / Complete System Classical Pilates\n \n Veranstaltungsort: Berlin
URL:https://pilates-verband.org/event/teacher-training-complete-system-classical-pilates/
LOCATION:Pilates Studio Berlin – Galina Rohleder\, Kurfürstendamm 69\, Berlin\, info@pilates-studio.berlin\, 10707\, Germany
CATEGORIES:Ausbildung
ATTACH;FMTTYPE=image/svg+xml:https://pilates-verband.org/wp-content/uploads/pilates-studio-berlin-galina-rohleder-logo.svg
END:VEVENT
BEGIN:VEVENT
DTSTART;VALUE=DATE:20240701
DTEND;VALUE=DATE:20250101
DTSTAMP:20260422T215122
CREATED:20231012T091127Z
LAST-MODIFIED:20231012T091127Z
UID:6159-1719792000-1735689599@pilates-verband.org
SUMMARY:Pilates Reformer Modul 1
DESCRIPTION:Pilates Reformer Modul 1\n Veranstaltungsort: Berlin
URL:https://pilates-verband.org/event/pilates-reformer-modul-1/
LOCATION:Pilates Studio Berlin – Galina Rohleder\, Kurfürstendamm 69\, Berlin\, info@pilates-studio.berlin\, 10707\, Germany
CATEGORIES:Ausbildung
ATTACH;FMTTYPE=image/svg+xml:https://pilates-verband.org/wp-content/uploads/pilates-studio-berlin-galina-rohleder-logo.svg
END:VEVENT
BEGIN:VEVENT
DTSTART;VALUE=DATE:20241001
DTEND;VALUE=DATE:20241101
DTSTAMP:20260422T215122
CREATED:20240222T105402Z
LAST-MODIFIED:20240222T105402Z
UID:7210-1727740800-1730419199@pilates-verband.org
SUMMARY:The Pi Concept® Mat Instructor Silver Modul 5
DESCRIPTION:The Pi Concept® Mat Instructor Silver N Modul 5\n Veranstaltungsort: Hamburg
URL:https://pilates-verband.org/event/the-pi-concept-mat-instructor-silver-modul-5/
LOCATION:The PI Concept® (TPC)\, Harksheider Str. 6A\, Hamburg\, office@pilatesausbildungszentrum.de\, 22399\, Germany
CATEGORIES:Ausbildung
ATTACH;FMTTYPE=image/png:https://pilates-verband.org/wp-content/uploads/the-pi-concept-logo.png
END:VEVENT
BEGIN:VEVENT
DTSTART;VALUE=DATE:20241001
DTEND;VALUE=DATE:20241101
DTSTAMP:20260422T215122
CREATED:20240222T105800Z
LAST-MODIFIED:20240222T105800Z
UID:7220-1727740800-1730419199@pilates-verband.org
SUMMARY:The Pi Concept® Studio Instructor Silver Modul 5
DESCRIPTION:The Pi Concept® Studio Instructor Silver N Modul 5\n Veranstaltungsort: Hamburg
URL:https://pilates-verband.org/event/the-pi-concept-studio-instructor-silver-modul-5/
LOCATION:The PI Concept® (TPC)\, Harksheider Str. 6A\, Hamburg\, office@pilatesausbildungszentrum.de\, 22399\, Germany
CATEGORIES:Ausbildung
ATTACH;FMTTYPE=image/png:https://pilates-verband.org/wp-content/uploads/the-pi-concept-logo.png
END:VEVENT
BEGIN:VEVENT
DTSTART;VALUE=DATE:20241011
DTEND;VALUE=DATE:20241012
DTSTAMP:20260422T215122
CREATED:20231013T023233Z
LAST-MODIFIED:20231013T024438Z
UID:6216-1728604800-1728691199@pilates-verband.org
SUMMARY:Freiburg Das Prinzip Fluss in der Mattenklasse
DESCRIPTION:Das Prinzip Fluss in der Mattenklasse\n Veranstaltungsort: Freiburg
URL:https://pilates-verband.org/event/freiburg-das-prinzip-fluss-in-der-mattenklasse-2/
LOCATION:BASI Pilates\, Kaiser Ludwig Straße 21\, Fürstenfeldbruck\, natascha@basipilates.net\, 82256\, Germany
CATEGORIES:Fortbildung
ATTACH;FMTTYPE=image/svg+xml:https://pilates-verband.org/wp-content/uploads/basi-pilates-logo.svg
END:VEVENT
BEGIN:VEVENT
DTSTART;VALUE=DATE:20241011
DTEND;VALUE=DATE:20241012
DTSTAMP:20260422T215122
CREATED:20240313T125815Z
LAST-MODIFIED:20240806T090020Z
UID:7281-1728604800-1728691199@pilates-verband.org
SUMMARY:Der Einsatz von Kleingeräten beim Pilates Matwork!
DESCRIPTION:Der Einsatz von Kleingeräten beim Pilates Matwork!\n Veranstaltungsort: München
URL:https://pilates-verband.org/event/der-einsatz-von-kleingeraeten-beim-pilates-matwork/
LOCATION:keep in motion\, Sendlingerstraße 56\, München\, info@pilates-in-muenchen.de\, 80331\, Germany
CATEGORIES:Fortbildung
ATTACH;FMTTYPE=image/jpeg:https://pilates-verband.org/wp-content/uploads/keep-in-motion-pilates-logo.jpg
END:VEVENT
BEGIN:VEVENT
DTSTART;VALUE=DATE:20241011
DTEND;VALUE=DATE:20241014
DTSTAMP:20260422T215122
CREATED:20240122T074952Z
LAST-MODIFIED:20240122T075311Z
UID:7113-1728604800-1728863999@pilates-verband.org
SUMMARY:München Geräte Ausbildung
DESCRIPTION:Studioausbildung (Matte und Geräte) – Modul 7-9\n Veranstaltungsort: München
URL:https://pilates-verband.org/event/muenchen-geraete-ausbildung-19/
LOCATION:BASI Pilates\, Kaiser Ludwig Straße 21\, Fürstenfeldbruck\, natascha@basipilates.net\, 82256\, Germany
CATEGORIES:Fortbildung
ATTACH;FMTTYPE=image/svg+xml:https://pilates-verband.org/wp-content/uploads/basi-pilates-logo.svg
END:VEVENT
BEGIN:VEVENT
DTSTART;VALUE=DATE:20241011
DTEND;VALUE=DATE:20241014
DTSTAMP:20260422T215122
CREATED:20240403T073325Z
LAST-MODIFIED:20240403T073325Z
UID:7383-1728604800-1728863999@pilates-verband.org
SUMMARY:Intensiv Reformer\, Level 1
DESCRIPTION:Intensiv Reformer\, Level 1\n Veranstaltungsort: München
URL:https://pilates-verband.org/event/intensiv-reformer-level-1-2/
LOCATION:info@polestarpilates.de
CATEGORIES:Ausbildung
ATTACH;FMTTYPE=image/png:https://pilates-verband.org/wp-content/uploads/pilatesbody-logo.png
END:VEVENT
END:VCALENDAR