BEGIN:VCALENDAR
VERSION:2.0
PRODID:-//DPV - ECPv6.15.20//NONSGML v1.0//EN
CALSCALE:GREGORIAN
METHOD:PUBLISH
X-WR-CALNAME:DPV
X-ORIGINAL-URL:https://pilates-verband.org
X-WR-CALDESC:Veranstaltungen für DPV
REFRESH-INTERVAL;VALUE=DURATION:PT1H
X-Robots-Tag:noindex
X-PUBLISHED-TTL:PT1H
BEGIN:VTIMEZONE
TZID:Europe/Berlin
BEGIN:DAYLIGHT
TZOFFSETFROM:+0100
TZOFFSETTO:+0200
TZNAME:CEST
DTSTART:20230326T010000
END:DAYLIGHT
BEGIN:STANDARD
TZOFFSETFROM:+0200
TZOFFSETTO:+0100
TZNAME:CET
DTSTART:20231029T010000
END:STANDARD
BEGIN:DAYLIGHT
TZOFFSETFROM:+0100
TZOFFSETTO:+0200
TZNAME:CEST
DTSTART:20240331T010000
END:DAYLIGHT
BEGIN:STANDARD
TZOFFSETFROM:+0200
TZOFFSETTO:+0100
TZNAME:CET
DTSTART:20241027T010000
END:STANDARD
BEGIN:DAYLIGHT
TZOFFSETFROM:+0100
TZOFFSETTO:+0200
TZNAME:CEST
DTSTART:20250330T010000
END:DAYLIGHT
BEGIN:STANDARD
TZOFFSETFROM:+0200
TZOFFSETTO:+0100
TZNAME:CET
DTSTART:20251026T010000
END:STANDARD
END:VTIMEZONE
BEGIN:VEVENT
DTSTART;VALUE=DATE:20240101
DTEND;VALUE=DATE:20250101
DTSTAMP:20260422T214637
CREATED:20231012T091245Z
LAST-MODIFIED:20231012T091245Z
UID:6161-1704067200-1735689599@pilates-verband.org
SUMMARY:Pilates Reformer Modul 2
DESCRIPTION:Pilates Reformer Modul 2\n Veranstaltungsort: Berlin
URL:https://pilates-verband.org/event/pilates-reformer-modul-2/
LOCATION:Pilates Studio Berlin – Galina Rohleder\, Kurfürstendamm 69\, Berlin\, info@pilates-studio.berlin\, 10707\, Germany
CATEGORIES:Ausbildung
ATTACH;FMTTYPE=image/svg+xml:https://pilates-verband.org/wp-content/uploads/pilates-studio-berlin-galina-rohleder-logo.svg
END:VEVENT
BEGIN:VEVENT
DTSTART;VALUE=DATE:20240201
DTEND;VALUE=DATE:20241221
DTSTAMP:20260422T214637
CREATED:20231128T090215Z
LAST-MODIFIED:20231128T090215Z
UID:6345-1706745600-1734739199@pilates-verband.org
SUMMARY:Teacher Training / Complete System Classical Pilates
DESCRIPTION:Teacher Training / Complete System Classical Pilates\n \n Veranstaltungsort: Berlin
URL:https://pilates-verband.org/event/teacher-training-complete-system-classical-pilates/
LOCATION:Pilates Studio Berlin – Galina Rohleder\, Kurfürstendamm 69\, Berlin\, info@pilates-studio.berlin\, 10707\, Germany
CATEGORIES:Ausbildung
ATTACH;FMTTYPE=image/svg+xml:https://pilates-verband.org/wp-content/uploads/pilates-studio-berlin-galina-rohleder-logo.svg
END:VEVENT
BEGIN:VEVENT
DTSTART;VALUE=DATE:20240701
DTEND;VALUE=DATE:20250101
DTSTAMP:20260422T214637
CREATED:20231012T091127Z
LAST-MODIFIED:20231012T091127Z
UID:6159-1719792000-1735689599@pilates-verband.org
SUMMARY:Pilates Reformer Modul 1
DESCRIPTION:Pilates Reformer Modul 1\n Veranstaltungsort: Berlin
URL:https://pilates-verband.org/event/pilates-reformer-modul-1/
LOCATION:Pilates Studio Berlin – Galina Rohleder\, Kurfürstendamm 69\, Berlin\, info@pilates-studio.berlin\, 10707\, Germany
CATEGORIES:Ausbildung
ATTACH;FMTTYPE=image/svg+xml:https://pilates-verband.org/wp-content/uploads/pilates-studio-berlin-galina-rohleder-logo.svg
END:VEVENT
BEGIN:VEVENT
DTSTART;VALUE=DATE:20241001
DTEND;VALUE=DATE:20241101
DTSTAMP:20260422T214637
CREATED:20240222T105402Z
LAST-MODIFIED:20240222T105402Z
UID:7210-1727740800-1730419199@pilates-verband.org
SUMMARY:The Pi Concept® Mat Instructor Silver Modul 5
DESCRIPTION:The Pi Concept® Mat Instructor Silver N Modul 5\n Veranstaltungsort: Hamburg
URL:https://pilates-verband.org/event/the-pi-concept-mat-instructor-silver-modul-5/
LOCATION:The PI Concept® (TPC)\, Harksheider Str. 6A\, Hamburg\, office@pilatesausbildungszentrum.de\, 22399\, Germany
CATEGORIES:Ausbildung
ATTACH;FMTTYPE=image/png:https://pilates-verband.org/wp-content/uploads/the-pi-concept-logo.png
END:VEVENT
BEGIN:VEVENT
DTSTART;VALUE=DATE:20241001
DTEND;VALUE=DATE:20241101
DTSTAMP:20260422T214637
CREATED:20240222T105800Z
LAST-MODIFIED:20240222T105800Z
UID:7220-1727740800-1730419199@pilates-verband.org
SUMMARY:The Pi Concept® Studio Instructor Silver Modul 5
DESCRIPTION:The Pi Concept® Studio Instructor Silver N Modul 5\n Veranstaltungsort: Hamburg
URL:https://pilates-verband.org/event/the-pi-concept-studio-instructor-silver-modul-5/
LOCATION:The PI Concept® (TPC)\, Harksheider Str. 6A\, Hamburg\, office@pilatesausbildungszentrum.de\, 22399\, Germany
CATEGORIES:Ausbildung
ATTACH;FMTTYPE=image/png:https://pilates-verband.org/wp-content/uploads/the-pi-concept-logo.png
END:VEVENT
BEGIN:VEVENT
DTSTART;VALUE=DATE:20241012
DTEND;VALUE=DATE:20241209
DTSTAMP:20260422T214637
CREATED:20240119T045957Z
LAST-MODIFIED:20240119T045957Z
UID:7039-1728691200-1733702399@pilates-verband.org
SUMMARY:Pilates Matwork Ausbildung (PTT100)
DESCRIPTION:Pilates Matwork Ausbildung (PTT100)\n Veranstaltungsort: Stuttgart
URL:https://pilates-verband.org/event/pilates-matwork-ausbildung-ptt100/
LOCATION:More – Yoga und Pilates\, Leuschnerstraße 36\, Stuttgart\, pilates-akademie@more.yoga\, 70176\, Germany
CATEGORIES:Ausbildung
ATTACH;FMTTYPE=image/svg+xml:https://pilates-verband.org/wp-content/uploads/more-pilates-ypga-logo.svg
END:VEVENT
BEGIN:VEVENT
DTSTART;VALUE=DATE:20241018
DTEND;VALUE=DATE:20241021
DTSTAMP:20260422T214637
CREATED:20231226T121618Z
LAST-MODIFIED:20231226T121618Z
UID:6857-1729209600-1729468799@pilates-verband.org
SUMMARY:Modul 1
DESCRIPTION:Modul 1\n Veranstaltungsort: Leipzig
URL:https://pilates-verband.org/event/modul-1-5/
LOCATION:The Pilates Community\, Roßplatz 11-12\, Leipzig\, kontakt@pilates-community.de\, 04103\, Germany
CATEGORIES:Ausbildung
ATTACH;FMTTYPE=image/png:https://pilates-verband.org/wp-content/uploads/pilates-community-logo.png
END:VEVENT
BEGIN:VEVENT
DTSTART;VALUE=DATE:20241018
DTEND;VALUE=DATE:20241021
DTSTAMP:20260422T214637
CREATED:20240121T051216Z
LAST-MODIFIED:20240122T080650Z
UID:7067-1729209600-1729468799@pilates-verband.org
SUMMARY:Equipment Training\, Basic I & II
DESCRIPTION:Equipment Training\, Basic I & II\n Veranstaltungsort: Salzburg
URL:https://pilates-verband.org/event/equipment-training-basic-l-ll-4/
LOCATION:Kane School\, Josef-Mayburger Kai 28\, Salzburg\, pilatesedu@kaneschool.eu\, 5020\, Austria
CATEGORIES:Ausbildung
ATTACH;FMTTYPE=image/png:https://pilates-verband.org/wp-content/uploads/kane-school-logo.png
END:VEVENT
BEGIN:VEVENT
DTSTART;VALUE=DATE:20241018
DTEND;VALUE=DATE:20241021
DTSTAMP:20260422T214637
CREATED:20240321T103307Z
LAST-MODIFIED:20240321T103307Z
UID:7328-1729209600-1729468799@pilates-verband.org
SUMMARY:Advanced Reformer
DESCRIPTION:Advanced Reformer\n Veranstaltungsort: München
URL:https://pilates-verband.org/event/advanced-reformer-2/
LOCATION:Pilatesbody eK\, Wittelsbacherstraße 16\, München\, michaela.bimbi-dresp@t-online.de\, 80469\, Germany
CATEGORIES:Ausbildung
ATTACH;FMTTYPE=image/png:https://pilates-verband.org/wp-content/uploads/pilatesbody-logo.png
END:VEVENT
BEGIN:VEVENT
DTSTART;VALUE=DATE:20241019
DTEND;VALUE=DATE:20241020
DTSTAMP:20260422T214637
CREATED:20231205T102816Z
LAST-MODIFIED:20231205T102816Z
UID:6532-1729296000-1729382399@pilates-verband.org
SUMMARY:Matte 1
DESCRIPTION:Matte 1\nBasel 2/online\n Veranstaltungsort: Basel
URL:https://pilates-verband.org/event/matte-1-7/
LOCATION:Polestar Pilates\, Krefelder Straße 18\, Köln\, info@polestarpilates.de\, 50670\, Germany
CATEGORIES:Ausbildung
ATTACH;FMTTYPE=image/png:https://pilates-verband.org/wp-content/uploads/POLESTAR_Logo.png
END:VEVENT
BEGIN:VEVENT
DTSTART;VALUE=DATE:20241019
DTEND;VALUE=DATE:20241021
DTSTAMP:20260422T214637
CREATED:20231013T023223Z
LAST-MODIFIED:20231013T024437Z
UID:6211-1729296000-1729468799@pilates-verband.org
SUMMARY:Freiburg Geräte Ausbildung
DESCRIPTION:Studioausbildung (Matte und Geräte) – Modul 9-10\n Veranstaltungsort: Freiburg
URL:https://pilates-verband.org/event/freiburg-geraete-ausbildung-15/
LOCATION:BASI Pilates\, Kaiser Ludwig Straße 21\, Fürstenfeldbruck\, natascha@basipilates.net\, 82256\, Germany
CATEGORIES:Ausbildung
ATTACH;FMTTYPE=image/svg+xml:https://pilates-verband.org/wp-content/uploads/basi-pilates-logo.svg
END:VEVENT
BEGIN:VEVENT
DTSTART;VALUE=DATE:20241019
DTEND;VALUE=DATE:20241021
DTSTAMP:20260422T214637
CREATED:20231013T023256Z
LAST-MODIFIED:20240326T162245Z
UID:6224-1729296000-1729468799@pilates-verband.org
SUMMARY:Köln Geräte Ausbildung
DESCRIPTION:Studioausbildung (Matte und Geräte) – Modul 09-10\n Veranstaltungsort: Köln
URL:https://pilates-verband.org/event/koeln-geraete-ausbildung-5/
LOCATION:BASI Pilates\, Kaiser Ludwig Straße 21\, Fürstenfeldbruck\, natascha@basipilates.net\, 82256\, Germany
CATEGORIES:Ausbildung
ATTACH;FMTTYPE=image/svg+xml:https://pilates-verband.org/wp-content/uploads/basi-pilates-logo.svg
END:VEVENT
BEGIN:VEVENT
DTSTART;VALUE=DATE:20241019
DTEND;VALUE=DATE:20241021
DTSTAMP:20260422T214637
CREATED:20231122T105120Z
LAST-MODIFIED:20231122T105120Z
UID:6331-1729296000-1729468799@pilates-verband.org
SUMMARY:Mattenausbildung 3
DESCRIPTION:Mattenausbildung 3\n Veranstaltungsort: Stuttgart
URL:https://pilates-verband.org/event/mattenausbildung-3-3/
LOCATION:Pilates New York\, Ostendstraße 72\, Stuttgart\, info@pilates-newyork.de\, 70188\, Germany
CATEGORIES:Ausbildung
ATTACH;FMTTYPE=image/jpeg:https://pilates-verband.org/wp-content/uploads/pilates-new-york-logo.jpg
END:VEVENT
BEGIN:VEVENT
DTSTART;VALUE=DATE:20241019
DTEND;VALUE=DATE:20241021
DTSTAMP:20260422T214637
CREATED:20231207T110239Z
LAST-MODIFIED:20231207T110245Z
UID:6737-1729296000-1729468799@pilates-verband.org
SUMMARY:Peak Pilates® Classical Level 2 Modul 2
DESCRIPTION:Peak Pilates® Classical Level 2 Modul 2\n\n\n Veranstaltungsort: Berlin
URL:https://pilates-verband.org/event/peak-pilates-classical-level-2-modul-2-3/
LOCATION:Core Pilates\, Planufer 92\, Berlin\, training@corepilates.de\, 10967\, Germany
CATEGORIES:Ausbildung
ATTACH;FMTTYPE=image/svg+xml:https://pilates-verband.org/wp-content/uploads/core-pilates-logo.svg
END:VEVENT
BEGIN:VEVENT
DTSTART;VALUE=DATE:20241019
DTEND;VALUE=DATE:20241021
DTSTAMP:20260422T214637
CREATED:20240209T064227Z
LAST-MODIFIED:20240209T064916Z
UID:7172-1729296000-1729468799@pilates-verband.org
SUMMARY:Esslingen Geräte Ausbildung
DESCRIPTION:Studioausbildung (Matte und Geräte) – Modul 1-2\n Veranstaltungsort: Esslingen
URL:https://pilates-verband.org/event/esslingen-geraete-ausbildung/
LOCATION:BASI Pilates\, Kaiser Ludwig Straße 21\, Fürstenfeldbruck\, natascha@basipilates.net\, 82256\, Germany
CATEGORIES:Ausbildung
ATTACH;FMTTYPE=image/svg+xml:https://pilates-verband.org/wp-content/uploads/basi-pilates-logo.svg
END:VEVENT
BEGIN:VEVENT
DTSTART;VALUE=DATE:20241019
DTEND;VALUE=DATE:20241021
DTSTAMP:20260422T214637
CREATED:20240209T064242Z
LAST-MODIFIED:20240209T064916Z
UID:7177-1729296000-1729468799@pilates-verband.org
SUMMARY:Esslingen Matten Ausbildung
DESCRIPTION:Grundausbildung Matte – Modul 1-2\n Veranstaltungsort: Esslingen
URL:https://pilates-verband.org/event/esslingen-matten-ausbildung/
LOCATION:BASI Pilates\, Kaiser Ludwig Straße 21\, Fürstenfeldbruck\, natascha@basipilates.net\, 82256\, Germany
CATEGORIES:Ausbildung
ATTACH;FMTTYPE=image/svg+xml:https://pilates-verband.org/wp-content/uploads/basi-pilates-logo.svg
END:VEVENT
BEGIN:VEVENT
DTSTART;VALUE=DATE:20241019
DTEND;VALUE=DATE:20241021
DTSTAMP:20260422T214637
CREATED:20240522T065948Z
LAST-MODIFIED:20240522T065948Z
UID:7544-1729296000-1729468799@pilates-verband.org
SUMMARY:Reformer on the mat
DESCRIPTION:Reformer on the mat\n Veranstaltungsort: Hannover
URL:https://pilates-verband.org/event/reformer-on-the-mat/
LOCATION:Pilates Akademie Hannover\, Am Uhrturm 7\, Hannover\, info@completepilates-yoga.de\, 30519\, Germany
CATEGORIES:Fortbildung
ATTACH;FMTTYPE=image/jpeg:https://pilates-verband.org/wp-content/uploads/complete-pilates-akademie-hannover-logo.jpg
END:VEVENT
END:VCALENDAR