BEGIN:VCALENDAR
VERSION:2.0
PRODID:-//DPV - ECPv6.15.20//NONSGML v1.0//EN
CALSCALE:GREGORIAN
METHOD:PUBLISH
X-WR-CALNAME:DPV
X-ORIGINAL-URL:https://pilates-verband.org
X-WR-CALDESC:Veranstaltungen für DPV
REFRESH-INTERVAL;VALUE=DURATION:PT1H
X-Robots-Tag:noindex
X-PUBLISHED-TTL:PT1H
BEGIN:VTIMEZONE
TZID:Europe/Berlin
BEGIN:DAYLIGHT
TZOFFSETFROM:+0100
TZOFFSETTO:+0200
TZNAME:CEST
DTSTART:20230326T010000
END:DAYLIGHT
BEGIN:STANDARD
TZOFFSETFROM:+0200
TZOFFSETTO:+0100
TZNAME:CET
DTSTART:20231029T010000
END:STANDARD
BEGIN:DAYLIGHT
TZOFFSETFROM:+0100
TZOFFSETTO:+0200
TZNAME:CEST
DTSTART:20240331T010000
END:DAYLIGHT
BEGIN:STANDARD
TZOFFSETFROM:+0200
TZOFFSETTO:+0100
TZNAME:CET
DTSTART:20241027T010000
END:STANDARD
BEGIN:DAYLIGHT
TZOFFSETFROM:+0100
TZOFFSETTO:+0200
TZNAME:CEST
DTSTART:20250330T010000
END:DAYLIGHT
BEGIN:STANDARD
TZOFFSETFROM:+0200
TZOFFSETTO:+0100
TZNAME:CET
DTSTART:20251026T010000
END:STANDARD
END:VTIMEZONE
BEGIN:VEVENT
DTSTART;VALUE=DATE:20240101
DTEND;VALUE=DATE:20250101
DTSTAMP:20260424T132605
CREATED:20231012T091245Z
LAST-MODIFIED:20231012T091245Z
UID:6161-1704067200-1735689599@pilates-verband.org
SUMMARY:Pilates Reformer Modul 2
DESCRIPTION:Pilates Reformer Modul 2\n Veranstaltungsort: Berlin
URL:https://pilates-verband.org/event/pilates-reformer-modul-2/
LOCATION:Pilates Studio Berlin – Galina Rohleder\, Kurfürstendamm 69\, Berlin\, info@pilates-studio.berlin\, 10707\, Germany
CATEGORIES:Ausbildung
ATTACH;FMTTYPE=image/svg+xml:https://pilates-verband.org/wp-content/uploads/pilates-studio-berlin-galina-rohleder-logo.svg
END:VEVENT
BEGIN:VEVENT
DTSTART;VALUE=DATE:20240201
DTEND;VALUE=DATE:20241221
DTSTAMP:20260424T132605
CREATED:20231128T090215Z
LAST-MODIFIED:20231128T090215Z
UID:6345-1706745600-1734739199@pilates-verband.org
SUMMARY:Teacher Training / Complete System Classical Pilates
DESCRIPTION:Teacher Training / Complete System Classical Pilates\n \n Veranstaltungsort: Berlin
URL:https://pilates-verband.org/event/teacher-training-complete-system-classical-pilates/
LOCATION:Pilates Studio Berlin – Galina Rohleder\, Kurfürstendamm 69\, Berlin\, info@pilates-studio.berlin\, 10707\, Germany
CATEGORIES:Ausbildung
ATTACH;FMTTYPE=image/svg+xml:https://pilates-verband.org/wp-content/uploads/pilates-studio-berlin-galina-rohleder-logo.svg
END:VEVENT
BEGIN:VEVENT
DTSTART;VALUE=DATE:20240701
DTEND;VALUE=DATE:20250101
DTSTAMP:20260424T132605
CREATED:20231012T091127Z
LAST-MODIFIED:20231012T091127Z
UID:6159-1719792000-1735689599@pilates-verband.org
SUMMARY:Pilates Reformer Modul 1
DESCRIPTION:Pilates Reformer Modul 1\n Veranstaltungsort: Berlin
URL:https://pilates-verband.org/event/pilates-reformer-modul-1/
LOCATION:Pilates Studio Berlin – Galina Rohleder\, Kurfürstendamm 69\, Berlin\, info@pilates-studio.berlin\, 10707\, Germany
CATEGORIES:Ausbildung
ATTACH;FMTTYPE=image/svg+xml:https://pilates-verband.org/wp-content/uploads/pilates-studio-berlin-galina-rohleder-logo.svg
END:VEVENT
BEGIN:VEVENT
DTSTART;VALUE=DATE:20241213
DTEND;VALUE=DATE:20241216
DTSTAMP:20260424T132605
CREATED:20240927T154259Z
LAST-MODIFIED:20240927T154259Z
UID:7805-1734048000-1734307199@pilates-verband.org
SUMMARY:Module Spine Corrector\, Ladder Barrel\, Magic Circle\, Special Populations\, Cueing und Stundenbilder
DESCRIPTION:Module Spine Corrector\, Ladder Barrel\, Magic Circle\, Special Populations\, Cueing und Stundenbilder\n Veranstaltungsort: Hamburg
URL:https://pilates-verband.org/event/module-spine-corrector-ladder-barrel-magic-circle-special-populations-cueing-und-stundenbilder/
LOCATION:Club Pilates Germany\, Brandstwiete 4\, Hamburg\, education@clubpilates.com.de\, 20457\, Germany
CATEGORIES:Ausbildung
ATTACH;FMTTYPE=image/png:https://pilates-verband.org/wp-content/uploads/club-pilates-logo.png
END:VEVENT
BEGIN:VEVENT
DTSTART;VALUE=DATE:20241214
DTEND;VALUE=DATE:20241216
DTSTAMP:20260424T132605
CREATED:20231122T105952Z
LAST-MODIFIED:20231122T105952Z
UID:6337-1734134400-1734307199@pilates-verband.org
SUMMARY:Mattenausbildung 6
DESCRIPTION:Mattenausbildung 6\n Veranstaltungsort: Stuttgart
URL:https://pilates-verband.org/event/mattenausbildung-6-2/
LOCATION:Pilates New York\, Ostendstraße 72\, Stuttgart\, info@pilates-newyork.de\, 70188\, Germany
CATEGORIES:Ausbildung
ATTACH;FMTTYPE=image/jpeg:https://pilates-verband.org/wp-content/uploads/pilates-new-york-logo.jpg
END:VEVENT
BEGIN:VEVENT
DTSTART;VALUE=DATE:20241214
DTEND;VALUE=DATE:20241216
DTSTAMP:20260424T132605
CREATED:20231128T091048Z
LAST-MODIFIED:20231128T091048Z
UID:6363-1734134400-1734307199@pilates-verband.org
SUMMARY:Teacher Training /Classical Matwork - Nachholtermin
DESCRIPTION:Teacher Training /Classical Matwork – Nachholtermin\n Veranstaltungsort: Berlin
URL:https://pilates-verband.org/event/teacher-training-classical-matwork-nachholtermin/
LOCATION:Pilates Studio Berlin – Galina Rohleder\, Kurfürstendamm 69\, Berlin\, info@pilates-studio.berlin\, 10707\, Germany
CATEGORIES:Ausbildung
ATTACH;FMTTYPE=image/svg+xml:https://pilates-verband.org/wp-content/uploads/pilates-studio-berlin-galina-rohleder-logo.svg
END:VEVENT
BEGIN:VEVENT
DTSTART;VALUE=DATE:20241214
DTEND;VALUE=DATE:20241216
DTSTAMP:20260424T132605
CREATED:20231205T112744Z
LAST-MODIFIED:20231205T112744Z
UID:6634-1734134400-1734307199@pilates-verband.org
SUMMARY:Basel - Matte mit Kleingeräten
DESCRIPTION:Matte mit Kleingeräten\n Veranstaltungsort: Basel
URL:https://pilates-verband.org/event/basel-matte-mit-kleingeraeten-5/
LOCATION:Polestar Pilates\, Krefelder Straße 18\, Köln\, info@polestarpilates.de\, 50670\, Germany
CATEGORIES:Fortbildung
ATTACH;FMTTYPE=image/png:https://pilates-verband.org/wp-content/uploads/POLESTAR_Logo.png
END:VEVENT
BEGIN:VEVENT
DTSTART;VALUE=DATE:20241214
DTEND;VALUE=DATE:20241216
DTSTAMP:20260424T132605
CREATED:20240209T064228Z
LAST-MODIFIED:20240209T064914Z
UID:7174-1734134400-1734307199@pilates-verband.org
SUMMARY:Esslingen Geräte Ausbildung
DESCRIPTION:Studioausbildung (Matte und Geräte) – Modul 5-6\n Veranstaltungsort: Esslingen
URL:https://pilates-verband.org/event/esslingen-geraete-ausbildung-3/
LOCATION:BASI Pilates\, Kaiser Ludwig Straße 21\, Fürstenfeldbruck\, natascha@basipilates.net\, 82256\, Germany
CATEGORIES:Ausbildung
ATTACH;FMTTYPE=image/svg+xml:https://pilates-verband.org/wp-content/uploads/basi-pilates-logo.svg
END:VEVENT
BEGIN:VEVENT
DTSTART;VALUE=DATE:20241214
DTEND;VALUE=DATE:20241216
DTSTAMP:20260424T132605
CREATED:20240209T064242Z
LAST-MODIFIED:20240209T064914Z
UID:7179-1734134400-1734307199@pilates-verband.org
SUMMARY:Esslingen Matten Ausbildung
DESCRIPTION:Grundausbildung Matte – Modul 5-6\n Veranstaltungsort: Esslingen
URL:https://pilates-verband.org/event/esslingen-matten-ausbildung-3/
LOCATION:BASI Pilates\, Kaiser Ludwig Straße 21\, Fürstenfeldbruck\, natascha@basipilates.net\, 82256\, Germany
CATEGORIES:Ausbildung
ATTACH;FMTTYPE=image/svg+xml:https://pilates-verband.org/wp-content/uploads/basi-pilates-logo.svg
END:VEVENT
END:VCALENDAR