BEGIN:VCALENDAR
VERSION:2.0
PRODID:-//DPV - ECPv6.15.20//NONSGML v1.0//EN
CALSCALE:GREGORIAN
METHOD:PUBLISH
X-ORIGINAL-URL:https://pilates-verband.org
X-WR-CALDESC:Veranstaltungen für DPV
REFRESH-INTERVAL;VALUE=DURATION:PT1H
X-Robots-Tag:noindex
X-PUBLISHED-TTL:PT1H
BEGIN:VTIMEZONE
TZID:Europe/Berlin
BEGIN:DAYLIGHT
TZOFFSETFROM:+0100
TZOFFSETTO:+0200
TZNAME:CEST
DTSTART:20240331T010000
END:DAYLIGHT
BEGIN:STANDARD
TZOFFSETFROM:+0200
TZOFFSETTO:+0100
TZNAME:CET
DTSTART:20241027T010000
END:STANDARD
BEGIN:DAYLIGHT
TZOFFSETFROM:+0100
TZOFFSETTO:+0200
TZNAME:CEST
DTSTART:20250330T010000
END:DAYLIGHT
BEGIN:STANDARD
TZOFFSETFROM:+0200
TZOFFSETTO:+0100
TZNAME:CET
DTSTART:20251026T010000
END:STANDARD
BEGIN:DAYLIGHT
TZOFFSETFROM:+0100
TZOFFSETTO:+0200
TZNAME:CEST
DTSTART:20260329T010000
END:DAYLIGHT
BEGIN:STANDARD
TZOFFSETFROM:+0200
TZOFFSETTO:+0100
TZNAME:CET
DTSTART:20261025T010000
END:STANDARD
BEGIN:DAYLIGHT
TZOFFSETFROM:+0100
TZOFFSETTO:+0200
TZNAME:CEST
DTSTART:20270328T010000
END:DAYLIGHT
BEGIN:STANDARD
TZOFFSETFROM:+0200
TZOFFSETTO:+0100
TZNAME:CET
DTSTART:20271031T010000
END:STANDARD
END:VTIMEZONE
BEGIN:VEVENT
DTSTART;VALUE=DATE:20250222
DTEND;VALUE=DATE:20250922
DTSTAMP:20260419T152537
CREATED:20241212T122549Z
LAST-MODIFIED:20241214T124854Z
UID:8210-1740182400-1758499199@pilates-verband.org
SUMMARY:MATTE
DESCRIPTION:MATTE\n \n \n Veranstaltungsort: Köln
URL:https://pilates-verband.org/event/matte-3/
LOCATION:Polestar Pilates\, Krefelder Straße 18\, Köln\, info@polestarpilates.de\, 50670\, Germany
CATEGORIES:Ausbildung
ATTACH;FMTTYPE=image/png:https://pilates-verband.org/wp-content/uploads/polestar-pilates-logo.png
END:VEVENT
BEGIN:VEVENT
DTSTART;VALUE=DATE:20250222
DTEND;VALUE=DATE:20251020
DTSTAMP:20260419T152537
CREATED:20241212T123002Z
LAST-MODIFIED:20241214T124808Z
UID:8220-1740182400-1760918399@pilates-verband.org
SUMMARY:MATTE
DESCRIPTION:MATTE\n \n \n Veranstaltungsort: Basel
URL:https://pilates-verband.org/event/matte-7/
LOCATION:Polestar Pilates\, Krefelder Straße 18\, Köln\, info@polestarpilates.de\, 50670\, Germany
CATEGORIES:Ausbildung
ATTACH;FMTTYPE=image/png:https://pilates-verband.org/wp-content/uploads/polestar-pilates-logo.png
END:VEVENT
BEGIN:VEVENT
DTSTART;VALUE=DATE:20250322
DTEND;VALUE=DATE:20251020
DTSTAMP:20260419T152537
CREATED:20241212T122323Z
LAST-MODIFIED:20241214T124305Z
UID:8206-1742601600-1760918399@pilates-verband.org
SUMMARY:REFORMER
DESCRIPTION:REFORMER (Ausbildung ausschließlich am Reformer)\n Veranstaltungsort: Basel
URL:https://pilates-verband.org/event/reformer-8/
LOCATION:Polestar Pilates\, Krefelder Straße 18\, Köln\, info@polestarpilates.de\, 50670\, Germany
CATEGORIES:Ausbildung
ATTACH;FMTTYPE=image/png:https://pilates-verband.org/wp-content/uploads/polestar-pilates-logo.png
END:VEVENT
BEGIN:VEVENT
DTSTART;VALUE=DATE:20250329
DTEND;VALUE=DATE:20260322
DTSTAMP:20260419T152537
CREATED:20241212T121303Z
LAST-MODIFIED:20241214T123747Z
UID:8188-1743206400-1774137599@pilates-verband.org
SUMMARY:COMPREHENSIVE
DESCRIPTION:COMPREHENSIVE (vollständige Geräteausbildung\, incl. Mattenanteil)\n Veranstaltungsort: Basel
URL:https://pilates-verband.org/event/comprehensive-12/
LOCATION:Polestar Pilates\, Krefelder Straße 18\, Köln\, info@polestarpilates.de\, 50670\, Germany
CATEGORIES:Ausbildung
ATTACH;FMTTYPE=image/png:https://pilates-verband.org/wp-content/uploads/polestar-pilates-logo.png
END:VEVENT
BEGIN:VEVENT
DTSTART;VALUE=DATE:20250329
DTEND;VALUE=DATE:20250922
DTSTAMP:20260419T152537
CREATED:20241212T121654Z
LAST-MODIFIED:20241214T124221Z
UID:8194-1743206400-1758499199@pilates-verband.org
SUMMARY:REFORMER 
DESCRIPTION:REFORMER (Ausbildung ausschließlich am Reformer)\n Veranstaltungsort: Hamburg
URL:https://pilates-verband.org/event/reformer-6/
LOCATION:Polestar Pilates\, Krefelder Straße 18\, Köln\, info@polestarpilates.de\, 50670\, Germany
CATEGORIES:Ausbildung
ATTACH;FMTTYPE=image/png:https://pilates-verband.org/wp-content/uploads/polestar-pilates-logo.png
END:VEVENT
BEGIN:VEVENT
DTSTART;VALUE=DATE:20250329
DTEND;VALUE=DATE:20250922
DTSTAMP:20260419T152537
CREATED:20241212T122738Z
LAST-MODIFIED:20241214T124927Z
UID:8214-1743206400-1758499199@pilates-verband.org
SUMMARY:MATTE
DESCRIPTION:MATTE\n Veranstaltungsort: Frankfurt
URL:https://pilates-verband.org/event/matte-5/
LOCATION:Polestar Pilates\, Krefelder Straße 18\, Köln\, info@polestarpilates.de\, 50670\, Germany
CATEGORIES:Ausbildung
ATTACH;FMTTYPE=image/png:https://pilates-verband.org/wp-content/uploads/polestar-pilates-logo.png
END:VEVENT
BEGIN:VEVENT
DTSTART;VALUE=DATE:20250827
DTEND;VALUE=DATE:20250922
DTSTAMP:20260419T152537
CREATED:20250512T072954Z
LAST-MODIFIED:20250512T072954Z
UID:8792-1756252800-1758499199@pilates-verband.org
SUMMARY:Intensive Reformer 2nd Edition
DESCRIPTION:Grund- und Mittelstufe STOTT PILATES-Reformer\n Veranstaltungsort: Dresden
URL:https://pilates-verband.org/event/intensive-reformer-2nd-edition-4/
LOCATION:Merrithew®\, 500-2200 Yonge St\, Toronto\, emeaeducation@merrithew.com\, ON M4S 2C6\, Canada
CATEGORIES:Ausbildung
ATTACH;FMTTYPE=image/svg+xml:https://pilates-verband.org/wp-content/uploads/merrithew-logo.svg
END:VEVENT
BEGIN:VEVENT
DTSTART;VALUE=DATE:20250911
DTEND;VALUE=DATE:20250929
DTSTAMP:20260419T152537
CREATED:20250512T071202Z
LAST-MODIFIED:20250618T090947Z
UID:8772-1757548800-1759103999@pilates-verband.org
SUMMARY:Intensive Mat-Plus™\, 2nd Edition
DESCRIPTION:Grund- und Mittelstufe STOTT PILATES Matwork\n Veranstaltungsort: Friedberg/Hessen
URL:https://pilates-verband.org/event/intensive-mat-plus-2nd-edition/
LOCATION:Merrithew®\, 500-2200 Yonge St\, Toronto\, emeaeducation@merrithew.com\, ON M4S 2C6\, Canada
CATEGORIES:Ausbildung
ATTACH;FMTTYPE=image/svg+xml:https://pilates-verband.org/wp-content/uploads/merrithew-logo.svg
END:VEVENT
BEGIN:VEVENT
DTSTART;VALUE=DATE:20250912
DTEND;VALUE=DATE:20250915
DTSTAMP:20260419T152537
CREATED:20240617T070120Z
LAST-MODIFIED:20240617T070120Z
UID:7599-1757635200-1757894399@pilates-verband.org
SUMMARY:Pilates Ausbildung - Modul 3
DESCRIPTION:Pilates Ausbildung – Modul 3\nDer Bewegungsspezialist\n Veranstaltungsort: Dortmund
URL:https://pilates-verband.org/event/pilates-ausbildung-modul-3/
LOCATION:Die Bewegungsakademie\, Rosemeyerstrasse 2-4\, Dortmund\, info@die-bewegungsakademie.de\, 44139\, Germany
CATEGORIES:Ausbildung
ATTACH;FMTTYPE=image/svg+xml:https://pilates-verband.org/wp-content/uploads/bewegungs-akademie-logo.svg
END:VEVENT
BEGIN:VEVENT
DTSTART;VALUE=DATE:20250912
DTEND;VALUE=DATE:20250915
DTSTAMP:20260419T152537
CREATED:20240716T073748Z
LAST-MODIFIED:20240716T073807Z
UID:7635-1757635200-1757894399@pilates-verband.org
SUMMARY:Bewegungspezialist- Mentoring Programm- Modul 3
DESCRIPTION:Bewegungspezialist- Mentoring Programm- Modul 3\n Veranstaltungsort: Dortmund
URL:https://pilates-verband.org/event/bewegungspezialist-mentoring-programm-modul-3/
LOCATION:Die Bewegungsakademie\, Rosemeyerstrasse 2-4\, Dortmund\, info@die-bewegungsakademie.de\, 44139\, Germany
CATEGORIES:Ausbildung
ATTACH;FMTTYPE=image/svg+xml:https://pilates-verband.org/wp-content/uploads/bewegungs-akademie-logo.svg
END:VEVENT
BEGIN:VEVENT
DTSTART;VALUE=DATE:20250912
DTEND;VALUE=DATE:20250915
DTSTAMP:20260419T152537
CREATED:20241210T144520Z
LAST-MODIFIED:20241210T150651Z
UID:8096-1757635200-1757894399@pilates-verband.org
SUMMARY:Berlin Geräte Ausbildung
DESCRIPTION:Studioausbildung (Matte und Geräte) – Modul 10-12\n Veranstaltungsort: Berlin
URL:https://pilates-verband.org/event/berlin-geraete-ausbildung-20/
LOCATION:BASI Pilates\, Kaiser Ludwig Straße 21\, Fürstenfeldbruck\, natascha@basipilates.net\, 82256\, Germany
CATEGORIES:Ausbildung
ATTACH;FMTTYPE=image/svg+xml:https://pilates-verband.org/wp-content/uploads/basi-pilates-logo.svg
END:VEVENT
BEGIN:VEVENT
DTSTART;VALUE=DATE:20250912
DTEND;VALUE=DATE:20250915
DTSTAMP:20260419T152537
CREATED:20241210T144809Z
LAST-MODIFIED:20241210T150651Z
UID:8119-1757635200-1757894399@pilates-verband.org
SUMMARY:Freiburg Geräte Ausbildung
DESCRIPTION:Studioausbildung (Matte und Geräte) – Modul 7-9\n Veranstaltungsort: Freiburg
URL:https://pilates-verband.org/event/freiburg-geraete-ausbildung-20/
LOCATION:BASI Pilates\, Kaiser Ludwig Straße 21\, Fürstenfeldbruck\, natascha@basipilates.net\, 82256\, Germany
CATEGORIES:Ausbildung
ATTACH;FMTTYPE=image/svg+xml:https://pilates-verband.org/wp-content/uploads/basi-pilates-logo.svg
END:VEVENT
BEGIN:VEVENT
DTSTART;VALUE=DATE:20250912
DTEND;VALUE=DATE:20250915
DTSTAMP:20260419T152537
CREATED:20250211T100456Z
LAST-MODIFIED:20250211T100456Z
UID:8369-1757635200-1757894399@pilates-verband.org
SUMMARY:Legacy Program - Master I
DESCRIPTION:Legacy Program – Master I\n Veranstaltungsort: München
URL:https://pilates-verband.org/event/legacy-program-master-i/
LOCATION:BASI Pilates\, Kaiser Ludwig Straße 21\, Fürstenfeldbruck\, natascha@basipilates.net\, 82256\, Germany
CATEGORIES:Fortbildung
ATTACH;FMTTYPE=image/svg+xml:https://pilates-verband.org/wp-content/uploads/basi-pilates-logo.svg
END:VEVENT
BEGIN:VEVENT
DTSTART;VALUE=DATE:20250912
DTEND;VALUE=DATE:20250915
DTSTAMP:20260419T152537
CREATED:20250624T075817Z
LAST-MODIFIED:20250624T075817Z
UID:9048-1757635200-1757894399@pilates-verband.org
SUMMARY:Pilates Mat Essentials Trainer Ausbildung - Modul 1
DESCRIPTION:Pilates Mat Essentials Trainer Ausbildung – Modul 1\n\n Veranstaltungsort: Leipzig
URL:https://pilates-verband.org/event/pilates-mat-essentials-trainer-ausbildung-modul-1/
LOCATION:The Pilates Community\, Roßplatz 11-12\, Leipzig\, kontakt@pilates-community.de\, 04103\, Germany
CATEGORIES:Ausbildung
ATTACH;FMTTYPE=image/png:https://pilates-verband.org/wp-content/uploads/pilates-community-logo.png
END:VEVENT
BEGIN:VEVENT
DTSTART;VALUE=DATE:20250912
DTEND;VALUE=DATE:20251006
DTSTAMP:20260419T152537
CREATED:20250512T101258Z
LAST-MODIFIED:20250512T101258Z
UID:8816-1757635200-1759708799@pilates-verband.org
SUMMARY:Intensive Reformer 2nd Edition
DESCRIPTION:Grund- und Mittelstufe STOTT PILATES-Reformer\n Veranstaltungsort: Stuttgart
URL:https://pilates-verband.org/event/intensive-reformer-2nd-edition-7/
LOCATION:Merrithew®\, 500-2200 Yonge St\, Toronto\, emeaeducation@merrithew.com\, ON M4S 2C6\, Canada
CATEGORIES:Ausbildung
ATTACH;FMTTYPE=image/svg+xml:https://pilates-verband.org/wp-content/uploads/merrithew-logo.svg
END:VEVENT
BEGIN:VEVENT
DTSTART;VALUE=DATE:20250913
DTEND;VALUE=DATE:20250915
DTSTAMP:20260419T152537
CREATED:20240918T062539Z
LAST-MODIFIED:20240918T062539Z
UID:7782-1757721600-1757894399@pilates-verband.org
SUMMARY:Pilates Matwork CLASSIC Lizenz - Modul 4
DESCRIPTION:Modul 4 – Grundlagen Pilates Anatomie\n Veranstaltungsort: München
URL:https://pilates-verband.org/event/pilates-matwork-classic-lizenz-modul-4-5/
LOCATION:keep in motion\, Sendlingerstraße 56\, München\, info@pilates-in-muenchen.de\, 80331\, Germany
CATEGORIES:Ausbildung
ATTACH;FMTTYPE=image/jpeg:https://pilates-verband.org/wp-content/uploads/keep-in-motion-pilates-logo.jpg
END:VEVENT
BEGIN:VEVENT
DTSTART;VALUE=DATE:20250913
DTEND;VALUE=DATE:20250915
DTSTAMP:20260419T152537
CREATED:20250331T110353Z
LAST-MODIFIED:20250331T110644Z
UID:8566-1757721600-1757894399@pilates-verband.org
SUMMARY:Pilates COMPREHENSIVE MAT
DESCRIPTION:Pilates COMPREHENSIVE MAT\n Veranstaltungsort: Kassel
URL:https://pilates-verband.org/event/pilates-comprehensive-mat-4/
LOCATION:Kane School\, Josef-Mayburger Kai 28\, Salzburg\, pilatesedu@kaneschool.eu\, 5020\, Austria
CATEGORIES:Ausbildung
END:VEVENT
BEGIN:VEVENT
DTSTART;VALUE=DATE:20250914
DTEND;VALUE=DATE:20250915
DTSTAMP:20260419T152537
CREATED:20240918T062858Z
LAST-MODIFIED:20240918T062858Z
UID:7790-1757808000-1757894399@pilates-verband.org
SUMMARY:Grundlagen Pilates Anatomie - Part II
DESCRIPTION:Hand & Fuß / Der aktive Stütz & Stand / Umgang mit Kontraindikationen\n Veranstaltungsort: München
URL:https://pilates-verband.org/event/grundlagen-pilates-anatomie-part-ii/
LOCATION:keep in motion\, Sendlingerstraße 56\, München\, info@pilates-in-muenchen.de\, 80331\, Germany
CATEGORIES:Pilatesrelevante Fortbildung
ATTACH;FMTTYPE=image/jpeg:https://pilates-verband.org/wp-content/uploads/keep-in-motion-pilates-logo.jpg
END:VEVENT
BEGIN:VEVENT
DTSTART;VALUE=DATE:20250914
DTEND;VALUE=DATE:20250915
DTSTAMP:20260419T152537
CREATED:20250702T094457Z
LAST-MODIFIED:20250702T094457Z
UID:9144-1757808000-1757894399@pilates-verband.org
SUMMARY:Matte 2
DESCRIPTION:Matte 2\n Veranstaltungsort: Frankfurt
URL:https://pilates-verband.org/event/matte-2-10/
LOCATION:Club Pilates Germany\, Brandstwiete 4\, Hamburg\, education@clubpilates.com.de\, 20457\, Germany
CATEGORIES:Ausbildung
ATTACH;FMTTYPE=image/png:https://pilates-verband.org/wp-content/uploads/club-pilates-logo.png
END:VEVENT
BEGIN:VEVENT
DTSTART;VALUE=DATE:20250914
DTEND;VALUE=DATE:20250915
DTSTAMP:20260419T152537
CREATED:20250702T095743Z
LAST-MODIFIED:20250702T095743Z
UID:9169-1757808000-1757894399@pilates-verband.org
SUMMARY:Matte 2
DESCRIPTION:Matte 2\n Veranstaltungsort: Königstein
URL:https://pilates-verband.org/event/matte-2-11/
LOCATION:Club Pilates Germany\, Brandstwiete 4\, Hamburg\, education@clubpilates.com.de\, 20457\, Germany
CATEGORIES:Ausbildung
ATTACH;FMTTYPE=image/png:https://pilates-verband.org/wp-content/uploads/club-pilates-logo.png
END:VEVENT
BEGIN:VEVENT
DTSTART;TZID=Europe/Berlin:20250914T080000
DTEND;TZID=Europe/Berlin:20250914T100000
DTSTAMP:20260419T152537
CREATED:20250407T103703Z
LAST-MODIFIED:20250407T103703Z
UID:8645-1757836800-1757844000@pilates-verband.org
SUMMARY:Athletic Conditioning with Twist Ball
DESCRIPTION:Athletic Conditioning with Twist Ball\n \n \n \n Veranstaltungsort: Online
URL:https://pilates-verband.org/event/athletic-conditioning-with-twist-ball-2/
LOCATION:Merrithew®\, 500-2200 Yonge St\, Toronto\, emeaeducation@merrithew.com\, ON M4S 2C6\, Canada
CATEGORIES:Fortbildung
ATTACH;FMTTYPE=image/svg+xml:https://pilates-verband.org/wp-content/uploads/merrithew-logo.svg
END:VEVENT
BEGIN:VEVENT
DTSTART;TZID=Europe/Berlin:20250914T103000
DTEND;TZID=Europe/Berlin:20250914T123000
DTSTAMP:20260419T152537
CREATED:20250407T103753Z
LAST-MODIFIED:20250407T103914Z
UID:8647-1757845800-1757853000@pilates-verband.org
SUMMARY:Foam Roller Challenge
DESCRIPTION:Foam Roller Challenge\n \n \n \n Veranstaltungsort: Online
URL:https://pilates-verband.org/event/foam-roller-challenge-2/
LOCATION:Merrithew®\, 500-2200 Yonge St\, Toronto\, emeaeducation@merrithew.com\, ON M4S 2C6\, Canada
CATEGORIES:Fortbildung
ATTACH;FMTTYPE=image/svg+xml:https://pilates-verband.org/wp-content/uploads/merrithew-logo.svg
END:VEVENT
BEGIN:VEVENT
DTSTART;TZID=Europe/Berlin:20250914T130000
DTEND;TZID=Europe/Berlin:20250914T150000
DTSTAMP:20260419T152537
CREATED:20250407T103828Z
LAST-MODIFIED:20250407T103828Z
UID:8649-1757854800-1757862000@pilates-verband.org
SUMMARY:Fitness Circle Flow
DESCRIPTION:Fitness Circle Flow\n Veranstaltungsort: Online
URL:https://pilates-verband.org/event/fitness-circle-flow-3/
LOCATION:Merrithew®\, 500-2200 Yonge St\, Toronto\, emeaeducation@merrithew.com\, ON M4S 2C6\, Canada
CATEGORIES:Fortbildung
ATTACH;FMTTYPE=image/svg+xml:https://pilates-verband.org/wp-content/uploads/merrithew-logo.svg
END:VEVENT
END:VCALENDAR