BEGIN:VCALENDAR
VERSION:2.0
PRODID:-//DPV - ECPv6.15.20//NONSGML v1.0//EN
CALSCALE:GREGORIAN
METHOD:PUBLISH
X-ORIGINAL-URL:https://pilates-verband.org
X-WR-CALDESC:Veranstaltungen für DPV
REFRESH-INTERVAL;VALUE=DURATION:PT1H
X-Robots-Tag:noindex
X-PUBLISHED-TTL:PT1H
BEGIN:VTIMEZONE
TZID:Europe/Berlin
BEGIN:DAYLIGHT
TZOFFSETFROM:+0100
TZOFFSETTO:+0200
TZNAME:CEST
DTSTART:20240331T010000
END:DAYLIGHT
BEGIN:STANDARD
TZOFFSETFROM:+0200
TZOFFSETTO:+0100
TZNAME:CET
DTSTART:20241027T010000
END:STANDARD
BEGIN:DAYLIGHT
TZOFFSETFROM:+0100
TZOFFSETTO:+0200
TZNAME:CEST
DTSTART:20250330T010000
END:DAYLIGHT
BEGIN:STANDARD
TZOFFSETFROM:+0200
TZOFFSETTO:+0100
TZNAME:CET
DTSTART:20251026T010000
END:STANDARD
BEGIN:DAYLIGHT
TZOFFSETFROM:+0100
TZOFFSETTO:+0200
TZNAME:CEST
DTSTART:20260329T010000
END:DAYLIGHT
BEGIN:STANDARD
TZOFFSETFROM:+0200
TZOFFSETTO:+0100
TZNAME:CET
DTSTART:20261025T010000
END:STANDARD
BEGIN:DAYLIGHT
TZOFFSETFROM:+0100
TZOFFSETTO:+0200
TZNAME:CEST
DTSTART:20270328T010000
END:DAYLIGHT
BEGIN:STANDARD
TZOFFSETFROM:+0200
TZOFFSETTO:+0100
TZNAME:CET
DTSTART:20271031T010000
END:STANDARD
END:VTIMEZONE
BEGIN:VEVENT
DTSTART;VALUE=DATE:20250222
DTEND;VALUE=DATE:20251020
DTSTAMP:20260419T150904
CREATED:20241212T123002Z
LAST-MODIFIED:20241214T124808Z
UID:8220-1740182400-1760918399@pilates-verband.org
SUMMARY:MATTE
DESCRIPTION:MATTE\n \n \n Veranstaltungsort: Basel
URL:https://pilates-verband.org/event/matte-7/
LOCATION:Polestar Pilates\, Krefelder Straße 18\, Köln\, info@polestarpilates.de\, 50670\, Germany
CATEGORIES:Ausbildung
ATTACH;FMTTYPE=image/png:https://pilates-verband.org/wp-content/uploads/polestar-pilates-logo.png
END:VEVENT
BEGIN:VEVENT
DTSTART;VALUE=DATE:20250322
DTEND;VALUE=DATE:20251020
DTSTAMP:20260419T150904
CREATED:20241212T122323Z
LAST-MODIFIED:20241214T124305Z
UID:8206-1742601600-1760918399@pilates-verband.org
SUMMARY:REFORMER
DESCRIPTION:REFORMER (Ausbildung ausschließlich am Reformer)\n Veranstaltungsort: Basel
URL:https://pilates-verband.org/event/reformer-8/
LOCATION:Polestar Pilates\, Krefelder Straße 18\, Köln\, info@polestarpilates.de\, 50670\, Germany
CATEGORIES:Ausbildung
ATTACH;FMTTYPE=image/png:https://pilates-verband.org/wp-content/uploads/polestar-pilates-logo.png
END:VEVENT
BEGIN:VEVENT
DTSTART;VALUE=DATE:20250329
DTEND;VALUE=DATE:20260322
DTSTAMP:20260419T150904
CREATED:20241212T121303Z
LAST-MODIFIED:20241214T123747Z
UID:8188-1743206400-1774137599@pilates-verband.org
SUMMARY:COMPREHENSIVE
DESCRIPTION:COMPREHENSIVE (vollständige Geräteausbildung\, incl. Mattenanteil)\n Veranstaltungsort: Basel
URL:https://pilates-verband.org/event/comprehensive-12/
LOCATION:Polestar Pilates\, Krefelder Straße 18\, Köln\, info@polestarpilates.de\, 50670\, Germany
CATEGORIES:Ausbildung
ATTACH;FMTTYPE=image/png:https://pilates-verband.org/wp-content/uploads/polestar-pilates-logo.png
END:VEVENT
BEGIN:VEVENT
DTSTART;VALUE=DATE:20250911
DTEND;VALUE=DATE:20250929
DTSTAMP:20260419T150904
CREATED:20250512T071202Z
LAST-MODIFIED:20250618T090947Z
UID:8772-1757548800-1759103999@pilates-verband.org
SUMMARY:Intensive Mat-Plus™\, 2nd Edition
DESCRIPTION:Grund- und Mittelstufe STOTT PILATES Matwork\n Veranstaltungsort: Friedberg/Hessen
URL:https://pilates-verband.org/event/intensive-mat-plus-2nd-edition/
LOCATION:Merrithew®\, 500-2200 Yonge St\, Toronto\, emeaeducation@merrithew.com\, ON M4S 2C6\, Canada
CATEGORIES:Ausbildung
ATTACH;FMTTYPE=image/svg+xml:https://pilates-verband.org/wp-content/uploads/merrithew-logo.svg
END:VEVENT
BEGIN:VEVENT
DTSTART;VALUE=DATE:20250912
DTEND;VALUE=DATE:20251006
DTSTAMP:20260419T150904
CREATED:20250512T101258Z
LAST-MODIFIED:20250512T101258Z
UID:8816-1757635200-1759708799@pilates-verband.org
SUMMARY:Intensive Reformer 2nd Edition
DESCRIPTION:Grund- und Mittelstufe STOTT PILATES-Reformer\n Veranstaltungsort: Stuttgart
URL:https://pilates-verband.org/event/intensive-reformer-2nd-edition-7/
LOCATION:Merrithew®\, 500-2200 Yonge St\, Toronto\, emeaeducation@merrithew.com\, ON M4S 2C6\, Canada
CATEGORIES:Ausbildung
ATTACH;FMTTYPE=image/svg+xml:https://pilates-verband.org/wp-content/uploads/merrithew-logo.svg
END:VEVENT
BEGIN:VEVENT
DTSTART;VALUE=DATE:20250926
DTEND;VALUE=DATE:20250929
DTSTAMP:20260419T150904
CREATED:20250724T081502Z
LAST-MODIFIED:20250724T081502Z
UID:9249-1758844800-1759103999@pilates-verband.org
SUMMARY:Professional Reformer Instructor Training – Intensiv Modulformat
DESCRIPTION:Professional Reformer Instructor Training – Intensiv Modulformat\n Veranstaltungsort: Berlin
URL:https://pilates-verband.org/event/professional-reformer-instructor-training-intensiv-modulformat/
LOCATION:The Body in Balance Studio\, Mehringdamm 69\, Berlin\, info@pilatesberlin.de\, 10961\, Germany
CATEGORIES:Ausbildung
ATTACH;FMTTYPE=image/svg+xml:https://pilates-verband.org/wp-content/uploads/the-body-in-balance-studio-pilates-berlin.svg
END:VEVENT
BEGIN:VEVENT
DTSTART;VALUE=DATE:20250927
DTEND;VALUE=DATE:20250928
DTSTAMP:20260419T150904
CREATED:20240423T085619Z
LAST-MODIFIED:20240423T085619Z
UID:7440-1758931200-1759017599@pilates-verband.org
SUMMARY:Vertiefungsseminar für MEDICAL-STRETCHING® Experte
DESCRIPTION:Vertiefungsseminar für MEDICAL-STRETCHING® Experte\n Veranstaltungsort: Dortmund
URL:https://pilates-verband.org/event/vertiefungsseminar-fuer-medical-stretching-experte/
LOCATION:Die Bewegungsakademie\, Rosemeyerstrasse 2-4\, Dortmund\, info@die-bewegungsakademie.de\, 44139\, Germany
CATEGORIES:Pilatesrelevante Fortbildung
ATTACH;FMTTYPE=image/svg+xml:https://pilates-verband.org/wp-content/uploads/bewegungs-akademie-logo.svg
END:VEVENT
BEGIN:VEVENT
DTSTART;VALUE=DATE:20250927
DTEND;VALUE=DATE:20250928
DTSTAMP:20260419T150904
CREATED:20241128T095336Z
LAST-MODIFIED:20241128T101625Z
UID:7999-1758931200-1759017599@pilates-verband.org
SUMMARY:Der Weg in die Selbständigkeit als Pilates Trainer
DESCRIPTION:Der Weg in die Selbständigkeit als Pilates Trainer (online)\n Veranstaltungsort: München
URL:https://pilates-verband.org/event/der-weg-in-die-selbstaendigkeit-als-pilates-trainer-2/
LOCATION:keep in motion\, Sendlingerstraße 56\, München\, info@pilates-in-muenchen.de\, 80331\, Germany
CATEGORIES:Fortbildung
ATTACH;FMTTYPE=image/jpeg:https://pilates-verband.org/wp-content/uploads/keep-in-motion-pilates-logo.jpg
END:VEVENT
BEGIN:VEVENT
DTSTART;VALUE=DATE:20250927
DTEND;VALUE=DATE:20250928
DTSTAMP:20260419T150904
CREATED:20250414T100510Z
LAST-MODIFIED:20250610T073701Z
UID:8687-1758931200-1759017599@pilates-verband.org
SUMMARY:Advandced Pilates on the SPINEFITTER
DESCRIPTION:SPINEFITTER Advanced Pilates\n Veranstaltungsort: München
URL:https://pilates-verband.org/event/advandced-pilates-on-the-spinefitter/
LOCATION:keep in motion\, Sendlingerstraße 56\, München\, info@pilates-in-muenchen.de\, 80331\, Germany
CATEGORIES:Fortbildung
ATTACH;FMTTYPE=image/jpeg:https://pilates-verband.org/wp-content/uploads/keep-in-motion-pilates-logo.jpg
END:VEVENT
BEGIN:VEVENT
DTSTART;VALUE=DATE:20250927
DTEND;VALUE=DATE:20250928
DTSTAMP:20260419T150904
CREATED:20250702T093647Z
LAST-MODIFIED:20250702T093647Z
UID:9126-1758931200-1759017599@pilates-verband.org
SUMMARY:How to teach
DESCRIPTION:How to teach\n Veranstaltungsort: Kaiserslautern
URL:https://pilates-verband.org/event/how-to-teach/
LOCATION:Club Pilates Germany\, Brandstwiete 4\, Hamburg\, education@clubpilates.com.de\, 20457\, Germany
CATEGORIES:Ausbildung
ATTACH;FMTTYPE=image/png:https://pilates-verband.org/wp-content/uploads/club-pilates-logo.png
END:VEVENT
BEGIN:VEVENT
DTSTART;VALUE=DATE:20250927
DTEND;VALUE=DATE:20250928
DTSTAMP:20260419T150904
CREATED:20250908T132824Z
LAST-MODIFIED:20250908T132824Z
UID:9367-1758931200-1759017599@pilates-verband.org
SUMMARY:Polestar Pilates meets Spinefitter by Sissel - Matte
DESCRIPTION:Polestar Pilates meets Spinefitter by Sissel – Matte\nund live Online\n Veranstaltungsort: Köln
URL:https://pilates-verband.org/event/polestar-pilates-meets-spinefitter-by-sissel-matte-2/
LOCATION:Polestar Pilates\, Krefelder Straße 18\, Köln\, info@polestarpilates.de\, 50670\, Germany
CATEGORIES:Fortbildung
ATTACH;FMTTYPE=image/png:https://pilates-verband.org/wp-content/uploads/polestar-pilates-logo.png
END:VEVENT
BEGIN:VEVENT
DTSTART;VALUE=DATE:20250927
DTEND;VALUE=DATE:20250929
DTSTAMP:20260419T150904
CREATED:20250211T093628Z
LAST-MODIFIED:20250211T093628Z
UID:8349-1758931200-1759103999@pilates-verband.org
SUMMARY:Mattenausbildung - Modul 3
DESCRIPTION:Mattenausbildung – Modul 3\n\n\n\n Veranstaltungsort: Bremen
URL:https://pilates-verband.org/event/mattenausbildung-modul-3-2/
LOCATION:Essence Pilates\, Kirchweg 204-208\, Bremen\, studio@essence-pilates.de\, 28199\, Germany
CATEGORIES:Ausbildung
ATTACH;FMTTYPE=image/png:https://pilates-verband.org/wp-content/uploads/essence-pilates-logo.png
END:VEVENT
BEGIN:VEVENT
DTSTART;VALUE=DATE:20250927
DTEND;VALUE=DATE:20250929
DTSTAMP:20260419T150904
CREATED:20250731T091430Z
LAST-MODIFIED:20250731T091503Z
UID:9294-1758931200-1759103999@pilates-verband.org
SUMMARY:Peak Pilates Comprehensive  Level I – Geräte
DESCRIPTION:PPC I –  Modul 1\n Veranstaltungsort: Nürnberg
URL:https://pilates-verband.org/event/peak-pilates-comprehensive-level-i-geraete-ausbildung/
LOCATION:AVE Pilates Akademie\, Neusalzer Str. 4\, Nürnberg\, info@workout-nuernberg.de\, 90473\, Germany
CATEGORIES:Ausbildung
ATTACH;FMTTYPE=image/svg+xml:https://pilates-verband.org/wp-content/uploads/ave-pilates-akademie-logo.svg
END:VEVENT
END:VCALENDAR