BEGIN:VCALENDAR
VERSION:2.0
PRODID:-//DPV - ECPv6.15.20//NONSGML v1.0//EN
CALSCALE:GREGORIAN
METHOD:PUBLISH
X-ORIGINAL-URL:https://pilates-verband.org
X-WR-CALDESC:Veranstaltungen für DPV
REFRESH-INTERVAL;VALUE=DURATION:PT1H
X-Robots-Tag:noindex
X-PUBLISHED-TTL:PT1H
BEGIN:VTIMEZONE
TZID:Europe/Berlin
BEGIN:DAYLIGHT
TZOFFSETFROM:+0100
TZOFFSETTO:+0200
TZNAME:CEST
DTSTART:20240331T010000
END:DAYLIGHT
BEGIN:STANDARD
TZOFFSETFROM:+0200
TZOFFSETTO:+0100
TZNAME:CET
DTSTART:20241027T010000
END:STANDARD
BEGIN:DAYLIGHT
TZOFFSETFROM:+0100
TZOFFSETTO:+0200
TZNAME:CEST
DTSTART:20250330T010000
END:DAYLIGHT
BEGIN:STANDARD
TZOFFSETFROM:+0200
TZOFFSETTO:+0100
TZNAME:CET
DTSTART:20251026T010000
END:STANDARD
BEGIN:DAYLIGHT
TZOFFSETFROM:+0100
TZOFFSETTO:+0200
TZNAME:CEST
DTSTART:20260329T010000
END:DAYLIGHT
BEGIN:STANDARD
TZOFFSETFROM:+0200
TZOFFSETTO:+0100
TZNAME:CET
DTSTART:20261025T010000
END:STANDARD
BEGIN:DAYLIGHT
TZOFFSETFROM:+0100
TZOFFSETTO:+0200
TZNAME:CEST
DTSTART:20270328T010000
END:DAYLIGHT
BEGIN:STANDARD
TZOFFSETFROM:+0200
TZOFFSETTO:+0100
TZNAME:CET
DTSTART:20271031T010000
END:STANDARD
END:VTIMEZONE
BEGIN:VEVENT
DTSTART;VALUE=DATE:20250222
DTEND;VALUE=DATE:20251020
DTSTAMP:20260421T122032
CREATED:20241212T123002Z
LAST-MODIFIED:20241214T124808Z
UID:8220-1740182400-1760918399@pilates-verband.org
SUMMARY:MATTE
DESCRIPTION:MATTE\n \n \n Veranstaltungsort: Basel
URL:https://pilates-verband.org/event/matte-7/
LOCATION:Polestar Pilates\, Krefelder Straße 18\, Köln\, info@polestarpilates.de\, 50670\, Germany
CATEGORIES:Ausbildung
ATTACH;FMTTYPE=image/png:https://pilates-verband.org/wp-content/uploads/polestar-pilates-logo.png
END:VEVENT
BEGIN:VEVENT
DTSTART;VALUE=DATE:20250322
DTEND;VALUE=DATE:20251020
DTSTAMP:20260421T122032
CREATED:20241212T122323Z
LAST-MODIFIED:20241214T124305Z
UID:8206-1742601600-1760918399@pilates-verband.org
SUMMARY:REFORMER
DESCRIPTION:REFORMER (Ausbildung ausschließlich am Reformer)\n Veranstaltungsort: Basel
URL:https://pilates-verband.org/event/reformer-8/
LOCATION:Polestar Pilates\, Krefelder Straße 18\, Köln\, info@polestarpilates.de\, 50670\, Germany
CATEGORIES:Ausbildung
ATTACH;FMTTYPE=image/png:https://pilates-verband.org/wp-content/uploads/polestar-pilates-logo.png
END:VEVENT
BEGIN:VEVENT
DTSTART;VALUE=DATE:20250329
DTEND;VALUE=DATE:20260322
DTSTAMP:20260421T122032
CREATED:20241212T121303Z
LAST-MODIFIED:20241214T123747Z
UID:8188-1743206400-1774137599@pilates-verband.org
SUMMARY:COMPREHENSIVE
DESCRIPTION:COMPREHENSIVE (vollständige Geräteausbildung\, incl. Mattenanteil)\n Veranstaltungsort: Basel
URL:https://pilates-verband.org/event/comprehensive-12/
LOCATION:Polestar Pilates\, Krefelder Straße 18\, Köln\, info@polestarpilates.de\, 50670\, Germany
CATEGORIES:Ausbildung
ATTACH;FMTTYPE=image/png:https://pilates-verband.org/wp-content/uploads/polestar-pilates-logo.png
END:VEVENT
BEGIN:VEVENT
DTSTART;VALUE=DATE:20251003
DTEND;VALUE=DATE:20251027
DTSTAMP:20260421T122032
CREATED:20250512T071428Z
LAST-MODIFIED:20250512T071428Z
UID:8774-1759449600-1761523199@pilates-verband.org
SUMMARY:Intensive Reformer 2nd Edition
DESCRIPTION:Grund- und Mittelstufe STOTT PILATES-Reformer\n Veranstaltungsort: Berlin
URL:https://pilates-verband.org/event/intensive-reformer-2nd-edition-3/
LOCATION:Merrithew®\, 500-2200 Yonge St\, Toronto\, emeaeducation@merrithew.com\, ON M4S 2C6\, Canada
CATEGORIES:Ausbildung
ATTACH;FMTTYPE=image/svg+xml:https://pilates-verband.org/wp-content/uploads/merrithew-logo.svg
END:VEVENT
BEGIN:VEVENT
DTSTART;VALUE=DATE:20251003
DTEND;VALUE=DATE:20251208
DTSTAMP:20260421T122032
CREATED:20250214T085739Z
LAST-MODIFIED:20250214T085739Z
UID:8382-1759449600-1765151999@pilates-verband.org
SUMMARY:Pilates Mattenausbildung
DESCRIPTION:Pilates Mattenausbildung\n Veranstaltungsort: Stuttgart
URL:https://pilates-verband.org/event/pilates-mattenausbildung-2/
LOCATION:More – Yoga und Pilates\, Leuschnerstraße 36\, Stuttgart\, pilates-akademie@more.yoga\, 70176\, Germany
CATEGORIES:Ausbildung
ATTACH;FMTTYPE=image/svg+xml:https://pilates-verband.org/wp-content/uploads/more-pilates-ypga-logo.svg
END:VEVENT
BEGIN:VEVENT
DTSTART;VALUE=DATE:20251010
DTEND;VALUE=DATE:20251026
DTSTAMP:20260421T122032
CREATED:20250512T101039Z
LAST-MODIFIED:20250512T101039Z
UID:8812-1760054400-1761436799@pilates-verband.org
SUMMARY:Intensive Mat-Plus™\, 2nd Edition
DESCRIPTION:Grund- und Mittelstufe STOTT PILATES Matwork\n Veranstaltungsort: Stuttgart
URL:https://pilates-verband.org/event/intensive-mat-plus-2nd-edition-4/
LOCATION:Merrithew®\, 500-2200 Yonge St\, Toronto\, emeaeducation@merrithew.com\, ON M4S 2C6\, Canada
CATEGORIES:Ausbildung
ATTACH;FMTTYPE=image/svg+xml:https://pilates-verband.org/wp-content/uploads/merrithew-logo.svg
END:VEVENT
BEGIN:VEVENT
DTSTART;VALUE=DATE:20251017
DTEND;VALUE=DATE:20251018
DTSTAMP:20260421T122032
CREATED:20241210T145009Z
LAST-MODIFIED:20241210T150651Z
UID:8124-1760659200-1760745599@pilates-verband.org
SUMMARY:Freiburg Das Prinzip Fluss in der Mattenklasse
DESCRIPTION:Das Prinzip Fluss in der Mattenklasse\n Veranstaltungsort: Freiburg
URL:https://pilates-verband.org/event/freiburg-das-prinzip-fluss-in-der-mattenklasse-3/
LOCATION:BASI Pilates\, Kaiser Ludwig Straße 21\, Fürstenfeldbruck\, natascha@basipilates.net\, 82256\, Germany
CATEGORIES:Fortbildung
ATTACH;FMTTYPE=image/svg+xml:https://pilates-verband.org/wp-content/uploads/basi-pilates-logo.svg
END:VEVENT
BEGIN:VEVENT
DTSTART;VALUE=DATE:20251017
DTEND;VALUE=DATE:20251019
DTSTAMP:20260421T122032
CREATED:20250228T080010Z
LAST-MODIFIED:20250228T080010Z
UID:8433-1760659200-1760831999@pilates-verband.org
SUMMARY:Matte
DESCRIPTION:Matte\n Veranstaltungsort: Hamburg
URL:https://pilates-verband.org/event/matte-8/
LOCATION:Club Pilates Germany\, Brandstwiete 4\, Hamburg\, education@clubpilates.com.de\, 20457\, Germany
CATEGORIES:Ausbildung
ATTACH;FMTTYPE=image/png:https://pilates-verband.org/wp-content/uploads/club-pilates-logo.png
END:VEVENT
BEGIN:VEVENT
DTSTART;VALUE=DATE:20251017
DTEND;VALUE=DATE:20251020
DTSTAMP:20260421T122032
CREATED:20241212T122413Z
LAST-MODIFIED:20241212T122413Z
UID:8208-1760659200-1760918399@pilates-verband.org
SUMMARY:REFORMER
DESCRIPTION:REFORMER (Ausbildung ausschließlich am Reformer)\n Veranstaltungsort: Basel
URL:https://pilates-verband.org/event/reformer-9/
LOCATION:Polestar Pilates\, Krefelder Straße 18\, Köln\, info@polestarpilates.de\, 50670\, Germany
CATEGORIES:Ausbildung
ATTACH;FMTTYPE=image/png:https://pilates-verband.org/wp-content/uploads/polestar-pilates-logo.png
END:VEVENT
BEGIN:VEVENT
DTSTART;VALUE=DATE:20251017
DTEND;VALUE=DATE:20251020
DTSTAMP:20260421T122032
CREATED:20250304T094036Z
LAST-MODIFIED:20250304T094036Z
UID:8457-1760659200-1760918399@pilates-verband.org
SUMMARY:IMP Intensive Mat-Plus® 2
DESCRIPTION:IMP Intensive Mat-Plus® 2\n \n \n \n Veranstaltungsort: München
URL:https://pilates-verband.org/event/imp-intensive-mat-plus-2/
LOCATION:Pilatesbody eK\, Wittelsbacherstraße 16\, München\, michaela.bimbi-dresp@t-online.de\, 80469\, Germany
CATEGORIES:Ausbildung
ATTACH;FMTTYPE=image/png:https://pilates-verband.org/wp-content/uploads/pilatesbody-logo.png
END:VEVENT
BEGIN:VEVENT
DTSTART;VALUE=DATE:20251017
DTEND;VALUE=DATE:20251020
DTSTAMP:20260421T122032
CREATED:20250304T094257Z
LAST-MODIFIED:20250304T094257Z
UID:8463-1760659200-1760918399@pilates-verband.org
SUMMARY:IMP Intensive Mat-Plus® 2
DESCRIPTION:IMP Intensive Mat-Plus® 2\n Veranstaltungsort: München
URL:https://pilates-verband.org/event/imp-intensive-mat-plus-2-2/
LOCATION:Merrithew®\, 500-2200 Yonge St\, Toronto\, emeaeducation@merrithew.com\, ON M4S 2C6\, Canada
CATEGORIES:Ausbildung
ATTACH;FMTTYPE=image/svg+xml:https://pilates-verband.org/wp-content/uploads/merrithew-logo.svg
END:VEVENT
BEGIN:VEVENT
DTSTART;VALUE=DATE:20251017
DTEND;VALUE=DATE:20251020
DTSTAMP:20260421T122032
CREATED:20250311T130059Z
LAST-MODIFIED:20251008T131122Z
UID:8474-1760659200-1760918399@pilates-verband.org
SUMMARY:Reformer Ausbildung - Modul 1
DESCRIPTION:Reformer Ausbildung – Modul 1\n Veranstaltungsort: Dortmund
URL:https://pilates-verband.org/event/reformer-ausbildung-modul-1-3/
LOCATION:Die Bewegungsakademie\, Rosemeyerstrasse 2-4\, Dortmund\, info@die-bewegungsakademie.de\, 44139\, Germany
CATEGORIES:Ausbildung
ATTACH;FMTTYPE=image/svg+xml:https://pilates-verband.org/wp-content/uploads/bewegungs-akademie-logo.svg
END:VEVENT
END:VCALENDAR