BEGIN:VCALENDAR
VERSION:2.0
PRODID:-//DPV - ECPv6.15.20//NONSGML v1.0//EN
CALSCALE:GREGORIAN
METHOD:PUBLISH
X-WR-CALNAME:DPV
X-ORIGINAL-URL:https://pilates-verband.org
X-WR-CALDESC:Veranstaltungen für DPV
REFRESH-INTERVAL;VALUE=DURATION:PT1H
X-Robots-Tag:noindex
X-PUBLISHED-TTL:PT1H
BEGIN:VTIMEZONE
TZID:Europe/Berlin
BEGIN:DAYLIGHT
TZOFFSETFROM:+0100
TZOFFSETTO:+0200
TZNAME:CEST
DTSTART:20240331T010000
END:DAYLIGHT
BEGIN:STANDARD
TZOFFSETFROM:+0200
TZOFFSETTO:+0100
TZNAME:CET
DTSTART:20241027T010000
END:STANDARD
BEGIN:DAYLIGHT
TZOFFSETFROM:+0100
TZOFFSETTO:+0200
TZNAME:CEST
DTSTART:20250330T010000
END:DAYLIGHT
BEGIN:STANDARD
TZOFFSETFROM:+0200
TZOFFSETTO:+0100
TZNAME:CET
DTSTART:20251026T010000
END:STANDARD
BEGIN:DAYLIGHT
TZOFFSETFROM:+0100
TZOFFSETTO:+0200
TZNAME:CEST
DTSTART:20260329T010000
END:DAYLIGHT
BEGIN:STANDARD
TZOFFSETFROM:+0200
TZOFFSETTO:+0100
TZNAME:CET
DTSTART:20261025T010000
END:STANDARD
BEGIN:DAYLIGHT
TZOFFSETFROM:+0100
TZOFFSETTO:+0200
TZNAME:CEST
DTSTART:20270328T010000
END:DAYLIGHT
BEGIN:STANDARD
TZOFFSETFROM:+0200
TZOFFSETTO:+0100
TZNAME:CET
DTSTART:20271031T010000
END:STANDARD
END:VTIMEZONE
BEGIN:VEVENT
DTSTART;VALUE=DATE:20250329
DTEND;VALUE=DATE:20260322
DTSTAMP:20260419T164657
CREATED:20241212T121303Z
LAST-MODIFIED:20241214T123747Z
UID:8188-1743206400-1774137599@pilates-verband.org
SUMMARY:COMPREHENSIVE
DESCRIPTION:COMPREHENSIVE (vollständige Geräteausbildung\, incl. Mattenanteil)\n Veranstaltungsort: Basel
URL:https://pilates-verband.org/event/comprehensive-12/
LOCATION:Polestar Pilates\, Krefelder Straße 18\, Köln\, info@polestarpilates.de\, 50670\, Germany
CATEGORIES:Ausbildung
ATTACH;FMTTYPE=image/png:https://pilates-verband.org/wp-content/uploads/polestar-pilates-logo.png
END:VEVENT
BEGIN:VEVENT
DTSTART;VALUE=DATE:20260304
DTEND;VALUE=DATE:20260317
DTSTAMP:20260419T164657
CREATED:20250512T073303Z
LAST-MODIFIED:20250512T073303Z
UID:8798-1772582400-1773705599@pilates-verband.org
SUMMARY:Intensive Mat-Plus™\, 2nd Edition
DESCRIPTION:Grund- und Mittelstufe STOTT PILATES Matwork\n Veranstaltungsort: Dresden
URL:https://pilates-verband.org/event/intensive-mat-plus-2nd-edition-3/
LOCATION:Merrithew®\, 500-2200 Yonge St\, Toronto\, emeaeducation@merrithew.com\, ON M4S 2C6\, Canada
CATEGORIES:Ausbildung
ATTACH;FMTTYPE=image/svg+xml:https://pilates-verband.org/wp-content/uploads/merrithew-logo.svg
END:VEVENT
BEGIN:VEVENT
DTSTART;VALUE=DATE:20260311
DTEND;VALUE=DATE:20260314
DTSTAMP:20260419T164657
CREATED:20250512T073407Z
LAST-MODIFIED:20250512T073407Z
UID:8800-1773187200-1773446399@pilates-verband.org
SUMMARY:Advanced Reformer
DESCRIPTION:Verschiedene Reformer-Komponenten und Zubehör zur Intensivierung des Reformer-Repertoires und für ein anregendes Training\n Veranstaltungsort: Dresden
URL:https://pilates-verband.org/event/advanced-reformer-7/
LOCATION:Merrithew®\, 500-2200 Yonge St\, Toronto\, emeaeducation@merrithew.com\, ON M4S 2C6\, Canada
CATEGORIES:Ausbildung
ATTACH;FMTTYPE=image/svg+xml:https://pilates-verband.org/wp-content/uploads/merrithew-logo.svg
END:VEVENT
BEGIN:VEVENT
DTSTART;VALUE=DATE:20260311
DTEND;VALUE=DATE:20260316
DTSTAMP:20260419T164657
CREATED:20250716T111723Z
LAST-MODIFIED:20250716T111723Z
UID:9235-1773187200-1773619199@pilates-verband.org
SUMMARY:Intensive Reformer
DESCRIPTION:Intensive Refomer\n Veranstaltungsort: München
URL:https://pilates-verband.org/event/intensive-reformer-16/
LOCATION:Pilatesbody eK\, Wittelsbacherstraße 16\, München\, michaela.bimbi-dresp@t-online.de\, 80469\, Germany
CATEGORIES:Ausbildung
ATTACH;FMTTYPE=image/png:https://pilates-verband.org/wp-content/uploads/pilatesbody-logo.png
END:VEVENT
BEGIN:VEVENT
DTSTART;VALUE=DATE:20260311
DTEND;VALUE=DATE:20260316
DTSTAMP:20260419T164657
CREATED:20250716T111910Z
LAST-MODIFIED:20250716T111910Z
UID:9239-1773187200-1773619199@pilates-verband.org
SUMMARY:Intensive Reformer
DESCRIPTION:Intensive Reformer\n Veranstaltungsort: München
URL:https://pilates-verband.org/event/intensive-reformer-18/
LOCATION:Merrithew®\, 500-2200 Yonge St\, Toronto\, emeaeducation@merrithew.com\, ON M4S 2C6\, Canada
CATEGORIES:Ausbildung
ATTACH;FMTTYPE=image/svg+xml:https://pilates-verband.org/wp-content/uploads/merrithew-logo.svg
END:VEVENT
BEGIN:VEVENT
DTSTART;VALUE=DATE:20260313
DTEND;VALUE=DATE:20260314
DTSTAMP:20260419T164657
CREATED:20250603T130333Z
LAST-MODIFIED:20250603T130903Z
UID:8857-1773360000-1773446399@pilates-verband.org
SUMMARY:Advanced Pilates Matwork
DESCRIPTION:Advanced Pilates Matwork – Joe’s Originals mit modernen Variationen\n Veranstaltungsort: München
URL:https://pilates-verband.org/event/advanced-pilates-matwork-3/
LOCATION:keep in motion\, Sendlingerstraße 56\, München\, info@pilates-in-muenchen.de\, 80331\, Germany
CATEGORIES:Pilates Fortbildung
ATTACH;FMTTYPE=image/jpeg:https://pilates-verband.org/wp-content/uploads/keep-in-motion-pilates-logo.jpg
END:VEVENT
BEGIN:VEVENT
DTSTART;VALUE=DATE:20260313
DTEND;VALUE=DATE:20260314
DTSTAMP:20260419T164657
CREATED:20250617T094931Z
LAST-MODIFIED:20250617T094931Z
UID:8995-1773360000-1773446399@pilates-verband.org
SUMMARY:The Pi Concept® Reformer Instructor ohne Matte Modul 4
DESCRIPTION:The Pi Concept® Reformer Instructor ohne Matte Modul 4\n Veranstaltungsort: Hamburg
URL:https://pilates-verband.org/event/the-pi-concept-reformer-instructor-ohne-matte-modul-4/
LOCATION:The PI Concept® (TPC)\, Harksheider Str. 6A\, Hamburg\, office@pilatesausbildungszentrum.de\, 22399\, Germany
CATEGORIES:Ausbildung
ATTACH;FMTTYPE=image/png:https://pilates-verband.org/wp-content/uploads/the-pi-concept-logo.png
END:VEVENT
BEGIN:VEVENT
DTSTART;VALUE=DATE:20260313
DTEND;VALUE=DATE:20260314
DTSTAMP:20260419T164657
CREATED:20251111T090121Z
LAST-MODIFIED:20251111T090121Z
UID:9679-1773360000-1773446399@pilates-verband.org
SUMMARY:Springboard
DESCRIPTION:Springboard\n Veranstaltungsort: Hamburg
URL:https://pilates-verband.org/event/springboard-6/
LOCATION:Club Pilates Germany\, Brandstwiete 4\, Hamburg\, education@clubpilates.com.de\, 20457\, Germany
CATEGORIES:Ausbildung
ATTACH;FMTTYPE=image/png:https://pilates-verband.org/wp-content/uploads/club-pilates-logo.png
END:VEVENT
BEGIN:VEVENT
DTSTART;VALUE=DATE:20260313
DTEND;VALUE=DATE:20260316
DTSTAMP:20260419T164657
CREATED:20250617T093251Z
LAST-MODIFIED:20250703T105326Z
UID:8959-1773360000-1773619199@pilates-verband.org
SUMMARY:The Pi Concept® Mat Instructor Silver N Modul 4
DESCRIPTION:The Pi Concept® Mat Instructor Silver N Modul 4\n Veranstaltungsort: Hamburg
URL:https://pilates-verband.org/event/the-pi-concept-mat-instructor-silver-n-modul-4/
LOCATION:The PI Concept® (TPC)\, Harksheider Str. 6A\, Hamburg\, office@pilatesausbildungszentrum.de\, 22399\, Germany
CATEGORIES:Ausbildung
ATTACH;FMTTYPE=image/png:https://pilates-verband.org/wp-content/uploads/the-pi-concept-logo.png
END:VEVENT
BEGIN:VEVENT
DTSTART;VALUE=DATE:20260313
DTEND;VALUE=DATE:20260316
DTSTAMP:20260419T164657
CREATED:20250617T093856Z
LAST-MODIFIED:20250703T100539Z
UID:8973-1773360000-1773619199@pilates-verband.org
SUMMARY:The Pi Concept® Studio Instructor Silver  Modul 4
DESCRIPTION:The Pi Concept® Studio Instructor Silver  Modul 4\n Veranstaltungsort: Hamburg
URL:https://pilates-verband.org/event/the-pi-concept-studio-instructor-silver-n-modul-4/
LOCATION:The PI Concept® (TPC)\, Harksheider Str. 6A\, Hamburg\, office@pilatesausbildungszentrum.de\, 22399\, Germany
CATEGORIES:Ausbildung
ATTACH;FMTTYPE=image/png:https://pilates-verband.org/wp-content/uploads/the-pi-concept-logo.png
END:VEVENT
BEGIN:VEVENT
DTSTART;VALUE=DATE:20260313
DTEND;VALUE=DATE:20260316
DTSTAMP:20260419T164657
CREATED:20250617T094521Z
LAST-MODIFIED:20250617T094521Z
UID:8985-1773360000-1773619199@pilates-verband.org
SUMMARY:The Pi Concept® Reformer Instructor mit Matte Modul 4
DESCRIPTION:The Pi Concept® Reformer Instructor mit Matte Modul 4\n Veranstaltungsort: Hamburg
URL:https://pilates-verband.org/event/the-pi-concept-reformer-instructor-mit-matte-modul-4/
LOCATION:The PI Concept® (TPC)\, Harksheider Str. 6A\, Hamburg\, office@pilatesausbildungszentrum.de\, 22399\, Germany
CATEGORIES:Ausbildung
ATTACH;FMTTYPE=image/png:https://pilates-verband.org/wp-content/uploads/the-pi-concept-logo.png
END:VEVENT
BEGIN:VEVENT
DTSTART;VALUE=DATE:20260313
DTEND;VALUE=DATE:20260316
DTSTAMP:20260419T164657
CREATED:20250703T101320Z
LAST-MODIFIED:20250703T101320Z
UID:9198-1773360000-1773619199@pilates-verband.org
SUMMARY:The Pi Concept® Studio Instructor Silver N Modul 4
DESCRIPTION:The Pi Concept® Studio Instructor Silver N  Modul 4\n Veranstaltungsort: Hamburg
URL:https://pilates-verband.org/event/the-pi-concept-studio-instructor-silver-n-modul-4-2/
LOCATION:The PI Concept® (TPC)\, Harksheider Str. 6A\, Hamburg\, office@pilatesausbildungszentrum.de\, 22399\, Germany
CATEGORIES:Ausbildung
ATTACH;FMTTYPE=image/png:https://pilates-verband.org/wp-content/uploads/the-pi-concept-logo.png
END:VEVENT
BEGIN:VEVENT
DTSTART;VALUE=DATE:20260313
DTEND;VALUE=DATE:20260316
DTSTAMP:20260419T164657
CREATED:20250703T105427Z
LAST-MODIFIED:20250703T105427Z
UID:9220-1773360000-1773619199@pilates-verband.org
SUMMARY:The Pi Concept® Mat Instructor Silver Modul 4
DESCRIPTION:The Pi Concept® Mat Instructor Silver  Modul 4\n Veranstaltungsort: Hamburg
URL:https://pilates-verband.org/event/the-pi-concept-mat-instructor-silver-modul-4-2/
LOCATION:The PI Concept® (TPC)\, Harksheider Str. 6A\, Hamburg\, office@pilatesausbildungszentrum.de\, 22399\, Germany
CATEGORIES:Ausbildung
ATTACH;FMTTYPE=image/png:https://pilates-verband.org/wp-content/uploads/the-pi-concept-logo.png
END:VEVENT
END:VCALENDAR