BEGIN:VCALENDAR
VERSION:2.0
PRODID:-//DPV - ECPv6.15.20//NONSGML v1.0//EN
CALSCALE:GREGORIAN
METHOD:PUBLISH
X-ORIGINAL-URL:https://pilates-verband.org
X-WR-CALDESC:Veranstaltungen für DPV
REFRESH-INTERVAL;VALUE=DURATION:PT1H
X-Robots-Tag:noindex
X-PUBLISHED-TTL:PT1H
BEGIN:VTIMEZONE
TZID:Europe/Berlin
BEGIN:DAYLIGHT
TZOFFSETFROM:+0100
TZOFFSETTO:+0200
TZNAME:CEST
DTSTART:20250330T010000
END:DAYLIGHT
BEGIN:STANDARD
TZOFFSETFROM:+0200
TZOFFSETTO:+0100
TZNAME:CET
DTSTART:20251026T010000
END:STANDARD
BEGIN:DAYLIGHT
TZOFFSETFROM:+0100
TZOFFSETTO:+0200
TZNAME:CEST
DTSTART:20260329T010000
END:DAYLIGHT
BEGIN:STANDARD
TZOFFSETFROM:+0200
TZOFFSETTO:+0100
TZNAME:CET
DTSTART:20261025T010000
END:STANDARD
BEGIN:DAYLIGHT
TZOFFSETFROM:+0100
TZOFFSETTO:+0200
TZNAME:CEST
DTSTART:20270328T010000
END:DAYLIGHT
BEGIN:STANDARD
TZOFFSETFROM:+0200
TZOFFSETTO:+0100
TZNAME:CET
DTSTART:20271031T010000
END:STANDARD
END:VTIMEZONE
BEGIN:VEVENT
DTSTART;VALUE=DATE:20261016
DTEND;VALUE=DATE:20261019
DTSTAMP:20260421T135033
CREATED:20260317T114712Z
LAST-MODIFIED:20260317T114712Z
UID:10419-1792108800-1792367999@pilates-verband.org
SUMMARY:Intensive Mat Plus Teil 2
DESCRIPTION:Intensive Mat Plus Teil 2\n \n \n \n \n Veranstaltungsort: München
URL:https://pilates-verband.org/event/intensive-mat-plus-teil-2-2/
LOCATION:Merrithew®\, 500-2200 Yonge St\, Toronto\, emeaeducation@merrithew.com\, ON M4S 2C6\, Canada
CATEGORIES:Ausbildung
ATTACH;FMTTYPE=image/svg+xml:https://pilates-verband.org/wp-content/uploads/merrithew-logo.svg
END:VEVENT
BEGIN:VEVENT
DTSTART;VALUE=DATE:20261017
DTEND;VALUE=DATE:20261018
DTSTAMP:20260421T135033
CREATED:20260102T103833Z
LAST-MODIFIED:20260102T104411Z
UID:10047-1792195200-1792281599@pilates-verband.org
SUMMARY:Master Classes mit Kleingeräten
DESCRIPTION:4 Master Classes mit Kleingeräten (großer Ball\, Pilates Ball\, Toning Balls\, Foam Roller) – Modul 8 / Tag 2\n Veranstaltungsort: München
URL:https://pilates-verband.org/event/master-classes-mit-kleingeraeten-2/
LOCATION:keep in motion\, Sendlingerstraße 56\, München\, info@pilates-in-muenchen.de\, 80331\, Germany
CATEGORIES:Ausbildung
ATTACH;FMTTYPE=image/jpeg:https://pilates-verband.org/wp-content/uploads/keep-in-motion-pilates-logo.jpg
END:VEVENT
BEGIN:VEVENT
DTSTART;VALUE=DATE:20261017
DTEND;VALUE=DATE:20261018
DTSTAMP:20260421T135033
CREATED:20260415T065410Z
LAST-MODIFIED:20260415T065410Z
UID:10462-1792195200-1792281599@pilates-verband.org
SUMMARY:Woman on Fire - Pilates in den Wechseljahren
DESCRIPTION:Woman on Fire – Pilates in den Wechseljahren\n Veranstaltungsort: Köln
URL:https://pilates-verband.org/event/woman-on-fire-pilates-in-den-wechseljahren/
LOCATION:Polestar Pilates\, Krefelder Straße 18\, Köln\, info@polestarpilates.de\, 50670\, Germany
CATEGORIES:Fortbildung
ATTACH;FMTTYPE=image/png:https://pilates-verband.org/wp-content/uploads/POLESTAR_Logo.png
END:VEVENT
BEGIN:VEVENT
DTSTART;VALUE=DATE:20261017
DTEND;VALUE=DATE:20261019
DTSTAMP:20260421T135033
CREATED:20251203T131554Z
LAST-MODIFIED:20260223T141029Z
UID:9876-1792195200-1792367999@pilates-verband.org
SUMMARY:Matte Track 2 - Modul 4
DESCRIPTION:Matte Track 2 – Modul 4\n\n\n\n\n Veranstaltungsort: Bremen
URL:https://pilates-verband.org/event/mattenausbildung-41/
LOCATION:Essence Pilates\, Kirchweg 204-208\, Bremen\, studio@essence-pilates.de\, 28199\, Germany
CATEGORIES:Ausbildung
ATTACH;FMTTYPE=image/png:https://pilates-verband.org/wp-content/uploads/essence-pilates-logo.png
END:VEVENT
BEGIN:VEVENT
DTSTART;TZID=Europe/Berlin:20261017T140000
DTEND;TZID=Europe/Berlin:20261017T190000
DTSTAMP:20260421T135033
CREATED:20260316T083228Z
LAST-MODIFIED:20260316T083228Z
UID:10395-1792245600-1792263600@pilates-verband.org
SUMMARY:Teacher Training Apparatus Basic
DESCRIPTION:TTA Basic – Chair\n Veranstaltungsort: Berlin
URL:https://pilates-verband.org/event/teacher-training-apparatus-basic-8/
LOCATION:Pilates Studio Berlin – Galina Rohleder\, Kurfürstendamm 69\, Berlin\, info@pilates-studio.berlin\, 10707\, Germany
CATEGORIES:Ausbildung
ATTACH;FMTTYPE=image/svg+xml:https://pilates-verband.org/wp-content/uploads/pilates-studio-berlin-galina-rohleder-logo.svg
END:VEVENT
BEGIN:VEVENT
DTSTART;VALUE=DATE:20261023
DTEND;VALUE=DATE:20261024
DTSTAMP:20260421T135033
CREATED:20250603T130442Z
LAST-MODIFIED:20250603T130633Z
UID:8870-1792713600-1792799999@pilates-verband.org
SUMMARY:Final Coaching - Modul 6
DESCRIPTION:Ausbildung zum lizenzierten keep in motion PILATES CLASSIC Trainer für Matwork\n Veranstaltungsort: München
URL:https://pilates-verband.org/event/final-coaching-modul-6-2/
LOCATION:keep in motion\, Sendlingerstraße 56\, München\, info@pilates-in-muenchen.de\, 80331\, Germany
CATEGORIES:Ausbildung
ATTACH;FMTTYPE=image/jpeg:https://pilates-verband.org/wp-content/uploads/keep-in-motion-pilates-logo.jpg
END:VEVENT
BEGIN:VEVENT
DTSTART;VALUE=DATE:20261023
DTEND;VALUE=DATE:20261024
DTSTAMP:20260421T135033
CREATED:20260225T105939Z
LAST-MODIFIED:20260225T105939Z
UID:10195-1792713600-1792799999@pilates-verband.org
SUMMARY:Advanced Pilates Matwork
DESCRIPTION:Ausbildung/Fortbildung Advanced Pilates Matwork – Modul 9/Tag 1\n Veranstaltungsort: München
URL:https://pilates-verband.org/event/advanced-pilates-matwork-6/
LOCATION:keep in motion\, Sendlingerstraße 56\, München\, info@pilates-in-muenchen.de\, 80331\, Germany
CATEGORIES:Pilates Fortbildung
ATTACH;FMTTYPE=image/jpeg:https://pilates-verband.org/wp-content/uploads/keep-in-motion-pilates-logo.jpg
END:VEVENT
BEGIN:VEVENT
DTSTART;VALUE=DATE:20261023
DTEND;VALUE=DATE:20261026
DTSTAMP:20260421T135033
CREATED:20251215T144406Z
LAST-MODIFIED:20251215T144504Z
UID:10008-1792713600-1792972799@pilates-verband.org
SUMMARY:Three Vintage Pilates alumnae - Annie Kerber\, Els Lobbedy and Simone Hörster
DESCRIPTION:Three Vintage Pilates alumnae — Annie Kerber\, Els Lobbedy and Simone Hörster — come together to share what Jay Grimes taught us about true Contrology Veranstaltungsort: Berlin
URL:https://pilates-verband.org/event/three-vintage-pilates-alumnae-annie-kerber-els-lobbedy-and-simone-hoerster/
LOCATION:Core Pilates\, Planufer 92\, Berlin\, training@corepilates.de\, 10967\, Germany
CATEGORIES:Fortbildung
ATTACH;FMTTYPE=image/svg+xml:https://pilates-verband.org/wp-content/uploads/core-pilates-logo.svg
END:VEVENT
BEGIN:VEVENT
DTSTART;VALUE=DATE:20261023
DTEND;VALUE=DATE:20261026
DTSTAMP:20260421T135033
CREATED:20260317T114154Z
LAST-MODIFIED:20260317T114154Z
UID:10409-1792713600-1792972799@pilates-verband.org
SUMMARY:Intensive Reformer Teil 2
DESCRIPTION:Intensive Reformer Teil 2\n \n \n \n \n Veranstaltungsort: München
URL:https://pilates-verband.org/event/intensive-reformer-teil-2-2/
LOCATION:Pilatesbody eK\, Wittelsbacherstraße 16\, München\, michaela.bimbi-dresp@t-online.de\, 80469\, Germany
CATEGORIES:Ausbildung
ATTACH;FMTTYPE=image/png:https://pilates-verband.org/wp-content/uploads/pilatesbody-logo.png
END:VEVENT
BEGIN:VEVENT
DTSTART;VALUE=DATE:20261023
DTEND;VALUE=DATE:20261026
DTSTAMP:20260421T135033
CREATED:20260317T115946Z
LAST-MODIFIED:20260317T115946Z
UID:10426-1792713600-1792972799@pilates-verband.org
SUMMARY:Intensive Reformer Teil 2
DESCRIPTION:Intensive Reformer Teil 2\n \n \n \n \n Veranstaltungsort: München
URL:https://pilates-verband.org/event/intensive-reformer-teil-2-3/
LOCATION:Merrithew®\, 500-2200 Yonge St\, Toronto\, emeaeducation@merrithew.com\, ON M4S 2C6\, Canada
CATEGORIES:Ausbildung
ATTACH;FMTTYPE=image/svg+xml:https://pilates-verband.org/wp-content/uploads/merrithew-logo.svg
END:VEVENT
BEGIN:VEVENT
DTSTART;VALUE=DATE:20261023
DTEND;VALUE=DATE:20261026
DTSTAMP:20260421T135033
CREATED:20260401T084102Z
LAST-MODIFIED:20260401T084102Z
UID:10445-1792713600-1792972799@pilates-verband.org
SUMMARY:Pilates Matwork - Modul 2
DESCRIPTION:Pilates Matwork – Modul 2\n Veranstaltungsort: Stuttgart
URL:https://pilates-verband.org/event/pilates-matwork-modul-2-2/
LOCATION:More – Yoga und Pilates\, Leuschnerstraße 36\, Stuttgart\, pilates-akademie@more.yoga\, 70176\, Germany
CATEGORIES:Ausbildung
ATTACH;FMTTYPE=image/svg+xml:https://pilates-verband.org/wp-content/uploads/more-pilates-ypga-logo.svg
END:VEVENT
BEGIN:VEVENT
DTSTART;VALUE=DATE:20261024
DTEND;VALUE=DATE:20261025
DTSTAMP:20260421T135033
CREATED:20260225T110028Z
LAST-MODIFIED:20260225T110028Z
UID:10197-1792800000-1792886399@pilates-verband.org
SUMMARY:Adanced Pilates Matwork & Personal Training
DESCRIPTION:Ausbildung/Fortbildung Advanced & Personal Training – Modul 9 / Tag 2\n Veranstaltungsort: München
URL:https://pilates-verband.org/event/adanced-pilates-matwork-personal-training-2/
LOCATION:keep in motion\, Sendlingerstraße 56\, München\, info@pilates-in-muenchen.de\, 80331\, Germany
CATEGORIES:Pilates Fortbildung
ATTACH;FMTTYPE=image/jpeg:https://pilates-verband.org/wp-content/uploads/keep-in-motion-pilates-logo.jpg
END:VEVENT
BEGIN:VEVENT
DTSTART;VALUE=DATE:20261024
DTEND;VALUE=DATE:20261025
DTSTAMP:20260421T135033
CREATED:20260415T065608Z
LAST-MODIFIED:20260415T065608Z
UID:10466-1792800000-1792886399@pilates-verband.org
SUMMARY:Pilates für Frauengesundheit Teil 1
DESCRIPTION:Pilates für Frauengesundheit Teil 1\n Veranstaltungsort: Online Live
URL:https://pilates-verband.org/event/pilates-fuer-frauengesundheit-teil-1-2/
LOCATION:Polestar Pilates\, Krefelder Straße 18\, Köln\, info@polestarpilates.de\, 50670\, Germany
CATEGORIES:Fortbildung
ATTACH;FMTTYPE=image/png:https://pilates-verband.org/wp-content/uploads/POLESTAR_Logo.png
END:VEVENT
BEGIN:VEVENT
DTSTART;VALUE=DATE:20261025
DTEND;VALUE=DATE:20261026
DTSTAMP:20260421T135033
CREATED:20260316T082029Z
LAST-MODIFIED:20260316T082029Z
UID:10372-1792886400-1792972799@pilates-verband.org
SUMMARY:Teacher Training Mat 5
DESCRIPTION:TTM 5 – Introduction of all Intermediate Exercises\n Veranstaltungsort: Berlin
URL:https://pilates-verband.org/event/teacher-training-mat-5-2/
LOCATION:Pilates Studio Berlin – Galina Rohleder\, Kurfürstendamm 69\, Berlin\, info@pilates-studio.berlin\, 10707\, Germany
CATEGORIES:Ausbildung
ATTACH;FMTTYPE=image/svg+xml:https://pilates-verband.org/wp-content/uploads/pilates-studio-berlin-galina-rohleder-logo.svg
END:VEVENT
BEGIN:VEVENT
DTSTART;VALUE=DATE:20261025
DTEND;VALUE=DATE:20261026
DTSTAMP:20260421T135033
CREATED:20260415T065649Z
LAST-MODIFIED:20260415T065649Z
UID:10468-1792886400-1792972799@pilates-verband.org
SUMMARY:Pilates für Frauengesundheit Teil 2
DESCRIPTION:Pilates für Frauengesundheit Teil 2\n Veranstaltungsort: Online Live
URL:https://pilates-verband.org/event/pilates-fuer-frauengesundheit-teil-2-2/
LOCATION:Polestar Pilates\, Krefelder Straße 18\, Köln\, info@polestarpilates.de\, 50670\, Germany
CATEGORIES:Fortbildung
ATTACH;FMTTYPE=image/png:https://pilates-verband.org/wp-content/uploads/POLESTAR_Logo.png
END:VEVENT
BEGIN:VEVENT
DTSTART;VALUE=DATE:20261030
DTEND;VALUE=DATE:20261102
DTSTAMP:20260421T135033
CREATED:20260317T113923Z
LAST-MODIFIED:20260317T113923Z
UID:10405-1793318400-1793577599@pilates-verband.org
SUMMARY:Intensive Mat Plus Teil 3
DESCRIPTION:Intensive Mat Plus Teil 3\n \n \n \n Veranstaltungsort: München
URL:https://pilates-verband.org/event/intensive-mat-plus-teil-3/
LOCATION:Pilatesbody eK\, Wittelsbacherstraße 16\, München\, michaela.bimbi-dresp@t-online.de\, 80469\, Germany
CATEGORIES:Ausbildung
ATTACH;FMTTYPE=image/png:https://pilates-verband.org/wp-content/uploads/pilatesbody-logo.png
END:VEVENT
BEGIN:VEVENT
DTSTART;VALUE=DATE:20261030
DTEND;VALUE=DATE:20261102
DTSTAMP:20260421T135033
CREATED:20260317T114753Z
LAST-MODIFIED:20260317T114753Z
UID:10421-1793318400-1793577599@pilates-verband.org
SUMMARY:Intensive Mat Plus Teil 3
DESCRIPTION:Intensive Mat Plus Teil 3\n \n \n \n \n Veranstaltungsort: München
URL:https://pilates-verband.org/event/intensive-mat-plus-teil-3-2/
LOCATION:Merrithew®\, 500-2200 Yonge St\, Toronto\, emeaeducation@merrithew.com\, ON M4S 2C6\, Canada
CATEGORIES:Ausbildung
ATTACH;FMTTYPE=image/svg+xml:https://pilates-verband.org/wp-content/uploads/merrithew-logo.svg
END:VEVENT
BEGIN:VEVENT
DTSTART;VALUE=DATE:20261101
DTEND;VALUE=DATE:20261102
DTSTAMP:20260421T135033
CREATED:20251215T142053Z
LAST-MODIFIED:20251215T142053Z
UID:9991-1793491200-1793577599@pilates-verband.org
SUMMARY:Ausbildung
DESCRIPTION:Ausbildung\n Veranstaltungsort: Berlin
URL:https://pilates-verband.org/event/ausbildung-2/
LOCATION:Core Pilates\, Planufer 92\, Berlin\, training@corepilates.de\, 10967\, Germany
CATEGORIES:Ausbildung
ATTACH;FMTTYPE=image/svg+xml:https://pilates-verband.org/wp-content/uploads/core-pilates-logo.svg
END:VEVENT
BEGIN:VEVENT
DTSTART;VALUE=DATE:20261101
DTEND;VALUE=DATE:20261102
DTSTAMP:20260421T135033
CREATED:20251215T142443Z
LAST-MODIFIED:20251215T142443Z
UID:10000-1793491200-1793577599@pilates-verband.org
SUMMARY:Ausbildung
DESCRIPTION:Ausbildung\n Veranstaltungsort: Dresden
URL:https://pilates-verband.org/event/ausbildung-6/
LOCATION:Core Pilates\, Planufer 92\, Berlin\, training@corepilates.de\, 10967\, Germany
CATEGORIES:Ausbildung
ATTACH;FMTTYPE=image/svg+xml:https://pilates-verband.org/wp-content/uploads/core-pilates-logo.svg
END:VEVENT
BEGIN:VEVENT
DTSTART;VALUE=DATE:20261107
DTEND;VALUE=DATE:20261108
DTSTAMP:20260421T135033
CREATED:20251120T103037Z
LAST-MODIFIED:20251120T103037Z
UID:9823-1794009600-1794095999@pilates-verband.org
SUMMARY:07 Practice Day
DESCRIPTION:07 Practice Day\n Veranstaltungsort: Köln
URL:https://pilates-verband.org/event/07-practice-day-11/
LOCATION:Pilates Bodymotion Studio und Ausbildungszentrum\, Hauptstraße 64-68\, Köln\, info@pilates-bodymotion.de\, 50996\, Germany
CATEGORIES:Ausbildung
ATTACH;FMTTYPE=image/svg+xml:https://pilates-verband.org/wp-content/uploads/pilates-bodymotion-logo.svg
END:VEVENT
BEGIN:VEVENT
DTSTART;VALUE=DATE:20261107
DTEND;VALUE=DATE:20261108
DTSTAMP:20260421T135033
CREATED:20260113T082810Z
LAST-MODIFIED:20260113T082810Z
UID:10100-1794009600-1794095999@pilates-verband.org
SUMMARY:Trainingskonzepte mit der Rolle & Circle (Level 2-3)
DESCRIPTION:Training + Didaktik – Fortgeschritten\n Veranstaltungsort: Dresden
URL:https://pilates-verband.org/event/trainingskonzepte-mit-der-rolle-circle-level-2-3-2/
LOCATION:koerpergerecht\, Brucknerstraße 5a\, Dresden\, info@studio-koerpergerecht.de\, 01309\, Germany
CATEGORIES:Fortbildung
ATTACH;FMTTYPE=image/png:https://pilates-verband.org/wp-content/uploads/koerpergerecht-logo.png
END:VEVENT
BEGIN:VEVENT
DTSTART;VALUE=DATE:20261107
DTEND;VALUE=DATE:20261109
DTSTAMP:20260421T135033
CREATED:20251120T142721Z
LAST-MODIFIED:20251120T143802Z
UID:9842-1794009600-1794182399@pilates-verband.org
SUMMARY:21 Dos and Donts - Online
DESCRIPTION:21 Dos and Donts – Online\n Veranstaltungsort: Köln
URL:https://pilates-verband.org/event/21-dos-and-donts-3/
LOCATION:Pilates Bodymotion Studio und Ausbildungszentrum\, Hauptstraße 64-68\, Köln\, info@pilates-bodymotion.de\, 50996\, Germany
CATEGORIES:Ausbildung
ATTACH;FMTTYPE=image/svg+xml:https://pilates-verband.org/wp-content/uploads/pilates-bodymotion-logo.svg
END:VEVENT
BEGIN:VEVENT
DTSTART;VALUE=DATE:20261107
DTEND;VALUE=DATE:20261109
DTSTAMP:20260421T135033
CREATED:20251203T131626Z
LAST-MODIFIED:20260223T141129Z
UID:9878-1794009600-1794182399@pilates-verband.org
SUMMARY:Matte Track 2 - Modul 5
DESCRIPTION:Matte Track 2 – Modul 5\n\n\n\n\n Veranstaltungsort: Bremen
URL:https://pilates-verband.org/event/9878/
LOCATION:Essence Pilates\, Kirchweg 204-208\, Bremen\, studio@essence-pilates.de\, 28199\, Germany
CATEGORIES:Ausbildung
ATTACH;FMTTYPE=image/png:https://pilates-verband.org/wp-content/uploads/essence-pilates-logo.png
END:VEVENT
BEGIN:VEVENT
DTSTART;VALUE=DATE:20261107
DTEND;VALUE=DATE:20261109
DTSTAMP:20260421T135033
CREATED:20260225T104839Z
LAST-MODIFIED:20260225T104839Z
UID:10175-1794009600-1794182399@pilates-verband.org
SUMMARY:Modul 2 - keep in motion PILATES CLASSIC Lizenz
DESCRIPTION:Ausbildung zum keep in motion PILATES CLASSIC Trainer – Modul 2\n Veranstaltungsort: Teisendorf
URL:https://pilates-verband.org/event/modul-2-keep-in-motion-pilates-classic-lizenz/
LOCATION:keep in motion\, Sendlingerstraße 56\, München\, info@pilates-in-muenchen.de\, 80331\, Germany
CATEGORIES:Ausbildung
ATTACH;FMTTYPE=image/jpeg:https://pilates-verband.org/wp-content/uploads/keep-in-motion-pilates-logo.jpg
END:VEVENT
BEGIN:VEVENT
DTSTART;VALUE=DATE:20261108
DTEND;VALUE=DATE:20261109
DTSTAMP:20260421T135033
CREATED:20251120T103106Z
LAST-MODIFIED:20251120T103106Z
UID:9825-1794096000-1794182399@pilates-verband.org
SUMMARY:07 Practice Day
DESCRIPTION:07 Practice Day\n Veranstaltungsort: Köln
URL:https://pilates-verband.org/event/07-practice-day-12/
LOCATION:Pilates Bodymotion Studio und Ausbildungszentrum\, Hauptstraße 64-68\, Köln\, info@pilates-bodymotion.de\, 50996\, Germany
CATEGORIES:Ausbildung
ATTACH;FMTTYPE=image/svg+xml:https://pilates-verband.org/wp-content/uploads/pilates-bodymotion-logo.svg
END:VEVENT
BEGIN:VEVENT
DTSTART;VALUE=DATE:20261108
DTEND;VALUE=DATE:20261109
DTSTAMP:20260421T135033
CREATED:20260316T082115Z
LAST-MODIFIED:20260316T082115Z
UID:10374-1794096000-1794182399@pilates-verband.org
SUMMARY:Teacher Training Mat 6
DESCRIPTION:TTM 6 – Understanding the anatomy and correct movement in all Intermediate exercises\n Veranstaltungsort: Berlin
URL:https://pilates-verband.org/event/teacher-training-mat-6-2/
LOCATION:Pilates Studio Berlin – Galina Rohleder\, Kurfürstendamm 69\, Berlin\, info@pilates-studio.berlin\, 10707\, Germany
CATEGORIES:Ausbildung
ATTACH;FMTTYPE=image/svg+xml:https://pilates-verband.org/wp-content/uploads/pilates-studio-berlin-galina-rohleder-logo.svg
END:VEVENT
BEGIN:VEVENT
DTSTART;VALUE=DATE:20261113
DTEND;VALUE=DATE:20261116
DTSTAMP:20260421T135033
CREATED:20260202T145716Z
LAST-MODIFIED:20260202T145716Z
UID:10146-1794528000-1794787199@pilates-verband.org
SUMMARY:Contrology Workshop
DESCRIPTION:Contrology Workshop\n Veranstaltungsort: Berlin
URL:https://pilates-verband.org/event/contrology-workshop-2/
LOCATION:Core Pilates\, Planufer 92\, Berlin\, training@corepilates.de\, 10967\, Germany
CATEGORIES:Fortbildung
ATTACH;FMTTYPE=image/svg+xml:https://pilates-verband.org/wp-content/uploads/core-pilates-logo.svg
END:VEVENT
BEGIN:VEVENT
DTSTART;VALUE=DATE:20261113
DTEND;VALUE=DATE:20261117
DTSTAMP:20260421T135033
CREATED:20250512T073751Z
LAST-MODIFIED:20250512T073751Z
UID:8808-1794528000-1794873599@pilates-verband.org
SUMMARY:Injuries & Special Populations
DESCRIPTION:Verletzungen & besondere Bevölkerungsgruppen (ISP) vermittelt Ihnen die erforderlichen Fähigkeiten\, um ein breites Spektrum an körperlichen Herausforderungen bei Ihren Klienten zu bewältigen.\n Veranstaltungsort: Dresden
URL:https://pilates-verband.org/event/injuries-special-populations-2/
LOCATION:Merrithew®\, 500-2200 Yonge St\, Toronto\, emeaeducation@merrithew.com\, ON M4S 2C6\, Canada
CATEGORIES:Ausbildung
ATTACH;FMTTYPE=image/svg+xml:https://pilates-verband.org/wp-content/uploads/merrithew-logo.svg
END:VEVENT
BEGIN:VEVENT
DTSTART;VALUE=DATE:20261114
DTEND;VALUE=DATE:20261115
DTSTAMP:20260421T135033
CREATED:20260415T065737Z
LAST-MODIFIED:20260415T065737Z
UID:10470-1794614400-1794700799@pilates-verband.org
SUMMARY:Polestar Pilates meets Spinefitter by Sissel - Matte
DESCRIPTION:Polestar Pilates meets Spinefitter by Sissel – Matte\n Veranstaltungsort: Köln
URL:https://pilates-verband.org/event/polestar-pilates-meets-spinefitter-by-sissel-matte-4/
LOCATION:Polestar Pilates\, Krefelder Straße 18\, Köln\, info@polestarpilates.de\, 50670\, Germany
CATEGORIES:Fortbildung
ATTACH;FMTTYPE=image/png:https://pilates-verband.org/wp-content/uploads/POLESTAR_Logo.png
END:VEVENT
BEGIN:VEVENT
DTSTART;VALUE=DATE:20261114
DTEND;VALUE=DATE:20261116
DTSTAMP:20260421T135033
CREATED:20250731T091134Z
LAST-MODIFIED:20250731T091134Z
UID:9292-1794614400-1794787199@pilates-verband.org
SUMMARY:Fit Core Reformer Zertifizierungslehrgang
DESCRIPTION:Fit Core Reformer Zertifizierungslehrgang\n\n\n\n Veranstaltungsort: Nürnberg
URL:https://pilates-verband.org/event/fit-core-reformer-zertifizierungslehrgang-4/
LOCATION:AVE Pilates Akademie\, Neusalzer Str. 4\, Nürnberg\, info@workout-nuernberg.de\, 90473\, Germany
CATEGORIES:Fortbildung
ATTACH;FMTTYPE=image/svg+xml:https://pilates-verband.org/wp-content/uploads/ave-pilates-akademie-logo.svg
END:VEVENT
END:VCALENDAR