BEGIN:VCALENDAR
VERSION:2.0
PRODID:-//DPV - ECPv6.15.20//NONSGML v1.0//EN
CALSCALE:GREGORIAN
METHOD:PUBLISH
X-ORIGINAL-URL:https://pilates-verband.org
X-WR-CALDESC:Veranstaltungen für DPV
REFRESH-INTERVAL;VALUE=DURATION:PT1H
X-Robots-Tag:noindex
X-PUBLISHED-TTL:PT1H
BEGIN:VTIMEZONE
TZID:Europe/Berlin
BEGIN:DAYLIGHT
TZOFFSETFROM:+0100
TZOFFSETTO:+0200
TZNAME:CEST
DTSTART:20230326T010000
END:DAYLIGHT
BEGIN:STANDARD
TZOFFSETFROM:+0200
TZOFFSETTO:+0100
TZNAME:CET
DTSTART:20231029T010000
END:STANDARD
BEGIN:DAYLIGHT
TZOFFSETFROM:+0100
TZOFFSETTO:+0200
TZNAME:CEST
DTSTART:20240331T010000
END:DAYLIGHT
BEGIN:STANDARD
TZOFFSETFROM:+0200
TZOFFSETTO:+0100
TZNAME:CET
DTSTART:20241027T010000
END:STANDARD
BEGIN:DAYLIGHT
TZOFFSETFROM:+0100
TZOFFSETTO:+0200
TZNAME:CEST
DTSTART:20250330T010000
END:DAYLIGHT
BEGIN:STANDARD
TZOFFSETFROM:+0200
TZOFFSETTO:+0100
TZNAME:CET
DTSTART:20251026T010000
END:STANDARD
END:VTIMEZONE
BEGIN:VEVENT
DTSTART;VALUE=DATE:20240101
DTEND;VALUE=DATE:20250101
DTSTAMP:20260425T123005
CREATED:20231012T091245Z
LAST-MODIFIED:20231012T091245Z
UID:6161-1704067200-1735689599@pilates-verband.org
SUMMARY:Pilates Reformer Modul 2
DESCRIPTION:Pilates Reformer Modul 2\n Veranstaltungsort: Berlin
URL:https://pilates-verband.org/event/pilates-reformer-modul-2/
LOCATION:Pilates Studio Berlin – Galina Rohleder\, Kurfürstendamm 69\, Berlin\, info@pilates-studio.berlin\, 10707\, Germany
CATEGORIES:Ausbildung
ATTACH;FMTTYPE=image/svg+xml:https://pilates-verband.org/wp-content/uploads/pilates-studio-berlin-galina-rohleder-logo.svg
END:VEVENT
BEGIN:VEVENT
DTSTART;VALUE=DATE:20240201
DTEND;VALUE=DATE:20240701
DTSTAMP:20260425T123005
CREATED:20231012T090936Z
LAST-MODIFIED:20231012T090936Z
UID:6157-1706745600-1719791999@pilates-verband.org
SUMMARY:Pilates Mat Teacher Training
DESCRIPTION:Pilates Mat Teacher Training\n Veranstaltungsort: Berlin
URL:https://pilates-verband.org/event/pilates-mat-teacher-training/
LOCATION:Pilates Studio Berlin – Galina Rohleder\, Kurfürstendamm 69\, Berlin\, info@pilates-studio.berlin\, 10707\, Germany
CATEGORIES:Ausbildung
ATTACH;FMTTYPE=image/svg+xml:https://pilates-verband.org/wp-content/uploads/pilates-studio-berlin-galina-rohleder-logo.svg
END:VEVENT
BEGIN:VEVENT
DTSTART;VALUE=DATE:20240201
DTEND;VALUE=DATE:20241221
DTSTAMP:20260425T123005
CREATED:20231128T090215Z
LAST-MODIFIED:20231128T090215Z
UID:6345-1706745600-1734739199@pilates-verband.org
SUMMARY:Teacher Training / Complete System Classical Pilates
DESCRIPTION:Teacher Training / Complete System Classical Pilates\n \n Veranstaltungsort: Berlin
URL:https://pilates-verband.org/event/teacher-training-complete-system-classical-pilates/
LOCATION:Pilates Studio Berlin – Galina Rohleder\, Kurfürstendamm 69\, Berlin\, info@pilates-studio.berlin\, 10707\, Germany
CATEGORIES:Ausbildung
ATTACH;FMTTYPE=image/svg+xml:https://pilates-verband.org/wp-content/uploads/pilates-studio-berlin-galina-rohleder-logo.svg
END:VEVENT
BEGIN:VEVENT
DTSTART;VALUE=DATE:20240529
DTEND;VALUE=DATE:20240603
DTSTAMP:20260425T123005
CREATED:20230316T104423Z
LAST-MODIFIED:20230316T104431Z
UID:5299-1716940800-1717372799@pilates-verband.org
SUMMARY:MEDICAL-STRETCHING® Experte
DESCRIPTION:MEDICAL-STRETCHING® Experte\nmit Kerstin Bredehorn und Jenni Karies\n Veranstaltungsort: Dortmund
URL:https://pilates-verband.org/event/medical-stretching-experte-4/
LOCATION:Die Bewegungsakademie\, Rosemeyerstrasse 2-4\, Dortmund\, info@die-bewegungsakademie.de\, 44139\, Germany
CATEGORIES:Pilatesrelevante Fortbildung
ATTACH;FMTTYPE=image/svg+xml:https://pilates-verband.org/wp-content/uploads/bewegungs-akademie-logo.svg
END:VEVENT
BEGIN:VEVENT
DTSTART;VALUE=DATE:20240601
DTEND;VALUE=DATE:20240602
DTSTAMP:20260425T123005
CREATED:20231130T110858Z
LAST-MODIFIED:20231130T110858Z
UID:6379-1717200000-1717286399@pilates-verband.org
SUMMARY:Reformer Ausbildung Traditionell und Modern- Teil 5
DESCRIPTION:Reformer Ausbildung Traditionell und Modern- Teil 5\n\n Veranstaltungsort: Tönisvorst
URL:https://pilates-verband.org/event/reformer-ausbildung-traditionell-und-modern-teil-5/
LOCATION:pilates-powers\, Westring 1a\, Tönisvorst\, ausbildung@pilates-powers.de\, 47918\, Germany
CATEGORIES:Ausbildung
ATTACH;FMTTYPE=image/png:https://pilates-verband.org/wp-content/uploads/pilates-powers-logo.png
END:VEVENT
BEGIN:VEVENT
DTSTART;VALUE=DATE:20240601
DTEND;VALUE=DATE:20240602
DTSTAMP:20260425T123005
CREATED:20240130T073612Z
LAST-MODIFIED:20240130T073612Z
UID:7153-1717200000-1717286399@pilates-verband.org
SUMMARY:Hands on
DESCRIPTION:Hands on\n Veranstaltungsort: Dortmund
URL:https://pilates-verband.org/event/hands-on-2/
LOCATION:Die Bewegungsakademie\, Rosemeyerstrasse 2-4\, Dortmund\, info@die-bewegungsakademie.de\, 44139\, Germany
CATEGORIES:Fortbildung
ATTACH;FMTTYPE=image/svg+xml:https://pilates-verband.org/wp-content/uploads/bewegungs-akademie-logo.svg
END:VEVENT
BEGIN:VEVENT
DTSTART;VALUE=DATE:20240601
DTEND;VALUE=DATE:20240603
DTSTAMP:20260425T123005
CREATED:20231204T083543Z
LAST-MODIFIED:20240410T062431Z
UID:6410-1717200000-1717372799@pilates-verband.org
SUMMARY:Pilates Matwork CLASSIC Lizenz Modul 1
DESCRIPTION:Matwork absolute beginner + beginner\n Veranstaltungsort: Hasbergen / Osnabrück
URL:https://pilates-verband.org/event/pilates-matwork-classic-lizenz-modul-1/
LOCATION:keep in motion\, Sendlingerstraße 56\, München\, info@pilates-in-muenchen.de\, 80331\, Germany
CATEGORIES:Ausbildung
ATTACH;FMTTYPE=image/jpeg:https://pilates-verband.org/wp-content/uploads/keep-in-motion-pilates-logo.jpg
END:VEVENT
BEGIN:VEVENT
DTSTART;VALUE=DATE:20240601
DTEND;VALUE=DATE:20240603
DTSTAMP:20260425T123005
CREATED:20231205T102049Z
LAST-MODIFIED:20231205T102049Z
UID:6516-1717200000-1717372799@pilates-verband.org
SUMMARY:Matte 2
DESCRIPTION:Matte 2\nKöln 1\n Veranstaltungsort: Köln
URL:https://pilates-verband.org/event/matte-2-5/
LOCATION:Polestar Pilates\, Krefelder Straße 18\, Köln\, info@polestarpilates.de\, 50670\, Germany
CATEGORIES:Ausbildung
ATTACH;FMTTYPE=image/png:https://pilates-verband.org/wp-content/uploads/POLESTAR_Logo.png
END:VEVENT
BEGIN:VEVENT
DTSTART;VALUE=DATE:20240601
DTEND;VALUE=DATE:20240603
DTSTAMP:20260425T123005
CREATED:20240222T105109Z
LAST-MODIFIED:20240226T071843Z
UID:7204-1717200000-1717372799@pilates-verband.org
SUMMARY:The Pi Concept® Mat Instructor Silver Modul 2
DESCRIPTION:The Pi Concept® Mat Instructor Silver N Modul 2\n Veranstaltungsort: Hamburg
URL:https://pilates-verband.org/event/the-pi-concept-mat-instructor-silver-modul-2/
LOCATION:The PI Concept® (TPC)\, Harksheider Str. 6A\, Hamburg\, office@pilatesausbildungszentrum.de\, 22399\, Germany
CATEGORIES:Ausbildung
ATTACH;FMTTYPE=image/png:https://pilates-verband.org/wp-content/uploads/the-pi-concept-logo.png
END:VEVENT
BEGIN:VEVENT
DTSTART;VALUE=DATE:20240601
DTEND;VALUE=DATE:20240603
DTSTAMP:20260425T123005
CREATED:20240222T105542Z
LAST-MODIFIED:20240226T071920Z
UID:7214-1717200000-1717372799@pilates-verband.org
SUMMARY:The Pi Concept® Studio Instructor Silver Modul 2
DESCRIPTION:The Pi Concept® Studio Instructor Silver N Modul 2\n Veranstaltungsort: Hamburg
URL:https://pilates-verband.org/event/the-pi-concept-studio-instructor-silver-modul-2/
LOCATION:The PI Concept® (TPC)\, Harksheider Str. 6A\, Hamburg\, office@pilatesausbildungszentrum.de\, 22399\, Germany
CATEGORIES:Ausbildung
ATTACH;FMTTYPE=image/png:https://pilates-verband.org/wp-content/uploads/the-pi-concept-logo.png
END:VEVENT
BEGIN:VEVENT
DTSTART;VALUE=DATE:20240601
DTEND;VALUE=DATE:20240604
DTSTAMP:20260425T123005
CREATED:20231121T094932Z
LAST-MODIFIED:20231121T094932Z
UID:6290-1717200000-1717459199@pilates-verband.org
SUMMARY:Comprehensive Teacher Training - Modul 3
DESCRIPTION:Comprehensive Teacher Training – Modul 3\n Veranstaltungsort: Berlin
URL:https://pilates-verband.org/event/comprehensive-teacher-training-modul-3/
LOCATION:The Body in Balance Studio\, Mehringdamm 69\, Berlin\, info@pilatesberlin.de\, 10961\, Germany
CATEGORIES:Ausbildung
ATTACH;FMTTYPE=image/svg+xml:https://pilates-verband.org/wp-content/uploads/the-body-in-balance-studio-pilates-berlin.svg
END:VEVENT
BEGIN:VEVENT
DTSTART;VALUE=DATE:20240601
DTEND;VALUE=DATE:20240801
DTSTAMP:20260425T123005
CREATED:20230830T102451Z
LAST-MODIFIED:20231204T083325Z
UID:5926-1717200000-1722470399@pilates-verband.org
SUMMARY:Pilates Matwork PREMIUM Trainer Modul 10
DESCRIPTION:Practice Day\ngenauer Termin nach Absprache mit den Teilnehmern\n Veranstaltungsort: München
URL:https://pilates-verband.org/event/pilates-matwork-premium-trainer-modul-10/
LOCATION:keep in motion\, Sendlingerstraße 56\, München\, info@pilates-in-muenchen.de\, 80331\, Germany
CATEGORIES:Ausbildung
ATTACH;FMTTYPE=image/jpeg:https://pilates-verband.org/wp-content/uploads/keep-in-motion-pilates-logo.jpg
END:VEVENT
BEGIN:VEVENT
DTSTART;VALUE=DATE:20240607
DTEND;VALUE=DATE:20240608
DTSTAMP:20260425T123005
CREATED:20230419T103425Z
LAST-MODIFIED:20230419T103425Z
UID:5562-1717718400-1717804799@pilates-verband.org
SUMMARY:Pilates Matwork CLASSIC Trainer Modul 6
DESCRIPTION:Final Coaching\, Modul 6\n Veranstaltungsort: München
URL:https://pilates-verband.org/event/pilates-matwork-classic-trainer-modul-6/
LOCATION:keep in motion\, Sendlingerstraße 56\, München\, info@pilates-in-muenchen.de\, 80331\, Germany
CATEGORIES:Ausbildung
ATTACH;FMTTYPE=image/jpeg:https://pilates-verband.org/wp-content/uploads/keep-in-motion-pilates-logo.jpg
END:VEVENT
BEGIN:VEVENT
DTSTART;TZID=Europe/Berlin:20240607T100000
DTEND;TZID=Europe/Berlin:20240607T163000
DTSTAMP:20260425T123005
CREATED:20240507T085223Z
LAST-MODIFIED:20240507T085223Z
UID:7491-1717754400-1717777800@pilates-verband.org
SUMMARY:Basiswissen
DESCRIPTION:Basiswissen\n Veranstaltungsort: Datteln
URL:https://pilates-verband.org/event/basiswissen/
LOCATION:körpernah\, Ahsener Straße 130\, Datteln\, info@koerper-nah.de\, 45711\, Germany
CATEGORIES:Ausbildung
ATTACH;FMTTYPE=image/svg+xml:https://pilates-verband.org/wp-content/uploads/koerpernah-logo.svg
END:VEVENT
BEGIN:VEVENT
DTSTART;VALUE=DATE:20240608
DTEND;VALUE=DATE:20240610
DTSTAMP:20260425T123005
CREATED:20230802T072243Z
LAST-MODIFIED:20230802T072543Z
UID:5898-1717804800-1717977599@pilates-verband.org
SUMMARY:Pilates Matwork Trainer Modul 3
DESCRIPTION:Pilates Matwork Trainer Modul 3\n Veranstaltungsort: Bremen
URL:https://pilates-verband.org/event/pilates-matwork-trainer-modul-3-9/
LOCATION:Essence Pilates\, Kirchweg 204-208\, Bremen\, studio@essence-pilates.de\, 28199\, Germany
CATEGORIES:Ausbildung
ATTACH;FMTTYPE=image/png:https://pilates-verband.org/wp-content/uploads/essence-pilates-logo.png
END:VEVENT
BEGIN:VEVENT
DTSTART;VALUE=DATE:20240608
DTEND;VALUE=DATE:20240610
DTSTAMP:20260425T123005
CREATED:20231204T113034Z
LAST-MODIFIED:20231204T113034Z
UID:6428-1717804800-1717977599@pilates-verband.org
SUMMARY:Comprehensive 2
DESCRIPTION:Comprehensive 2\n Veranstaltungsort: Frankfurt
URL:https://pilates-verband.org/event/comprehensive-2/
LOCATION:Polestar Pilates\, Krefelder Straße 18\, Köln\, info@polestarpilates.de\, 50670\, Germany
CATEGORIES:Ausbildung
ATTACH;FMTTYPE=image/png:https://pilates-verband.org/wp-content/uploads/polestar-pilates-logo.png
END:VEVENT
BEGIN:VEVENT
DTSTART;VALUE=DATE:20240608
DTEND;VALUE=DATE:20240610
DTSTAMP:20260425T123005
CREATED:20231204T121951Z
LAST-MODIFIED:20231204T121951Z
UID:6452-1717804800-1717977599@pilates-verband.org
SUMMARY:Comprehensive 4
DESCRIPTION:Comprehensive 4\nKöln 1\n Veranstaltungsort: Köln
URL:https://pilates-verband.org/event/comprehensive-4-2/
LOCATION:Polestar Pilates\, Krefelder Straße 18\, Köln\, info@polestarpilates.de\, 50670\, Germany
CATEGORIES:Ausbildung
ATTACH;FMTTYPE=image/png:https://pilates-verband.org/wp-content/uploads/POLESTAR_Logo.png
END:VEVENT
BEGIN:VEVENT
DTSTART;VALUE=DATE:20240608
DTEND;VALUE=DATE:20240610
DTSTAMP:20260425T123005
CREATED:20231205T092316Z
LAST-MODIFIED:20231205T092316Z
UID:6480-1717804800-1717977599@pilates-verband.org
SUMMARY:Comprehensive 3
DESCRIPTION:Comprehensive 3\n Veranstaltungsort: Basel
URL:https://pilates-verband.org/event/comprehensive-3-4/
LOCATION:Polestar Pilates\, Krefelder Straße 18\, Köln\, info@polestarpilates.de\, 50670\, Germany
CATEGORIES:Ausbildung
ATTACH;FMTTYPE=image/png:https://pilates-verband.org/wp-content/uploads/polestar-pilates-logo.png
END:VEVENT
BEGIN:VEVENT
DTSTART;VALUE=DATE:20240608
DTEND;VALUE=DATE:20240610
DTSTAMP:20260425T123005
CREATED:20231205T103316Z
LAST-MODIFIED:20231205T103316Z
UID:6546-1717804800-1717977599@pilates-verband.org
SUMMARY:Reformer 2
DESCRIPTION:Reformer 2\n Veranstaltungsort: Köln
URL:https://pilates-verband.org/event/reformer-2-5/
LOCATION:Polestar Pilates\, Krefelder Straße 18\, Köln\, info@polestarpilates.de\, 50670\, Germany
CATEGORIES:Ausbildung
ATTACH;FMTTYPE=image/png:https://pilates-verband.org/wp-content/uploads/POLESTAR_Logo.png
END:VEVENT
BEGIN:VEVENT
DTSTART;VALUE=DATE:20240608
DTEND;VALUE=DATE:20240610
DTSTAMP:20260425T123005
CREATED:20240507T085359Z
LAST-MODIFIED:20240507T085359Z
UID:7493-1717804800-1717977599@pilates-verband.org
SUMMARY:Level 0
DESCRIPTION:Level 0\n Veranstaltungsort: Datteln
URL:https://pilates-verband.org/event/level-0/
LOCATION:körpernah\, Ahsener Straße 130\, Datteln\, info@koerper-nah.de\, 45711\, Germany
CATEGORIES:Ausbildung
ATTACH;FMTTYPE=image/svg+xml:https://pilates-verband.org/wp-content/uploads/koerpernah-logo.svg
END:VEVENT
BEGIN:VEVENT
DTSTART;VALUE=DATE:20240608
DTEND;VALUE=DATE:20240610
DTSTAMP:20260425T123005
CREATED:20240522T065613Z
LAST-MODIFIED:20240917T082122Z
UID:7540-1717804800-1717977599@pilates-verband.org
SUMMARY:Pilatesfusion /Functional Übungen und Theraband
DESCRIPTION:Pilatesfusion /Functional Übungen und Theraband\n Veranstaltungsort: Hannover
URL:https://pilates-verband.org/event/pilatesfusion-functional-uebungen-und-theraband/
LOCATION:Pilates Akademie Hannover\, Am Uhrturm 7\, Hannover\, info@completepilates-yoga.de\, 30519\, Germany
CATEGORIES:Fortbildung
ATTACH;FMTTYPE=image/jpeg:https://pilates-verband.org/wp-content/uploads/complete-pilates-akademie-hannover-logo.jpg
END:VEVENT
BEGIN:VEVENT
DTSTART;VALUE=DATE:20240609
DTEND;VALUE=DATE:20240610
DTSTAMP:20260425T123005
CREATED:20231211T083053Z
LAST-MODIFIED:20231211T083058Z
UID:6763-1717891200-1717977599@pilates-verband.org
SUMMARY:Was hat der Fuß mit Rückenschmerzen zu tun?
DESCRIPTION:Faszientherapie\n Veranstaltungsort: Dresden
URL:https://pilates-verband.org/event/was-hat-der-fuss-mit-rueckenschmerzen-zu-tun/
LOCATION:koerpergerecht\, Brucknerstraße 5a\, Dresden\, info@studio-koerpergerecht.de\, 01309\, Germany
CATEGORIES:Pilatesrelevante Fortbildung
ATTACH;FMTTYPE=image/png:https://pilates-verband.org/wp-content/uploads/koerpergerecht-logo.png
END:VEVENT
BEGIN:VEVENT
DTSTART;VALUE=DATE:20240614
DTEND;VALUE=DATE:20240617
DTSTAMP:20260425T123005
CREATED:20230929T093230Z
LAST-MODIFIED:20230929T093230Z
UID:6135-1718323200-1718582399@pilates-verband.org
SUMMARY:Reformer Ausbildung: Intensiv Reformer Level 1
DESCRIPTION:Reformer Ausbildung Veranstaltungsort: München
URL:https://pilates-verband.org/event/reformer-ausbildung-intensiv-reformer-level-1-2/
LOCATION:Pilatesbody eK\, Wittelsbacherstraße 16\, München\, michaela.bimbi-dresp@t-online.de\, 80469\, Germany
CATEGORIES:Ausbildung
ATTACH;FMTTYPE=image/png:https://pilates-verband.org/wp-content/uploads/pilatesbody-logo.png
END:VEVENT
BEGIN:VEVENT
DTSTART;VALUE=DATE:20240614
DTEND;VALUE=DATE:20240617
DTSTAMP:20260425T123005
CREATED:20230929T093533Z
LAST-MODIFIED:20230929T093533Z
UID:6141-1718323200-1718582399@pilates-verband.org
SUMMARY:Reformer Ausbildung: Intensiv Reformer Level 1
DESCRIPTION:Reformer Ausbildung Veranstaltungsort: München
URL:https://pilates-verband.org/event/reformer-ausbildung-intensiv-reformer-level-1-5/
LOCATION:Merrithew®\, 500-2200 Yonge St\, Toronto\, emeaeducation@merrithew.com\, ON M4S 2C6\, Canada
CATEGORIES:Ausbildung
ATTACH;FMTTYPE=image/svg+xml:https://pilates-verband.org/wp-content/uploads/merrithew-logo.svg
END:VEVENT
BEGIN:VEVENT
DTSTART;VALUE=DATE:20240614
DTEND;VALUE=DATE:20240617
DTSTAMP:20260425T123005
CREATED:20231013T023213Z
LAST-MODIFIED:20231013T024442Z
UID:6199-1718323200-1718582399@pilates-verband.org
SUMMARY:Berlin Geräte Ausbildung
DESCRIPTION:Studioausbildung (Matte und Geräte) – Modul 7-9\n Veranstaltungsort: Berlin
URL:https://pilates-verband.org/event/berlin-geraete-ausbildung-14/
LOCATION:BASI Pilates\, Kaiser Ludwig Straße 21\, Fürstenfeldbruck\, natascha@basipilates.net\, 82256\, Germany
CATEGORIES:Ausbildung
ATTACH;FMTTYPE=image/svg+xml:https://pilates-verband.org/wp-content/uploads/basi-pilates-logo.svg
END:VEVENT
BEGIN:VEVENT
DTSTART;VALUE=DATE:20240615
DTEND;VALUE=DATE:20240616
DTSTAMP:20260425T123005
CREATED:20231205T110521Z
LAST-MODIFIED:20231205T110541Z
UID:6588-1718409600-1718495999@pilates-verband.org
SUMMARY:Pilates – Rund um den craniosacralen Rhythmus
DESCRIPTION:Pilates – Rund um den craniosacralen Rhythmus\n Veranstaltungsort: Köln
URL:https://pilates-verband.org/event/pilates-rund-um-den-craniosacralen-rhythmus/
LOCATION:Polestar Pilates\, Krefelder Straße 18\, Köln\, info@polestarpilates.de\, 50670\, Germany
CATEGORIES:Fortbildung
ATTACH;FMTTYPE=image/png:https://pilates-verband.org/wp-content/uploads/POLESTAR_Logo.png
END:VEVENT
BEGIN:VEVENT
DTSTART;VALUE=DATE:20240615
DTEND;VALUE=DATE:20240616
DTSTAMP:20260425T123005
CREATED:20240112T045311Z
LAST-MODIFIED:20240112T045311Z
UID:6984-1718409600-1718495999@pilates-verband.org
SUMMARY:Beckenboden - Anatomie + Training
DESCRIPTION:Beckenboden – Anatomie + Training\n Veranstaltungsort: Stuttgart
URL:https://pilates-verband.org/event/beckenboden-anatomie-training/
LOCATION:info@polestarpilates.de
CATEGORIES:Fortbildung
ATTACH;FMTTYPE=image/svg+xml:https://pilates-verband.org/wp-content/uploads/more-pilates-ypga-logo.svg
END:VEVENT
BEGIN:VEVENT
DTSTART;VALUE=DATE:20240615
DTEND;VALUE=DATE:20240617
DTSTAMP:20260425T123005
CREATED:20231013T023218Z
LAST-MODIFIED:20231013T024442Z
UID:6206-1718409600-1718582399@pilates-verband.org
SUMMARY:Frankfurt Matten Ausbildung
DESCRIPTION:Grundausbildung Matte – Modul 5-6\n Veranstaltungsort: Frankfurt
URL:https://pilates-verband.org/event/frankfurt-matten-ausbildung-4/
LOCATION:BASI Pilates\, Kaiser Ludwig Straße 21\, Fürstenfeldbruck\, natascha@basipilates.net\, 82256\, Germany
CATEGORIES:Ausbildung
ATTACH;FMTTYPE=image/svg+xml:https://pilates-verband.org/wp-content/uploads/basi-pilates-logo.svg
END:VEVENT
BEGIN:VEVENT
DTSTART;VALUE=DATE:20240615
DTEND;VALUE=DATE:20240617
DTSTAMP:20260425T123005
CREATED:20231013T023221Z
LAST-MODIFIED:20231013T024441Z
UID:6208-1718409600-1718582399@pilates-verband.org
SUMMARY:Freiburg Geräte Ausbildung
DESCRIPTION:Studioausbildung (Matte und Geräte) – Modul 3-4\n Veranstaltungsort: Freiburg
URL:https://pilates-verband.org/event/freiburg-geraete-ausbildung-12/
LOCATION:BASI Pilates\, Kaiser Ludwig Straße 21\, Fürstenfeldbruck\, natascha@basipilates.net\, 82256\, Germany
CATEGORIES:Ausbildung
END:VEVENT
BEGIN:VEVENT
DTSTART;VALUE=DATE:20240615
DTEND;VALUE=DATE:20240617
DTSTAMP:20260425T123005
CREATED:20231013T023232Z
LAST-MODIFIED:20231013T024441Z
UID:6214-1718409600-1718582399@pilates-verband.org
SUMMARY:Freiburg Matten Ausbildung
DESCRIPTION:Grundausbildung Matte – Modul 3-4\n Veranstaltungsort: Freiburg
URL:https://pilates-verband.org/event/freiburg-matten-ausbildung-8/
LOCATION:BASI Pilates\, Kaiser Ludwig Straße 21\, Fürstenfeldbruck\, natascha@basipilates.net\, 82256\, Germany
CATEGORIES:Ausbildung
ATTACH;FMTTYPE=image/svg+xml:https://pilates-verband.org/wp-content/uploads/basi-pilates-logo.svg
END:VEVENT
END:VCALENDAR