BEGIN:VCALENDAR
VERSION:2.0
PRODID:-//DPV - ECPv6.15.20//NONSGML v1.0//EN
CALSCALE:GREGORIAN
METHOD:PUBLISH
X-ORIGINAL-URL:https://pilates-verband.org
X-WR-CALDESC:Veranstaltungen für DPV
REFRESH-INTERVAL;VALUE=DURATION:PT1H
X-Robots-Tag:noindex
X-PUBLISHED-TTL:PT1H
BEGIN:VTIMEZONE
TZID:Europe/Berlin
BEGIN:DAYLIGHT
TZOFFSETFROM:+0100
TZOFFSETTO:+0200
TZNAME:CEST
DTSTART:20230326T010000
END:DAYLIGHT
BEGIN:STANDARD
TZOFFSETFROM:+0200
TZOFFSETTO:+0100
TZNAME:CET
DTSTART:20231029T010000
END:STANDARD
BEGIN:DAYLIGHT
TZOFFSETFROM:+0100
TZOFFSETTO:+0200
TZNAME:CEST
DTSTART:20240331T010000
END:DAYLIGHT
BEGIN:STANDARD
TZOFFSETFROM:+0200
TZOFFSETTO:+0100
TZNAME:CET
DTSTART:20241027T010000
END:STANDARD
BEGIN:DAYLIGHT
TZOFFSETFROM:+0100
TZOFFSETTO:+0200
TZNAME:CEST
DTSTART:20250330T010000
END:DAYLIGHT
BEGIN:STANDARD
TZOFFSETFROM:+0200
TZOFFSETTO:+0100
TZNAME:CET
DTSTART:20251026T010000
END:STANDARD
END:VTIMEZONE
BEGIN:VEVENT
DTSTART;VALUE=DATE:20240101
DTEND;VALUE=DATE:20250101
DTSTAMP:20260423T023417
CREATED:20231012T091245Z
LAST-MODIFIED:20231012T091245Z
UID:6161-1704067200-1735689599@pilates-verband.org
SUMMARY:Pilates Reformer Modul 2
DESCRIPTION:Pilates Reformer Modul 2\n Veranstaltungsort: Berlin
URL:https://pilates-verband.org/event/pilates-reformer-modul-2/
LOCATION:Pilates Studio Berlin – Galina Rohleder\, Kurfürstendamm 69\, Berlin\, info@pilates-studio.berlin\, 10707\, Germany
CATEGORIES:Ausbildung
ATTACH;FMTTYPE=image/svg+xml:https://pilates-verband.org/wp-content/uploads/pilates-studio-berlin-galina-rohleder-logo.svg
END:VEVENT
BEGIN:VEVENT
DTSTART;VALUE=DATE:20240201
DTEND;VALUE=DATE:20241221
DTSTAMP:20260423T023417
CREATED:20231128T090215Z
LAST-MODIFIED:20231128T090215Z
UID:6345-1706745600-1734739199@pilates-verband.org
SUMMARY:Teacher Training / Complete System Classical Pilates
DESCRIPTION:Teacher Training / Complete System Classical Pilates\n \n Veranstaltungsort: Berlin
URL:https://pilates-verband.org/event/teacher-training-complete-system-classical-pilates/
LOCATION:Pilates Studio Berlin – Galina Rohleder\, Kurfürstendamm 69\, Berlin\, info@pilates-studio.berlin\, 10707\, Germany
CATEGORIES:Ausbildung
ATTACH;FMTTYPE=image/svg+xml:https://pilates-verband.org/wp-content/uploads/pilates-studio-berlin-galina-rohleder-logo.svg
END:VEVENT
BEGIN:VEVENT
DTSTART;VALUE=DATE:20240601
DTEND;VALUE=DATE:20240801
DTSTAMP:20260423T023417
CREATED:20230830T102451Z
LAST-MODIFIED:20231204T083325Z
UID:5926-1717200000-1722470399@pilates-verband.org
SUMMARY:Pilates Matwork PREMIUM Trainer Modul 10
DESCRIPTION:Practice Day\ngenauer Termin nach Absprache mit den Teilnehmern\n Veranstaltungsort: München
URL:https://pilates-verband.org/event/pilates-matwork-premium-trainer-modul-10/
LOCATION:keep in motion\, Sendlingerstraße 56\, München\, info@pilates-in-muenchen.de\, 80331\, Germany
CATEGORIES:Ausbildung
ATTACH;FMTTYPE=image/jpeg:https://pilates-verband.org/wp-content/uploads/keep-in-motion-pilates-logo.jpg
END:VEVENT
BEGIN:VEVENT
DTSTART;VALUE=DATE:20240701
DTEND;VALUE=DATE:20250101
DTSTAMP:20260423T023417
CREATED:20231012T091127Z
LAST-MODIFIED:20231012T091127Z
UID:6159-1719792000-1735689599@pilates-verband.org
SUMMARY:Pilates Reformer Modul 1
DESCRIPTION:Pilates Reformer Modul 1\n Veranstaltungsort: Berlin
URL:https://pilates-verband.org/event/pilates-reformer-modul-1/
LOCATION:Pilates Studio Berlin – Galina Rohleder\, Kurfürstendamm 69\, Berlin\, info@pilates-studio.berlin\, 10707\, Germany
CATEGORIES:Ausbildung
ATTACH;FMTTYPE=image/svg+xml:https://pilates-verband.org/wp-content/uploads/pilates-studio-berlin-galina-rohleder-logo.svg
END:VEVENT
BEGIN:VEVENT
DTSTART;VALUE=DATE:20240705
DTEND;VALUE=DATE:20240706
DTSTAMP:20260423T023417
CREATED:20240122T074211Z
LAST-MODIFIED:20240122T074552Z
UID:7092-1720137600-1720223999@pilates-verband.org
SUMMARY:Berlin Matte mit Kleingeräten
DESCRIPTION:Matte mit Kleingeräten\n Veranstaltungsort: Berlin
URL:https://pilates-verband.org/event/berlin-matte-mit-kleingeraeten-2/
LOCATION:BASI Pilates\, Kaiser Ludwig Straße 21\, Fürstenfeldbruck\, natascha@basipilates.net\, 82256\, Germany
CATEGORIES:Ausbildung,Fortbildung
ATTACH;FMTTYPE=image/svg+xml:https://pilates-verband.org/wp-content/uploads/basi-pilates-logo.svg
END:VEVENT
BEGIN:VEVENT
DTSTART;VALUE=DATE:20240706
DTEND;VALUE=DATE:20240707
DTSTAMP:20260423T023417
CREATED:20240122T074210Z
LAST-MODIFIED:20240122T074552Z
UID:7091-1720224000-1720310399@pilates-verband.org
SUMMARY:Berlin Das Prinzip Fluss in der Mattenklasse
DESCRIPTION:Das Prinzip Fluss in der Mattenklasse\n Veranstaltungsort: Berlin
URL:https://pilates-verband.org/event/berlin-das-prinzip-fluss-in-der-mattenklasse/
LOCATION:BASI Pilates\, Kaiser Ludwig Straße 21\, Fürstenfeldbruck\, natascha@basipilates.net\, 82256\, Germany
CATEGORIES:Ausbildung,Fortbildung
ATTACH;FMTTYPE=image/svg+xml:https://pilates-verband.org/wp-content/uploads/basi-pilates-logo.svg
END:VEVENT
BEGIN:VEVENT
DTSTART;VALUE=DATE:20240706
DTEND;VALUE=DATE:20240708
DTSTAMP:20260423T023417
CREATED:20240121T050342Z
LAST-MODIFIED:20240121T051736Z
UID:7056-1720224000-1720396799@pilates-verband.org
SUMMARY:Pilates Comprehensive Matten Ausbildung
DESCRIPTION:Choreografie\n Veranstaltungsort: Salzburg
URL:https://pilates-verband.org/event/pilates-comprehensive-matten-ausbildung-4/
LOCATION:Kane School\, Josef-Mayburger Kai 28\, Salzburg\, pilatesedu@kaneschool.eu\, 5020\, Austria
CATEGORIES:Ausbildung
ATTACH;FMTTYPE=image/png:https://pilates-verband.org/wp-content/uploads/kane-school-logo.png
END:VEVENT
BEGIN:VEVENT
DTSTART;TZID=Europe/Berlin:20240706T080000
DTEND;TZID=Europe/Berlin:20240706T100000
DTSTAMP:20260423T023417
CREATED:20231227T101915Z
LAST-MODIFIED:20231227T101935Z
UID:6914-1720252800-1720260000@pilates-verband.org
SUMMARY:Flexband level 2: Total Body Sculpting
DESCRIPTION:Flexband level 2 Veranstaltungsort: Online
URL:https://pilates-verband.org/event/flexband-level-2-total-body-sculpting/
LOCATION:Pilatesbody eK\, Wittelsbacherstraße 16\, München\, michaela.bimbi-dresp@t-online.de\, 80469\, Germany
CATEGORIES:Fortbildung
ATTACH;FMTTYPE=image/png:https://pilates-verband.org/wp-content/uploads/pilatesbody-logo.png
END:VEVENT
BEGIN:VEVENT
DTSTART;TZID=Europe/Berlin:20240706T080000
DTEND;TZID=Europe/Berlin:20240706T100000
DTSTAMP:20260423T023417
CREATED:20231227T103245Z
LAST-MODIFIED:20231227T103245Z
UID:6940-1720252800-1720260000@pilates-verband.org
SUMMARY:Flexband level 2: Total Body Sculpting
DESCRIPTION:Flexband level 2 Veranstaltungsort: Online
URL:https://pilates-verband.org/event/flexband-level-2-total-body-sculpting-2/
LOCATION:Merrithew®\, 500-2200 Yonge St\, Toronto\, emeaeducation@merrithew.com\, ON M4S 2C6\, Canada
CATEGORIES:Fortbildung
ATTACH;FMTTYPE=image/svg+xml:https://pilates-verband.org/wp-content/uploads/merrithew-logo.svg
END:VEVENT
BEGIN:VEVENT
DTSTART;TZID=Europe/Berlin:20240706T080000
DTEND;TZID=Europe/Berlin:20240706T100000
DTSTAMP:20260423T023417
CREATED:20240115T065801Z
LAST-MODIFIED:20240115T065801Z
UID:7012-1720252800-1720260000@pilates-verband.org
SUMMARY:Flexband level 2: Total Body Sculpting
DESCRIPTION:Flexband level 2 Veranstaltungsort: Online
URL:https://pilates-verband.org/event/flexband-level-2-total-body-sculpting-3/
LOCATION:Pilatesbody eK\, Wittelsbacherstraße 16\, München\, michaela.bimbi-dresp@t-online.de\, 80469\, Germany
CATEGORIES:Pilatesrelevante Fortbildung
ATTACH;FMTTYPE=image/png:https://pilates-verband.org/wp-content/uploads/pilatesbody-logo.png
END:VEVENT
BEGIN:VEVENT
DTSTART;TZID=Europe/Berlin:20240706T080000
DTEND;TZID=Europe/Berlin:20240706T170000
DTSTAMP:20260423T023417
CREATED:20231205T111453Z
LAST-MODIFIED:20231205T111453Z
UID:6604-1720252800-1720285200@pilates-verband.org
SUMMARY:Koblenz - Pilates Faszientraining auf dem Reformer
DESCRIPTION:Pilates Faszientraining auf dem Reformer\n Veranstaltungsort: Koblenz
URL:https://pilates-verband.org/event/koblenz-pilates-faszientraining-auf-dem-reformer/
LOCATION:Polestar Pilates\, Krefelder Straße 18\, Köln\, info@polestarpilates.de\, 50670\, Germany
CATEGORIES:Fortbildung
ATTACH;FMTTYPE=image/png:https://pilates-verband.org/wp-content/uploads/POLESTAR_Logo.png
END:VEVENT
BEGIN:VEVENT
DTSTART;TZID=Europe/Berlin:20240706T103000
DTEND;TZID=Europe/Berlin:20240706T123000
DTSTAMP:20260423T023417
CREATED:20231227T102050Z
LAST-MODIFIED:20231227T102127Z
UID:6917-1720261800-1720269000@pilates-verband.org
SUMMARY:Flexband level 3: Ultimate Body Sculpting
DESCRIPTION:Flexband level 3 Veranstaltungsort: Online
URL:https://pilates-verband.org/event/6917/
LOCATION:Pilatesbody eK\, Wittelsbacherstraße 16\, München\, michaela.bimbi-dresp@t-online.de\, 80469\, Germany
CATEGORIES:Fortbildung
ATTACH;FMTTYPE=image/png:https://pilates-verband.org/wp-content/uploads/pilatesbody-logo.png
END:VEVENT
BEGIN:VEVENT
DTSTART;TZID=Europe/Berlin:20240706T103000
DTEND;TZID=Europe/Berlin:20240706T123000
DTSTAMP:20260423T023417
CREATED:20231227T103336Z
LAST-MODIFIED:20231227T103431Z
UID:6942-1720261800-1720269000@pilates-verband.org
SUMMARY:Flexband level 3: Ultimate Body Sculpting
DESCRIPTION:Flexband level 3 Veranstaltungsort: Online
URL:https://pilates-verband.org/event/flexband-level-3-ultimate-body-sculpting/
LOCATION:Merrithew®\, 500-2200 Yonge St\, Toronto\, emeaeducation@merrithew.com\, ON M4S 2C6\, Canada
CATEGORIES:Fortbildung
ATTACH;FMTTYPE=image/svg+xml:https://pilates-verband.org/wp-content/uploads/merrithew-logo.svg
END:VEVENT
BEGIN:VEVENT
DTSTART;TZID=Europe/Berlin:20240706T103000
DTEND;TZID=Europe/Berlin:20240706T123000
DTSTAMP:20260423T023417
CREATED:20240115T065936Z
LAST-MODIFIED:20240115T065936Z
UID:7014-1720261800-1720269000@pilates-verband.org
SUMMARY:Flexband level 3: Ultimate Body Sculpting
DESCRIPTION:Flexband level 3 Veranstaltungsort: Online
URL:https://pilates-verband.org/event/flexband-level-3-ultimate-body-sculpting-2/
LOCATION:Pilatesbody eK\, Wittelsbacherstraße 16\, München\, michaela.bimbi-dresp@t-online.de\, 80469\, Germany
CATEGORIES:Pilatesrelevante Fortbildung
ATTACH;FMTTYPE=image/png:https://pilates-verband.org/wp-content/uploads/pilatesbody-logo.png
END:VEVENT
BEGIN:VEVENT
DTSTART;TZID=Europe/Berlin:20240706T130000
DTEND;TZID=Europe/Berlin:20240706T150000
DTSTAMP:20260423T023417
CREATED:20231227T102223Z
LAST-MODIFIED:20231227T102223Z
UID:6920-1720270800-1720278000@pilates-verband.org
SUMMARY:Flexband level 4: Intense Sculpting Challenge
DESCRIPTION:Flexband level 4 Veranstaltungsort: Online
URL:https://pilates-verband.org/event/flexband-level-4-intense-sculpting-challenge/
LOCATION:Pilatesbody eK\, Wittelsbacherstraße 16\, München\, michaela.bimbi-dresp@t-online.de\, 80469\, Germany
CATEGORIES:Fortbildung
ATTACH;FMTTYPE=image/png:https://pilates-verband.org/wp-content/uploads/pilatesbody-logo.png
END:VEVENT
BEGIN:VEVENT
DTSTART;TZID=Europe/Berlin:20240706T130000
DTEND;TZID=Europe/Berlin:20240706T150000
DTSTAMP:20260423T023417
CREATED:20231227T103516Z
LAST-MODIFIED:20231227T103516Z
UID:6945-1720270800-1720278000@pilates-verband.org
SUMMARY:Flexband level 4: Intense Sculpting Challenge
DESCRIPTION:Flexband level 4 Veranstaltungsort: Online
URL:https://pilates-verband.org/event/flexband-level-4-intense-sculpting-challenge-2/
LOCATION:Merrithew®\, 500-2200 Yonge St\, Toronto\, emeaeducation@merrithew.com\, ON M4S 2C6\, Canada
CATEGORIES:Fortbildung
ATTACH;FMTTYPE=image/svg+xml:https://pilates-verband.org/wp-content/uploads/merrithew-logo.svg
END:VEVENT
BEGIN:VEVENT
DTSTART;TZID=Europe/Berlin:20240706T130000
DTEND;TZID=Europe/Berlin:20240706T150000
DTSTAMP:20260423T023417
CREATED:20240115T070050Z
LAST-MODIFIED:20240115T070050Z
UID:7016-1720270800-1720278000@pilates-verband.org
SUMMARY:Flexband level 4: Intense Sculpting Challenge
DESCRIPTION:Flexband level 4 Veranstaltungsort: Online
URL:https://pilates-verband.org/event/flexband-level-4-intense-sculpting-challenge-3/
LOCATION:info@polestarpilates.de
CATEGORIES:Pilatesrelevante Fortbildung
ATTACH;FMTTYPE=image/png:https://pilates-verband.org/wp-content/uploads/pilatesbody-logo.png
END:VEVENT
BEGIN:VEVENT
DTSTART;VALUE=DATE:20240707
DTEND;VALUE=DATE:20240708
DTSTAMP:20260423T023417
CREATED:20240122T074211Z
LAST-MODIFIED:20240122T074552Z
UID:7093-1720310400-1720396799@pilates-verband.org
SUMMARY:Berlin Unterrichtsmethodik - verbales und taktiles Anleiten
DESCRIPTION:Unterrichtsmethodik – verbales und taktiles Anleiten\n Veranstaltungsort: Berlin
URL:https://pilates-verband.org/event/berlin-unterrichtsmethodik-verbales-und-taktiles-anleiten/
LOCATION:BASI Pilates\, Kaiser Ludwig Straße 21\, Fürstenfeldbruck\, natascha@basipilates.net\, 82256\, Germany
CATEGORIES:Ausbildung,Fortbildung
ATTACH;FMTTYPE=image/svg+xml:https://pilates-verband.org/wp-content/uploads/basi-pilates-logo.svg
END:VEVENT
BEGIN:VEVENT
DTSTART;TZID=Europe/Berlin:20240707T080000
DTEND;TZID=Europe/Berlin:20240707T100000
DTSTAMP:20260423T023417
CREATED:20231227T103602Z
LAST-MODIFIED:20231227T103602Z
UID:6947-1720339200-1720346400@pilates-verband.org
SUMMARY:Stability Barrel: Create Balance and Control
DESCRIPTION:Stability Barrel Veranstaltungsort: München
URL:https://pilates-verband.org/event/stability-barrel-create-balance-and-control-2/
LOCATION:Merrithew®\, 500-2200 Yonge St\, Toronto\, emeaeducation@merrithew.com\, ON M4S 2C6\, Canada
CATEGORIES:Fortbildung
ATTACH;FMTTYPE=image/svg+xml:https://pilates-verband.org/wp-content/uploads/merrithew-logo.svg
END:VEVENT
BEGIN:VEVENT
DTSTART;TZID=Europe/Berlin:20240707T080000
DTEND;TZID=Europe/Berlin:20240707T100000
DTSTAMP:20260423T023417
CREATED:20240115T070320Z
LAST-MODIFIED:20240115T070320Z
UID:7018-1720339200-1720346400@pilates-verband.org
SUMMARY:tability Barrel: Create Balance and Control
DESCRIPTION:Stability Barrel Veranstaltungsort: München
URL:https://pilates-verband.org/event/tability-barrel-create-balance-and-control/
LOCATION:info@polestarpilates.de
CATEGORIES:Fortbildung
ATTACH;FMTTYPE=image/png:https://pilates-verband.org/wp-content/uploads/pilatesbody-logo.png
END:VEVENT
BEGIN:VEVENT
DTSTART;TZID=Europe/Berlin:20240707T080000
DTEND;TZID=Europe/Berlin:20240707T100000
DTSTAMP:20260423T023417
CREATED:20240116T052213Z
LAST-MODIFIED:20240116T052213Z
UID:7028-1720339200-1720346400@pilates-verband.org
SUMMARY:Stability Barrel: Create Balance and
DESCRIPTION:Stability Barrel Veranstaltungsort: München
URL:https://pilates-verband.org/event/stability-barrel-create-balance-and/
LOCATION:Merrithew®\, 500-2200 Yonge St\, Toronto\, emeaeducation@merrithew.com\, ON M4S 2C6\, Canada
CATEGORIES:Fortbildung
ATTACH;FMTTYPE=image/svg+xml:https://pilates-verband.org/wp-content/uploads/merrithew-logo.svg
END:VEVENT
BEGIN:VEVENT
DTSTART;TZID=Europe/Berlin:20240707T080000
DTEND;TZID=Europe/Berlin:20240707T170000
DTSTAMP:20260423T023417
CREATED:20231227T102303Z
LAST-MODIFIED:20231227T102303Z
UID:6922-1720339200-1720371600@pilates-verband.org
SUMMARY:Stability Barrel: Create Balance and Control
DESCRIPTION:Stability Barrel Veranstaltungsort: München
URL:https://pilates-verband.org/event/stability-barrel-create-balance-and-control/
LOCATION:Pilatesbody eK\, Wittelsbacherstraße 16\, München\, michaela.bimbi-dresp@t-online.de\, 80469\, Germany
CATEGORIES:Fortbildung
ATTACH;FMTTYPE=image/png:https://pilates-verband.org/wp-content/uploads/pilatesbody-logo.png
END:VEVENT
BEGIN:VEVENT
DTSTART;TZID=Europe/Berlin:20240707T103000
DTEND;TZID=Europe/Berlin:20240707T123000
DTSTAMP:20260423T023417
CREATED:20231227T102358Z
LAST-MODIFIED:20231227T102358Z
UID:6924-1720348200-1720355400@pilates-verband.org
SUMMARY:Stability Barrel Flow: Intermediate Challenge
DESCRIPTION:Stability Barrel Flow Veranstaltungsort: München
URL:https://pilates-verband.org/event/stability-barrel-flow-intermediate-challenge/
LOCATION:Pilatesbody eK\, Wittelsbacherstraße 16\, München\, michaela.bimbi-dresp@t-online.de\, 80469\, Germany
CATEGORIES:Fortbildung
ATTACH;FMTTYPE=image/png:https://pilates-verband.org/wp-content/uploads/pilatesbody-logo.png
END:VEVENT
BEGIN:VEVENT
DTSTART;TZID=Europe/Berlin:20240707T103000
DTEND;TZID=Europe/Berlin:20240707T123000
DTSTAMP:20260423T023417
CREATED:20231227T103647Z
LAST-MODIFIED:20231227T103647Z
UID:6949-1720348200-1720355400@pilates-verband.org
SUMMARY:Stability Barrel Flow: Intermediate Challenge
DESCRIPTION: Stability Barrel Flow Veranstaltungsort: München
URL:https://pilates-verband.org/event/stability-barrel-flow-intermediate-challenge-2/
LOCATION:Merrithew®\, 500-2200 Yonge St\, Toronto\, emeaeducation@merrithew.com\, ON M4S 2C6\, Canada
CATEGORIES:Fortbildung
ATTACH;FMTTYPE=image/svg+xml:https://pilates-verband.org/wp-content/uploads/merrithew-logo.svg
END:VEVENT
BEGIN:VEVENT
DTSTART;TZID=Europe/Berlin:20240707T103000
DTEND;TZID=Europe/Berlin:20240707T123000
DTSTAMP:20260423T023417
CREATED:20240115T070518Z
LAST-MODIFIED:20240115T070518Z
UID:7020-1720348200-1720355400@pilates-verband.org
SUMMARY:Stability Barrel Flow: Intermediate Challenge
DESCRIPTION:Stability Barrel Flow Veranstaltungsort: München
URL:https://pilates-verband.org/event/stability-barrel-flow-intermediate-challenge-3/
LOCATION:Pilatesbody eK\, Wittelsbacherstraße 16\, München\, michaela.bimbi-dresp@t-online.de\, 80469\, Germany
CATEGORIES:Fortbildung
ATTACH;FMTTYPE=image/png:https://pilates-verband.org/wp-content/uploads/pilatesbody-logo.png
END:VEVENT
BEGIN:VEVENT
DTSTART;TZID=Europe/Berlin:20240707T103000
DTEND;TZID=Europe/Berlin:20240707T123000
DTSTAMP:20260423T023417
CREATED:20240116T052339Z
LAST-MODIFIED:20240116T052339Z
UID:7030-1720348200-1720355400@pilates-verband.org
SUMMARY:Stability Barrel Flow: Intermediate Challenge
DESCRIPTION:Stability Barrel Flow Veranstaltungsort: München
URL:https://pilates-verband.org/event/stability-barrel-flow-intermediate-challenge-4/
LOCATION:info@polestarpilates.de
CATEGORIES:Fortbildung
ATTACH;FMTTYPE=image/svg+xml:https://pilates-verband.org/wp-content/uploads/merrithew-logo.svg
END:VEVENT
BEGIN:VEVENT
DTSTART;TZID=Europe/Berlin:20240707T130000
DTEND;TZID=Europe/Berlin:20240707T150000
DTSTAMP:20260423T023417
CREATED:20231227T102444Z
LAST-MODIFIED:20231227T102444Z
UID:6926-1720357200-1720364400@pilates-verband.org
SUMMARY:Athletic Conditioning on the Arc Barrel or Stability Barrel
DESCRIPTION:Athletic Conditioning on the Arc Barrel or Stability Barrel\n Veranstaltungsort: München
URL:https://pilates-verband.org/event/athletic-conditioning-on-the-arc-barrel-or-stability-barrel/
LOCATION:Pilatesbody eK\, Wittelsbacherstraße 16\, München\, michaela.bimbi-dresp@t-online.de\, 80469\, Germany
CATEGORIES:Fortbildung
ATTACH;FMTTYPE=image/png:https://pilates-verband.org/wp-content/uploads/pilatesbody-logo.png
END:VEVENT
BEGIN:VEVENT
DTSTART;TZID=Europe/Berlin:20240707T130000
DTEND;TZID=Europe/Berlin:20240707T150000
DTSTAMP:20260423T023417
CREATED:20231227T103736Z
LAST-MODIFIED:20231227T103736Z
UID:6951-1720357200-1720364400@pilates-verband.org
SUMMARY:Athletic Conditioning on the Arc Barrel or Stability Barrel
DESCRIPTION:Athletic Conditioning on the Arc Barrel or Stability Barrel\n \n Veranstaltungsort: München
URL:https://pilates-verband.org/event/athletic-conditioning-on-the-arc-barrel-or-stability-barrel-2/
LOCATION:Merrithew®\, 500-2200 Yonge St\, Toronto\, emeaeducation@merrithew.com\, ON M4S 2C6\, Canada
CATEGORIES:Fortbildung
ATTACH;FMTTYPE=image/svg+xml:https://pilates-verband.org/wp-content/uploads/merrithew-logo.svg
END:VEVENT
BEGIN:VEVENT
DTSTART;TZID=Europe/Berlin:20240707T130000
DTEND;TZID=Europe/Berlin:20240707T150000
DTSTAMP:20260423T023417
CREATED:20240115T070706Z
LAST-MODIFIED:20240115T070706Z
UID:7022-1720357200-1720364400@pilates-verband.org
SUMMARY:Athletic Conditioning on the Arc Barrel or Stability Barre
DESCRIPTION:Athletic Conditioning on the Arc Barrel or Stability Barre\n Veranstaltungsort: München
URL:https://pilates-verband.org/event/athletic-conditioning-on-the-arc-barrel-or-stability-barre/
LOCATION:info@polestarpilates.de
CATEGORIES:Fortbildung
ATTACH;FMTTYPE=image/png:https://pilates-verband.org/wp-content/uploads/pilatesbody-logo.png
END:VEVENT
BEGIN:VEVENT
DTSTART;TZID=Europe/Berlin:20240707T130000
DTEND;TZID=Europe/Berlin:20240707T150000
DTSTAMP:20260423T023417
CREATED:20240116T052447Z
LAST-MODIFIED:20240116T052447Z
UID:7032-1720357200-1720364400@pilates-verband.org
SUMMARY:Athletic Conditioning on the Arc Barrel or Stability Barrel
DESCRIPTION:Athletic Conditioning on the Arc Barrel or Stability Barrel\n Veranstaltungsort: München
URL:https://pilates-verband.org/event/athletic-conditioning-on-the-arc-barrel-or-stability-barrel-3/
LOCATION:info@polestarpilates.de
CATEGORIES:Fortbildung
ATTACH;FMTTYPE=image/svg+xml:https://pilates-verband.org/wp-content/uploads/merrithew-logo.svg
END:VEVENT
END:VCALENDAR