BEGIN:VCALENDAR
VERSION:2.0
PRODID:-//DPV - ECPv6.15.20//NONSGML v1.0//EN
CALSCALE:GREGORIAN
METHOD:PUBLISH
X-ORIGINAL-URL:https://pilates-verband.org
X-WR-CALDESC:Veranstaltungen für DPV
REFRESH-INTERVAL;VALUE=DURATION:PT1H
X-Robots-Tag:noindex
X-PUBLISHED-TTL:PT1H
BEGIN:VTIMEZONE
TZID:Europe/Berlin
BEGIN:DAYLIGHT
TZOFFSETFROM:+0100
TZOFFSETTO:+0200
TZNAME:CEST
DTSTART:20230326T010000
END:DAYLIGHT
BEGIN:STANDARD
TZOFFSETFROM:+0200
TZOFFSETTO:+0100
TZNAME:CET
DTSTART:20231029T010000
END:STANDARD
BEGIN:DAYLIGHT
TZOFFSETFROM:+0100
TZOFFSETTO:+0200
TZNAME:CEST
DTSTART:20240331T010000
END:DAYLIGHT
BEGIN:STANDARD
TZOFFSETFROM:+0200
TZOFFSETTO:+0100
TZNAME:CET
DTSTART:20241027T010000
END:STANDARD
BEGIN:DAYLIGHT
TZOFFSETFROM:+0100
TZOFFSETTO:+0200
TZNAME:CEST
DTSTART:20250330T010000
END:DAYLIGHT
BEGIN:STANDARD
TZOFFSETFROM:+0200
TZOFFSETTO:+0100
TZNAME:CET
DTSTART:20251026T010000
END:STANDARD
END:VTIMEZONE
BEGIN:VEVENT
DTSTART;VALUE=DATE:20240101
DTEND;VALUE=DATE:20250101
DTSTAMP:20260423T010438
CREATED:20231012T091245Z
LAST-MODIFIED:20231012T091245Z
UID:6161-1704067200-1735689599@pilates-verband.org
SUMMARY:Pilates Reformer Modul 2
DESCRIPTION:Pilates Reformer Modul 2\n Veranstaltungsort: Berlin
URL:https://pilates-verband.org/event/pilates-reformer-modul-2/
LOCATION:Pilates Studio Berlin – Galina Rohleder\, Kurfürstendamm 69\, Berlin\, info@pilates-studio.berlin\, 10707\, Germany
CATEGORIES:Ausbildung
ATTACH;FMTTYPE=image/svg+xml:https://pilates-verband.org/wp-content/uploads/pilates-studio-berlin-galina-rohleder-logo.svg
END:VEVENT
BEGIN:VEVENT
DTSTART;VALUE=DATE:20240201
DTEND;VALUE=DATE:20241221
DTSTAMP:20260423T010438
CREATED:20231128T090215Z
LAST-MODIFIED:20231128T090215Z
UID:6345-1706745600-1734739199@pilates-verband.org
SUMMARY:Teacher Training / Complete System Classical Pilates
DESCRIPTION:Teacher Training / Complete System Classical Pilates\n \n Veranstaltungsort: Berlin
URL:https://pilates-verband.org/event/teacher-training-complete-system-classical-pilates/
LOCATION:Pilates Studio Berlin – Galina Rohleder\, Kurfürstendamm 69\, Berlin\, info@pilates-studio.berlin\, 10707\, Germany
CATEGORIES:Ausbildung
ATTACH;FMTTYPE=image/svg+xml:https://pilates-verband.org/wp-content/uploads/pilates-studio-berlin-galina-rohleder-logo.svg
END:VEVENT
BEGIN:VEVENT
DTSTART;VALUE=DATE:20240701
DTEND;VALUE=DATE:20250101
DTSTAMP:20260423T010438
CREATED:20231012T091127Z
LAST-MODIFIED:20231012T091127Z
UID:6159-1719792000-1735689599@pilates-verband.org
SUMMARY:Pilates Reformer Modul 1
DESCRIPTION:Pilates Reformer Modul 1\n Veranstaltungsort: Berlin
URL:https://pilates-verband.org/event/pilates-reformer-modul-1/
LOCATION:Pilates Studio Berlin – Galina Rohleder\, Kurfürstendamm 69\, Berlin\, info@pilates-studio.berlin\, 10707\, Germany
CATEGORIES:Ausbildung
ATTACH;FMTTYPE=image/svg+xml:https://pilates-verband.org/wp-content/uploads/pilates-studio-berlin-galina-rohleder-logo.svg
END:VEVENT
BEGIN:VEVENT
DTSTART;VALUE=DATE:20240803
DTEND;VALUE=DATE:20240805
DTSTAMP:20260423T010438
CREATED:20240122T074951Z
LAST-MODIFIED:20240122T075313Z
UID:7110-1722643200-1722815999@pilates-verband.org
SUMMARY:München Geräte Ausbildung
DESCRIPTION:Studioausbildung (Matte und Geräte) – Modul 1-2\n Veranstaltungsort: München
URL:https://pilates-verband.org/event/muenchen-geraete-ausbildung-16/
LOCATION:BASI Pilates\, Kaiser Ludwig Straße 21\, Fürstenfeldbruck\, natascha@basipilates.net\, 82256\, Germany
CATEGORIES:Fortbildung
ATTACH;FMTTYPE=image/svg+xml:https://pilates-verband.org/wp-content/uploads/basi-pilates-logo.svg
END:VEVENT
BEGIN:VEVENT
DTSTART;VALUE=DATE:20240803
DTEND;VALUE=DATE:20240805
DTSTAMP:20260423T010438
CREATED:20240122T074954Z
LAST-MODIFIED:20240122T075312Z
UID:7115-1722643200-1722815999@pilates-verband.org
SUMMARY:München Matten Ausbildung
DESCRIPTION:Grundausbildung Matte – Modul 1-2\n Veranstaltungsort: München
URL:https://pilates-verband.org/event/muenchen-matten-ausbildung-8/
LOCATION:BASI Pilates\, Kaiser Ludwig Straße 21\, Fürstenfeldbruck\, natascha@basipilates.net\, 82256\, Germany
CATEGORIES:Fortbildung
END:VEVENT
BEGIN:VEVENT
DTSTART;VALUE=DATE:20240809
DTEND;VALUE=DATE:20240810
DTSTAMP:20260423T010438
CREATED:20240806T090252Z
LAST-MODIFIED:20240806T090252Z
UID:7654-1723161600-1723247999@pilates-verband.org
SUMMARY:Pilates Matwork mit dem SPINEFITTER - Level 1- 2
DESCRIPTION:Pilates Matwork mit dem SPINEFITTER – Level 1-2\n Veranstaltungsort: München
URL:https://pilates-verband.org/event/pilates-matwork-mit-dem-spinefitter-level-1-2/
LOCATION:keep in motion\, Sendlingerstraße 56\, München\, info@pilates-in-muenchen.de\, 80331\, Germany
CATEGORIES:Fortbildung
ATTACH;FMTTYPE=image/jpeg:https://pilates-verband.org/wp-content/uploads/keep-in-motion-pilates-logo.jpg
END:VEVENT
BEGIN:VEVENT
DTSTART;VALUE=DATE:20240810
DTEND;VALUE=DATE:20240812
DTSTAMP:20260423T010438
CREATED:20231204T083657Z
LAST-MODIFIED:20240410T062503Z
UID:6412-1723248000-1723420799@pilates-verband.org
SUMMARY:Pilates Matwork CLASSIC Lizenz Modul 2
DESCRIPTION:Matwork beginner + intermediate\n Veranstaltungsort: Hasbergen / Osnabrück
URL:https://pilates-verband.org/event/pilates-matwork-classic-lizenz-modul-2/
LOCATION:keep in motion\, Sendlingerstraße 56\, München\, info@pilates-in-muenchen.de\, 80331\, Germany
CATEGORIES:Ausbildung
ATTACH;FMTTYPE=image/jpeg:https://pilates-verband.org/wp-content/uploads/keep-in-motion-pilates-logo.jpg
END:VEVENT
BEGIN:VEVENT
DTSTART;VALUE=DATE:20240810
DTEND;VALUE=DATE:20240812
DTSTAMP:20260423T010438
CREATED:20240122T074952Z
LAST-MODIFIED:20240122T075312Z
UID:7111-1723248000-1723420799@pilates-verband.org
SUMMARY:München Geräte Ausbildung
DESCRIPTION:Studioausbildung (Matte und Geräte) – Modul 3-4\n Veranstaltungsort: München
URL:https://pilates-verband.org/event/muenchen-geraete-ausbildung-17/
LOCATION:BASI Pilates\, Kaiser Ludwig Straße 21\, Fürstenfeldbruck\, natascha@basipilates.net\, 82256\, Germany
CATEGORIES:Fortbildung
END:VEVENT
BEGIN:VEVENT
DTSTART;VALUE=DATE:20240810
DTEND;VALUE=DATE:20240812
DTSTAMP:20260423T010438
CREATED:20240122T074954Z
LAST-MODIFIED:20240122T075312Z
UID:7116-1723248000-1723420799@pilates-verband.org
SUMMARY:München Matten Ausbildung
DESCRIPTION:Grundausbildung Matte – Modul 3-4\n Veranstaltungsort: München
URL:https://pilates-verband.org/event/muenchen-matten-ausbildung-9/
LOCATION:BASI Pilates\, Kaiser Ludwig Straße 21\, Fürstenfeldbruck\, natascha@basipilates.net\, 82256\, Germany
CATEGORIES:Fortbildung
ATTACH;FMTTYPE=image/svg+xml:https://pilates-verband.org/wp-content/uploads/basi-pilates-logo.svg
END:VEVENT
BEGIN:VEVENT
DTSTART;VALUE=DATE:20240817
DTEND;VALUE=DATE:20240818
DTSTAMP:20260423T010438
CREATED:20231205T110947Z
LAST-MODIFIED:20231205T110947Z
UID:6598-1723852800-1723939199@pilates-verband.org
SUMMARY:Koblenz - Rund um die Hüfte – Pilates Mattentraining
DESCRIPTION:Rund um die Hüfte – Pilates Mattentraining\n Veranstaltungsort: Koblenz
URL:https://pilates-verband.org/event/koblenz-rund-um-die-huefte-pilates-mattentraining/
LOCATION:Polestar Pilates\, Krefelder Straße 18\, Köln\, info@polestarpilates.de\, 50670\, Germany
CATEGORIES:Fortbildung
ATTACH;FMTTYPE=image/png:https://pilates-verband.org/wp-content/uploads/POLESTAR_Logo.png
END:VEVENT
BEGIN:VEVENT
DTSTART;VALUE=DATE:20240817
DTEND;VALUE=DATE:20240819
DTSTAMP:20260423T010438
CREATED:20231205T103755Z
LAST-MODIFIED:20231205T103755Z
UID:6555-1723852800-1724025599@pilates-verband.org
SUMMARY:Reformer 3
DESCRIPTION:Reformer 3\n Veranstaltungsort: Basel
URL:https://pilates-verband.org/event/reformer-3-6/
LOCATION:Polestar Pilates\, Krefelder Straße 18\, Köln\, info@polestarpilates.de\, 50670\, Germany
CATEGORIES:Ausbildung
ATTACH;FMTTYPE=image/png:https://pilates-verband.org/wp-content/uploads/POLESTAR_Logo.png
END:VEVENT
BEGIN:VEVENT
DTSTART;VALUE=DATE:20240817
DTEND;VALUE=DATE:20240819
DTSTAMP:20260423T010438
CREATED:20240122T074952Z
LAST-MODIFIED:20240122T075312Z
UID:7112-1723852800-1724025599@pilates-verband.org
SUMMARY:München Geräte Ausbildung
DESCRIPTION:Studioausbildung (Matte und Geräte) – Modul 5-6\n Veranstaltungsort: München
URL:https://pilates-verband.org/event/muenchen-geraete-ausbildung-18/
LOCATION:BASI Pilates\, Kaiser Ludwig Straße 21\, Fürstenfeldbruck\, natascha@basipilates.net\, 82256\, Germany
CATEGORIES:Fortbildung
ATTACH;FMTTYPE=image/svg+xml:https://pilates-verband.org/wp-content/uploads/basi-pilates-logo.svg
END:VEVENT
BEGIN:VEVENT
DTSTART;VALUE=DATE:20240817
DTEND;VALUE=DATE:20240819
DTSTAMP:20260423T010438
CREATED:20240122T074954Z
LAST-MODIFIED:20240122T075312Z
UID:7117-1723852800-1724025599@pilates-verband.org
SUMMARY:München Matten Ausbildung
DESCRIPTION:Grundausbildung Matte – Modul 5-6\n Veranstaltungsort: München
URL:https://pilates-verband.org/event/muenchen-matten-ausbildung-10/
LOCATION:BASI Pilates\, Kaiser Ludwig Straße 21\, Fürstenfeldbruck\, natascha@basipilates.net\, 82256\, Germany
CATEGORIES:Fortbildung
ATTACH;FMTTYPE=image/svg+xml:https://pilates-verband.org/wp-content/uploads/basi-pilates-logo.svg
END:VEVENT
BEGIN:VEVENT
DTSTART;TZID=Europe/Berlin:20240817T080000
DTEND;TZID=Europe/Berlin:20240817T170000
DTSTAMP:20260423T010438
CREATED:20231205T111036Z
LAST-MODIFIED:20231205T111036Z
UID:6600-1723881600-1723914000@pilates-verband.org
SUMMARY:Koblenz - Rund um die Hüfte – Pilates Reformertraining
DESCRIPTION:Rund um die Hüfte – Pilates Reformertraining\n Veranstaltungsort: Koblenz
URL:https://pilates-verband.org/event/koblenz-rund-um-die-huefte-pilates-reformertraining/
LOCATION:Polestar Pilates\, Krefelder Straße 18\, Köln\, info@polestarpilates.de\, 50670\, Germany
CATEGORIES:Fortbildung
ATTACH;FMTTYPE=image/png:https://pilates-verband.org/wp-content/uploads/POLESTAR_Logo.png
END:VEVENT
BEGIN:VEVENT
DTSTART;VALUE=DATE:20240822
DTEND;VALUE=DATE:20240909
DTSTAMP:20260423T010438
CREATED:20240422T065443Z
LAST-MODIFIED:20240422T065443Z
UID:7399-1724284800-1725839999@pilates-verband.org
SUMMARY:Intensive Reformer 2nd Edition
DESCRIPTION:Intensive Reformer 2nd Edition\n\n Veranstaltungsort: Dresden
URL:https://pilates-verband.org/event/intensive-reformer-2nd-edition/
LOCATION:Merrithew®\, 500-2200 Yonge St\, Toronto\, emeaeducation@merrithew.com\, ON M4S 2C6\, Canada
CATEGORIES:Ausbildung
ATTACH;FMTTYPE=image/svg+xml:https://pilates-verband.org/wp-content/uploads/merrithew-logo.svg
END:VEVENT
BEGIN:VEVENT
DTSTART;VALUE=DATE:20240823
DTEND;VALUE=DATE:20240824
DTSTAMP:20260423T010438
CREATED:20240806T090337Z
LAST-MODIFIED:20240806T090337Z
UID:7656-1724371200-1724457599@pilates-verband.org
SUMMARY:Pilates Matwork mit dem Sissel Ballkissen - Level 1
DESCRIPTION:Pilates Matwork mit dem Sissel Ballkissen – Level 1\n Veranstaltungsort: München
URL:https://pilates-verband.org/event/pilates-matwork-mit-dem-sissel-ballkissen-level-1/
LOCATION:keep in motion\, Sendlingerstraße 56\, München\, info@pilates-in-muenchen.de\, 80331\, Germany
CATEGORIES:Fortbildung
ATTACH;FMTTYPE=image/jpeg:https://pilates-verband.org/wp-content/uploads/keep-in-motion-pilates-logo.jpg
END:VEVENT
BEGIN:VEVENT
DTSTART;VALUE=DATE:20240823
DTEND;VALUE=DATE:20240826
DTSTAMP:20260423T010438
CREATED:20240121T051020Z
LAST-MODIFIED:20240122T080634Z
UID:7063-1724371200-1724630399@pilates-verband.org
SUMMARY:Equipment Training\, Basic I & II
DESCRIPTION:Equipment Training\, Basic I & II\n Veranstaltungsort: Salzburg
URL:https://pilates-verband.org/event/equipment-training-basic-l-ll-2/
LOCATION:Kane School\, Josef-Mayburger Kai 28\, Salzburg\, pilatesedu@kaneschool.eu\, 5020\, Austria
CATEGORIES:Ausbildung
ATTACH;FMTTYPE=image/png:https://pilates-verband.org/wp-content/uploads/kane-school-logo.png
END:VEVENT
BEGIN:VEVENT
DTSTART;VALUE=DATE:20240824
DTEND;VALUE=DATE:20240825
DTSTAMP:20260423T010438
CREATED:20231130T111513Z
LAST-MODIFIED:20231130T111513Z
UID:6383-1724457600-1724543999@pilates-verband.org
SUMMARY:Ped-O-Pul
DESCRIPTION:Ped-O-Pul\n Veranstaltungsort: Tönisvorst
URL:https://pilates-verband.org/event/ped-o-pul/
LOCATION:pilates-powers\, Westring 1a\, Tönisvorst\, ausbildung@pilates-powers.de\, 47918\, Germany
CATEGORIES:Ausbildung
ATTACH;FMTTYPE=image/png:https://pilates-verband.org/wp-content/uploads/pilates-powers-logo.png
END:VEVENT
BEGIN:VEVENT
DTSTART;VALUE=DATE:20240824
DTEND;VALUE=DATE:20240825
DTSTAMP:20260423T010438
CREATED:20240716T073219Z
LAST-MODIFIED:20240716T073219Z
UID:7625-1724457600-1724543999@pilates-verband.org
SUMMARY:Bodyconnection 1
DESCRIPTION:Bodyconnection 1 \n Veranstaltungsort: Dortmund
URL:https://pilates-verband.org/event/bodyconnection-1/
LOCATION:Die Bewegungsakademie\, Rosemeyerstrasse 2-4\, Dortmund\, info@die-bewegungsakademie.de\, 44139\, Germany
CATEGORIES:Pilatesrelevante Fortbildung
ATTACH;FMTTYPE=image/svg+xml:https://pilates-verband.org/wp-content/uploads/bewegungs-akademie-logo.svg
END:VEVENT
BEGIN:VEVENT
DTSTART;VALUE=DATE:20240824
DTEND;VALUE=DATE:20240826
DTSTAMP:20260423T010438
CREATED:20231013T023255Z
LAST-MODIFIED:20240326T162244Z
UID:6222-1724457600-1724630399@pilates-verband.org
SUMMARY:Köln Geräte Ausbildung
DESCRIPTION:Studioausbildung (Matte und Geräte) – Modul 5-6\n Veranstaltungsort: Köln
URL:https://pilates-verband.org/event/koeln-geraete-ausbildung-3/
LOCATION:BASI Pilates\, Kaiser Ludwig Straße 21\, Fürstenfeldbruck\, natascha@basipilates.net\, 82256\, Germany
CATEGORIES:Ausbildung
ATTACH;FMTTYPE=image/svg+xml:https://pilates-verband.org/wp-content/uploads/basi-pilates-logo.svg
END:VEVENT
BEGIN:VEVENT
DTSTART;VALUE=DATE:20240824
DTEND;VALUE=DATE:20240826
DTSTAMP:20260423T010438
CREATED:20231013T023308Z
LAST-MODIFIED:20240326T162246Z
UID:6228-1724457600-1724630399@pilates-verband.org
SUMMARY:Köln Matten Ausbildung
DESCRIPTION:Grundausbildung Matte – Modul 5-6\n Veranstaltungsort: Köln
URL:https://pilates-verband.org/event/koeln-matten-ausbildung-3/
LOCATION:BASI Pilates\, Kaiser Ludwig Straße 21\, Fürstenfeldbruck\, natascha@basipilates.net\, 82256\, Germany
CATEGORIES:Ausbildung
ATTACH;FMTTYPE=image/svg+xml:https://pilates-verband.org/wp-content/uploads/basi-pilates-logo.svg
END:VEVENT
BEGIN:VEVENT
DTSTART;VALUE=DATE:20240824
DTEND;VALUE=DATE:20240826
DTSTAMP:20260423T010438
CREATED:20231205T101518Z
LAST-MODIFIED:20231205T101518Z
UID:6504-1724457600-1724630399@pilates-verband.org
SUMMARY:Matte 2
DESCRIPTION:Matte 2\n Veranstaltungsort: Frankfurt
URL:https://pilates-verband.org/event/matte-2-3/
LOCATION:Polestar Pilates\, Krefelder Straße 18\, Köln\, info@polestarpilates.de\, 50670\, Germany
CATEGORIES:Ausbildung
ATTACH;FMTTYPE=image/png:https://pilates-verband.org/wp-content/uploads/POLESTAR_Logo.png
END:VEVENT
BEGIN:VEVENT
DTSTART;VALUE=DATE:20240824
DTEND;VALUE=DATE:20240826
DTSTAMP:20260423T010438
CREATED:20231205T102625Z
LAST-MODIFIED:20231205T102625Z
UID:6530-1724457600-1724630399@pilates-verband.org
SUMMARY:Gateway Matte
DESCRIPTION:Gateway Matte\nBasel 2\n Veranstaltungsort: Basel
URL:https://pilates-verband.org/event/gateway-matte-11/
LOCATION:Polestar Pilates\, Krefelder Straße 18\, Köln\, info@polestarpilates.de\, 50670\, Germany
CATEGORIES:Ausbildung
ATTACH;FMTTYPE=image/png:https://pilates-verband.org/wp-content/uploads/POLESTAR_Logo.png
END:VEVENT
BEGIN:VEVENT
DTSTART;VALUE=DATE:20240824
DTEND;VALUE=DATE:20240826
DTSTAMP:20260423T010438
CREATED:20240522T065143Z
LAST-MODIFIED:20240522T065143Z
UID:7532-1724457600-1724630399@pilates-verband.org
SUMMARY:Klassisches Pilates Matwork - Modul 2
DESCRIPTION:Klassisches Pilates Matwork – Modul 2\n Veranstaltungsort: Hannover
URL:https://pilates-verband.org/event/klassisches-pilates-matwork-modul-2/
LOCATION:Pilates Akademie Hannover\, Am Uhrturm 7\, Hannover\, info@completepilates-yoga.de\, 30519\, Germany
CATEGORIES:Ausbildung
ATTACH;FMTTYPE=image/jpeg:https://pilates-verband.org/wp-content/uploads/complete-pilates-akademie-hannover-logo.jpg
END:VEVENT
BEGIN:VEVENT
DTSTART;VALUE=DATE:20240825
DTEND;VALUE=DATE:20240826
DTSTAMP:20260423T010438
CREATED:20240716T073301Z
LAST-MODIFIED:20240716T073301Z
UID:7627-1724544000-1724630399@pilates-verband.org
SUMMARY:Bodyconnection 2
DESCRIPTION:Bodyconnection 2 \n Veranstaltungsort: Dortmund
URL:https://pilates-verband.org/event/bodyconnection-2-2/
LOCATION:Die Bewegungsakademie\, Rosemeyerstrasse 2-4\, Dortmund\, info@die-bewegungsakademie.de\, 44139\, Germany
CATEGORIES:Pilatesrelevante Fortbildung
ATTACH;FMTTYPE=image/svg+xml:https://pilates-verband.org/wp-content/uploads/bewegungs-akademie-logo.svg
END:VEVENT
BEGIN:VEVENT
DTSTART;VALUE=DATE:20240830
DTEND;VALUE=DATE:20240831
DTSTAMP:20260423T010438
CREATED:20240725T095137Z
LAST-MODIFIED:20240725T095137Z
UID:7646-1724976000-1725062399@pilates-verband.org
SUMMARY:Matten Modul
DESCRIPTION:Matten Modul\n Veranstaltungsort: Hamburg
URL:https://pilates-verband.org/event/matten-modul/
LOCATION:Club Pilates Germany\, Brandstwiete 4\, Hamburg\, education@clubpilates.com.de\, 20457\, Germany
CATEGORIES:Ausbildung
ATTACH;FMTTYPE=image/png:https://pilates-verband.org/wp-content/uploads/club-pilates-logo.png
END:VEVENT
BEGIN:VEVENT
DTSTART;VALUE=DATE:20240830
DTEND;VALUE=DATE:20240901
DTSTAMP:20260423T010438
CREATED:20231205T103546Z
LAST-MODIFIED:20231205T103546Z
UID:6549-1724976000-1725148799@pilates-verband.org
SUMMARY:Reformer 3
DESCRIPTION:Reformer 3\n Veranstaltungsort: Köln
URL:https://pilates-verband.org/event/reformer-3-5/
LOCATION:Polestar Pilates\, Krefelder Straße 18\, Köln\, info@polestarpilates.de\, 50670\, Germany
CATEGORIES:Ausbildung
ATTACH;FMTTYPE=image/png:https://pilates-verband.org/wp-content/uploads/POLESTAR_Logo.png
END:VEVENT
BEGIN:VEVENT
DTSTART;VALUE=DATE:20240831
DTEND;VALUE=DATE:20240901
DTSTAMP:20260423T010438
CREATED:20240725T095218Z
LAST-MODIFIED:20240725T095218Z
UID:7648-1725062400-1725148799@pilates-verband.org
SUMMARY:Matten Modul
DESCRIPTION:Matten Modul\n Veranstaltungsort: Hamburg
URL:https://pilates-verband.org/event/matten-modul-2/
LOCATION:Club Pilates Germany\, Brandstwiete 4\, Hamburg\, education@clubpilates.com.de\, 20457\, Germany
CATEGORIES:Ausbildung
ATTACH;FMTTYPE=image/png:https://pilates-verband.org/wp-content/uploads/club-pilates-logo.png
END:VEVENT
BEGIN:VEVENT
DTSTART;VALUE=DATE:20240831
DTEND;VALUE=DATE:20240902
DTSTAMP:20260423T010438
CREATED:20231128T090409Z
LAST-MODIFIED:20231128T090409Z
UID:6347-1725062400-1725235199@pilates-verband.org
SUMMARY:Teacher Training /Classical Matwork
DESCRIPTION:Teacher Training /Classical Matwork\nVoraussetzungen Veranstaltungsort: Berlin
URL:https://pilates-verband.org/event/teacher-training-classical-matwork/
LOCATION:Pilates Studio Berlin – Galina Rohleder\, Kurfürstendamm 69\, Berlin\, info@pilates-studio.berlin\, 10707\, Germany
CATEGORIES:Ausbildung
ATTACH;FMTTYPE=image/svg+xml:https://pilates-verband.org/wp-content/uploads/pilates-studio-berlin-galina-rohleder-logo.svg
END:VEVENT
BEGIN:VEVENT
DTSTART;VALUE=DATE:20240831
DTEND;VALUE=DATE:20240902
DTSTAMP:20260423T010438
CREATED:20231204T122131Z
LAST-MODIFIED:20231204T122131Z
UID:6456-1725062400-1725235199@pilates-verband.org
SUMMARY:Comprehensive 6
DESCRIPTION:Comprehensive 6\nKöln 1\n Veranstaltungsort: Köln
URL:https://pilates-verband.org/event/comprehensive-6-2/
LOCATION:Polestar Pilates\, Krefelder Straße 18\, Köln\, info@polestarpilates.de\, 50670\, Germany
CATEGORIES:Ausbildung
ATTACH;FMTTYPE=image/png:https://pilates-verband.org/wp-content/uploads/POLESTAR_Logo.png
END:VEVENT
END:VCALENDAR