BEGIN:VCALENDAR
VERSION:2.0
PRODID:-//DPV - ECPv6.15.20//NONSGML v1.0//EN
CALSCALE:GREGORIAN
METHOD:PUBLISH
X-ORIGINAL-URL:https://pilates-verband.org
X-WR-CALDESC:Veranstaltungen für DPV
REFRESH-INTERVAL;VALUE=DURATION:PT1H
X-Robots-Tag:noindex
X-PUBLISHED-TTL:PT1H
BEGIN:VTIMEZONE
TZID:Europe/Berlin
BEGIN:DAYLIGHT
TZOFFSETFROM:+0100
TZOFFSETTO:+0200
TZNAME:CEST
DTSTART:20230326T010000
END:DAYLIGHT
BEGIN:STANDARD
TZOFFSETFROM:+0200
TZOFFSETTO:+0100
TZNAME:CET
DTSTART:20231029T010000
END:STANDARD
BEGIN:DAYLIGHT
TZOFFSETFROM:+0100
TZOFFSETTO:+0200
TZNAME:CEST
DTSTART:20240331T010000
END:DAYLIGHT
BEGIN:STANDARD
TZOFFSETFROM:+0200
TZOFFSETTO:+0100
TZNAME:CET
DTSTART:20241027T010000
END:STANDARD
BEGIN:DAYLIGHT
TZOFFSETFROM:+0100
TZOFFSETTO:+0200
TZNAME:CEST
DTSTART:20250330T010000
END:DAYLIGHT
BEGIN:STANDARD
TZOFFSETFROM:+0200
TZOFFSETTO:+0100
TZNAME:CET
DTSTART:20251026T010000
END:STANDARD
END:VTIMEZONE
BEGIN:VEVENT
DTSTART;VALUE=DATE:20240101
DTEND;VALUE=DATE:20250101
DTSTAMP:20260422T232254
CREATED:20231012T091245Z
LAST-MODIFIED:20231012T091245Z
UID:6161-1704067200-1735689599@pilates-verband.org
SUMMARY:Pilates Reformer Modul 2
DESCRIPTION:Pilates Reformer Modul 2\n Veranstaltungsort: Berlin
URL:https://pilates-verband.org/event/pilates-reformer-modul-2/
LOCATION:Pilates Studio Berlin – Galina Rohleder\, Kurfürstendamm 69\, Berlin\, info@pilates-studio.berlin\, 10707\, Germany
CATEGORIES:Ausbildung
ATTACH;FMTTYPE=image/svg+xml:https://pilates-verband.org/wp-content/uploads/pilates-studio-berlin-galina-rohleder-logo.svg
END:VEVENT
BEGIN:VEVENT
DTSTART;VALUE=DATE:20240201
DTEND;VALUE=DATE:20241221
DTSTAMP:20260422T232254
CREATED:20231128T090215Z
LAST-MODIFIED:20231128T090215Z
UID:6345-1706745600-1734739199@pilates-verband.org
SUMMARY:Teacher Training / Complete System Classical Pilates
DESCRIPTION:Teacher Training / Complete System Classical Pilates\n \n Veranstaltungsort: Berlin
URL:https://pilates-verband.org/event/teacher-training-complete-system-classical-pilates/
LOCATION:Pilates Studio Berlin – Galina Rohleder\, Kurfürstendamm 69\, Berlin\, info@pilates-studio.berlin\, 10707\, Germany
CATEGORIES:Ausbildung
ATTACH;FMTTYPE=image/svg+xml:https://pilates-verband.org/wp-content/uploads/pilates-studio-berlin-galina-rohleder-logo.svg
END:VEVENT
BEGIN:VEVENT
DTSTART;VALUE=DATE:20240701
DTEND;VALUE=DATE:20250101
DTSTAMP:20260422T232254
CREATED:20231012T091127Z
LAST-MODIFIED:20231012T091127Z
UID:6159-1719792000-1735689599@pilates-verband.org
SUMMARY:Pilates Reformer Modul 1
DESCRIPTION:Pilates Reformer Modul 1\n Veranstaltungsort: Berlin
URL:https://pilates-verband.org/event/pilates-reformer-modul-1/
LOCATION:Pilates Studio Berlin – Galina Rohleder\, Kurfürstendamm 69\, Berlin\, info@pilates-studio.berlin\, 10707\, Germany
CATEGORIES:Ausbildung
ATTACH;FMTTYPE=image/svg+xml:https://pilates-verband.org/wp-content/uploads/pilates-studio-berlin-galina-rohleder-logo.svg
END:VEVENT
BEGIN:VEVENT
DTSTART;VALUE=DATE:20240822
DTEND;VALUE=DATE:20240909
DTSTAMP:20260422T232254
CREATED:20240422T065443Z
LAST-MODIFIED:20240422T065443Z
UID:7399-1724284800-1725839999@pilates-verband.org
SUMMARY:Intensive Reformer 2nd Edition
DESCRIPTION:Intensive Reformer 2nd Edition\n\n Veranstaltungsort: Dresden
URL:https://pilates-verband.org/event/intensive-reformer-2nd-edition/
LOCATION:Merrithew®\, 500-2200 Yonge St\, Toronto\, emeaeducation@merrithew.com\, ON M4S 2C6\, Canada
CATEGORIES:Ausbildung
ATTACH;FMTTYPE=image/svg+xml:https://pilates-verband.org/wp-content/uploads/merrithew-logo.svg
END:VEVENT
BEGIN:VEVENT
DTSTART;VALUE=DATE:20240831
DTEND;VALUE=DATE:20240902
DTSTAMP:20260422T232254
CREATED:20231128T090409Z
LAST-MODIFIED:20231128T090409Z
UID:6347-1725062400-1725235199@pilates-verband.org
SUMMARY:Teacher Training /Classical Matwork
DESCRIPTION:Teacher Training /Classical Matwork\nVoraussetzungen Veranstaltungsort: Berlin
URL:https://pilates-verband.org/event/teacher-training-classical-matwork/
LOCATION:Pilates Studio Berlin – Galina Rohleder\, Kurfürstendamm 69\, Berlin\, info@pilates-studio.berlin\, 10707\, Germany
CATEGORIES:Ausbildung
ATTACH;FMTTYPE=image/svg+xml:https://pilates-verband.org/wp-content/uploads/pilates-studio-berlin-galina-rohleder-logo.svg
END:VEVENT
BEGIN:VEVENT
DTSTART;VALUE=DATE:20240831
DTEND;VALUE=DATE:20240902
DTSTAMP:20260422T232254
CREATED:20231204T122131Z
LAST-MODIFIED:20231204T122131Z
UID:6456-1725062400-1725235199@pilates-verband.org
SUMMARY:Comprehensive 6
DESCRIPTION:Comprehensive 6\nKöln 1\n Veranstaltungsort: Köln
URL:https://pilates-verband.org/event/comprehensive-6-2/
LOCATION:Polestar Pilates\, Krefelder Straße 18\, Köln\, info@polestarpilates.de\, 50670\, Germany
CATEGORIES:Ausbildung
ATTACH;FMTTYPE=image/png:https://pilates-verband.org/wp-content/uploads/POLESTAR_Logo.png
END:VEVENT
BEGIN:VEVENT
DTSTART;VALUE=DATE:20240831
DTEND;VALUE=DATE:20240902
DTSTAMP:20260422T232254
CREATED:20231205T092430Z
LAST-MODIFIED:20231205T092430Z
UID:6482-1725062400-1725235199@pilates-verband.org
SUMMARY:Comprehensive 4
DESCRIPTION:Comprehensive 4\n Veranstaltungsort: Basel
URL:https://pilates-verband.org/event/comprehensive-4-4/
LOCATION:Polestar Pilates\, Krefelder Straße 18\, Köln\, info@polestarpilates.de\, 50670\, Germany
CATEGORIES:Ausbildung
ATTACH;FMTTYPE=image/png:https://pilates-verband.org/wp-content/uploads/POLESTAR_Logo.png
END:VEVENT
BEGIN:VEVENT
DTSTART;VALUE=DATE:20240901
DTEND;VALUE=DATE:20240902
DTSTAMP:20260422T232254
CREATED:20240725T095255Z
LAST-MODIFIED:20240725T095255Z
UID:7650-1725148800-1725235199@pilates-verband.org
SUMMARY:Reformer
DESCRIPTION:Reformer\n Veranstaltungsort: Hamburg
URL:https://pilates-verband.org/event/reformer/
LOCATION:Club Pilates Germany\, Brandstwiete 4\, Hamburg\, education@clubpilates.com.de\, 20457\, Germany
CATEGORIES:Ausbildung
ATTACH;FMTTYPE=image/png:https://pilates-verband.org/wp-content/uploads/club-pilates-logo.png
END:VEVENT
BEGIN:VEVENT
DTSTART;VALUE=DATE:20240906
DTEND;VALUE=DATE:20240907
DTSTAMP:20260422T232254
CREATED:20240507T085523Z
LAST-MODIFIED:20240507T085915Z
UID:7497-1725580800-1725667199@pilates-verband.org
SUMMARY:Allgemeine Anatomie
DESCRIPTION:Allgemeine Anatomie\n Veranstaltungsort: Datteln
URL:https://pilates-verband.org/event/allgemien-anatomie/
LOCATION:körpernah\, Ahsener Straße 130\, Datteln\, info@koerper-nah.de\, 45711\, Germany
CATEGORIES:Ausbildung
ATTACH;FMTTYPE=image/svg+xml:https://pilates-verband.org/wp-content/uploads/koerpernah-logo.svg
END:VEVENT
BEGIN:VEVENT
DTSTART;VALUE=DATE:20240906
DTEND;VALUE=DATE:20240909
DTSTAMP:20260422T232254
CREATED:20230316T102917Z
LAST-MODIFIED:20230316T102917Z
UID:5273-1725580800-1725839999@pilates-verband.org
SUMMARY:Pilates Matwork Ausbildung Modul 3
DESCRIPTION:Pilates Matwork Ausbildung Modul 3\n Veranstaltungsort: Dortmund
URL:https://pilates-verband.org/event/pilates-matwork-ausbildung-modul-3-2/
LOCATION:Die Bewegungsakademie\, Rosemeyerstrasse 2-4\, Dortmund\, info@die-bewegungsakademie.de\, 44139\, Germany
CATEGORIES:Ausbildung
ATTACH;FMTTYPE=image/svg+xml:https://pilates-verband.org/wp-content/uploads/bewegungs-akademie-logo.svg
END:VEVENT
BEGIN:VEVENT
DTSTART;VALUE=DATE:20240906
DTEND;VALUE=DATE:20240909
DTSTAMP:20260422T232254
CREATED:20231013T023213Z
LAST-MODIFIED:20231013T024439Z
UID:6200-1725580800-1725839999@pilates-verband.org
SUMMARY:Berlin Geräte Ausbildung
DESCRIPTION:Studioausbildung (Matte und Geräte) – Modul 10-12\n Veranstaltungsort: Berlin
URL:https://pilates-verband.org/event/berlin-geraete-ausbildung-15/
LOCATION:BASI Pilates\, Kaiser Ludwig Straße 21\, Fürstenfeldbruck\, natascha@basipilates.net\, 82256\, Germany
CATEGORIES:Ausbildung
ATTACH;FMTTYPE=image/svg+xml:https://pilates-verband.org/wp-content/uploads/basi-pilates-logo.svg
END:VEVENT
BEGIN:VEVENT
DTSTART;VALUE=DATE:20240906
DTEND;VALUE=DATE:20240910
DTSTAMP:20260422T232254
CREATED:20231121T095124Z
LAST-MODIFIED:20231121T095124Z
UID:6294-1725580800-1725926399@pilates-verband.org
SUMMARY:Comprehensive Teacher Training - Modul 5
DESCRIPTION:Comprehensive Teacher Training – Modul 5\n Veranstaltungsort: Berlin
URL:https://pilates-verband.org/event/comprehensive-teacher-training-modul-5/
LOCATION:The Body in Balance Studio\, Mehringdamm 69\, Berlin\, info@pilatesberlin.de\, 10961\, Germany
CATEGORIES:Ausbildung
ATTACH;FMTTYPE=image/svg+xml:https://pilates-verband.org/wp-content/uploads/the-body-in-balance-studio-pilates-berlin.svg
END:VEVENT
BEGIN:VEVENT
DTSTART;VALUE=DATE:20240907
DTEND;VALUE=DATE:20240908
DTSTAMP:20260422T232254
CREATED:20240130T073716Z
LAST-MODIFIED:20240130T073716Z
UID:7155-1725667200-1725753599@pilates-verband.org
SUMMARY:Hands on
DESCRIPTION:Hands on\n Veranstaltungsort: Dortmund
URL:https://pilates-verband.org/event/hands-on-3/
LOCATION:Die Bewegungsakademie\, Rosemeyerstrasse 2-4\, Dortmund\, info@die-bewegungsakademie.de\, 44139\, Germany
CATEGORIES:Fortbildung
ATTACH;FMTTYPE=image/svg+xml:https://pilates-verband.org/wp-content/uploads/bewegungs-akademie-logo.svg
END:VEVENT
BEGIN:VEVENT
DTSTART;VALUE=DATE:20240907
DTEND;VALUE=DATE:20240909
DTSTAMP:20260422T232254
CREATED:20230802T072347Z
LAST-MODIFIED:20231206T115342Z
UID:5900-1725667200-1725839999@pilates-verband.org
SUMMARY:Pilates Matwork Trainer Modul 4
DESCRIPTION:Pilates Matwork Trainer Modul 4\n Veranstaltungsort: Bremen
URL:https://pilates-verband.org/event/pilates-matwork-trainer-modul-4-11/
LOCATION:Essence Pilates\, Kirchweg 204-208\, Bremen\, studio@essence-pilates.de\, 28199\, Germany
CATEGORIES:Ausbildung
ATTACH;FMTTYPE=image/png:https://pilates-verband.org/wp-content/uploads/essence-pilates-logo.png
END:VEVENT
BEGIN:VEVENT
DTSTART;VALUE=DATE:20240907
DTEND;VALUE=DATE:20240909
DTSTAMP:20260422T232254
CREATED:20231205T103002Z
LAST-MODIFIED:20231205T103002Z
UID:6537-1725667200-1725839999@pilates-verband.org
SUMMARY:Gateway Reformer
DESCRIPTION:Gateway Reformer\n Veranstaltungsort: Hamburg
URL:https://pilates-verband.org/event/gateway-reformer-7/
LOCATION:Polestar Pilates\, Krefelder Straße 18\, Köln\, info@polestarpilates.de\, 50670\, Germany
CATEGORIES:Ausbildung
ATTACH;FMTTYPE=image/png:https://pilates-verband.org/wp-content/uploads/POLESTAR_Logo.png
END:VEVENT
BEGIN:VEVENT
DTSTART;VALUE=DATE:20240907
DTEND;VALUE=DATE:20240909
DTSTAMP:20260422T232254
CREATED:20231205T112440Z
LAST-MODIFIED:20231205T112440Z
UID:6625-1725667200-1725839999@pilates-verband.org
SUMMARY:Base - Anatomie in Bewegung – Pilates Basics
DESCRIPTION:Anatomie in Bewegung – Pilates Basics\n Veranstaltungsort: Basel
URL:https://pilates-verband.org/event/base-anatomie-in-bewegung-pilates-basics/
LOCATION:Polestar Pilates\, Krefelder Straße 18\, Köln\, info@polestarpilates.de\, 50670\, Germany
CATEGORIES:Fortbildung
ATTACH;FMTTYPE=image/png:https://pilates-verband.org/wp-content/uploads/POLESTAR_Logo.png
END:VEVENT
BEGIN:VEVENT
DTSTART;VALUE=DATE:20240907
DTEND;VALUE=DATE:20240909
DTSTAMP:20260422T232254
CREATED:20231207T110200Z
LAST-MODIFIED:20231207T110200Z
UID:6735-1725667200-1725839999@pilates-verband.org
SUMMARY:Peak Pilates® Classical Level 2 Modul 1
DESCRIPTION:Peak Pilates® Classical Level 2 Modul 1\n\n Veranstaltungsort: Berlin
URL:https://pilates-verband.org/event/peak-pilates-classical-level-2-modul-1-3/
LOCATION:Core Pilates\, Planufer 92\, Berlin\, training@corepilates.de\, 10967\, Germany
CATEGORIES:Ausbildung
ATTACH;FMTTYPE=image/svg+xml:https://pilates-verband.org/wp-content/uploads/core-pilates-logo.svg
END:VEVENT
BEGIN:VEVENT
DTSTART;VALUE=DATE:20240907
DTEND;VALUE=DATE:20240909
DTSTAMP:20260422T232254
CREATED:20240507T085706Z
LAST-MODIFIED:20240507T085706Z
UID:7499-1725667200-1725839999@pilates-verband.org
SUMMARY:Funktionelle Anatomie
DESCRIPTION:Funktionelle Anatomie\n Veranstaltungsort: Datteln
URL:https://pilates-verband.org/event/funktionelle-anatomie-2/
LOCATION:körpernah\, Ahsener Straße 130\, Datteln\, info@koerper-nah.de\, 45711\, Germany
CATEGORIES:Ausbildung
ATTACH;FMTTYPE=image/svg+xml:https://pilates-verband.org/wp-content/uploads/koerpernah-logo.svg
END:VEVENT
BEGIN:VEVENT
DTSTART;VALUE=DATE:20240910
DTEND;VALUE=DATE:20240911
DTSTAMP:20260422T232254
CREATED:20240910T080149Z
LAST-MODIFIED:20240910T080149Z
UID:7730-1725926400-1726012799@pilates-verband.org
SUMMARY:Total Barre Foundation
DESCRIPTION:Total Barre Foundation\n Veranstaltungsort: München
URL:https://pilates-verband.org/event/total-barre-foundation-2/
LOCATION:Pilatesbody eK\, Wittelsbacherstraße 16\, München\, michaela.bimbi-dresp@t-online.de\, 80469\, Germany
CATEGORIES:Pilatesrelevante Fortbildung
ATTACH;FMTTYPE=image/png:https://pilates-verband.org/wp-content/uploads/pilatesbody-logo.png
END:VEVENT
BEGIN:VEVENT
DTSTART;VALUE=DATE:20240913
DTEND;VALUE=DATE:20240916
DTSTAMP:20260422T232254
CREATED:20230912T072318Z
LAST-MODIFIED:20230912T072318Z
UID:5972-1726185600-1726444799@pilates-verband.org
SUMMARY:Pilates Bewegungsspezialist Modul 3
DESCRIPTION:Pilates Bewegungsspezialist Modul 3\nmit Antje Korte\nPilates Bewegungsspezialist- Mentoring Programm\nVoraussetzung Veranstaltungsort: Dortmund
URL:https://pilates-verband.org/event/pilates-bewegungsspezialist-modul-3/
LOCATION:Die Bewegungsakademie\, Rosemeyerstrasse 2-4\, Dortmund\, info@die-bewegungsakademie.de\, 44139\, Germany
CATEGORIES:Ausbildung
ATTACH;FMTTYPE=image/svg+xml:https://pilates-verband.org/wp-content/uploads/bewegungs-akademie-logo.svg
END:VEVENT
BEGIN:VEVENT
DTSTART;VALUE=DATE:20240913
DTEND;VALUE=DATE:20240916
DTSTAMP:20260422T232254
CREATED:20240403T073144Z
LAST-MODIFIED:20240403T073144Z
UID:7381-1726185600-1726444799@pilates-verband.org
SUMMARY:Intensiv Reformer\, Level 1
DESCRIPTION:Intensiv Reformer\,  Level 1\n Veranstaltungsort: München
URL:https://pilates-verband.org/event/intensiv-reformer-level-1/
LOCATION:Pilatesbody eK\, Wittelsbacherstraße 16\, München\, michaela.bimbi-dresp@t-online.de\, 80469\, Germany
CATEGORIES:Ausbildung
ATTACH;FMTTYPE=image/png:https://pilates-verband.org/wp-content/uploads/pilatesbody-logo.png
END:VEVENT
BEGIN:VEVENT
DTSTART;VALUE=DATE:20240914
DTEND;VALUE=DATE:20240915
DTSTAMP:20260422T232254
CREATED:20231211T083156Z
LAST-MODIFIED:20231211T083156Z
UID:6766-1726272000-1726358399@pilates-verband.org
SUMMARY:Trainingskonzepte mit der Rolle (Level 2-3)
DESCRIPTION:Training + Didaktik – Fortgeschritten\n Veranstaltungsort: Dresden
URL:https://pilates-verband.org/event/trainingskonzepte-mit-der-rolle-level-2-3/
LOCATION:körpernah\, Ahsener Straße 130\, Datteln\, info@koerper-nah.de\, 45711\, Germany
CATEGORIES:Fortbildung
ATTACH;FMTTYPE=image/png:https://pilates-verband.org/wp-content/uploads/koerpergerecht-logo.png
END:VEVENT
BEGIN:VEVENT
DTSTART;VALUE=DATE:20240914
DTEND;VALUE=DATE:20240916
DTSTAMP:20260422T232254
CREATED:20231013T023222Z
LAST-MODIFIED:20231013T024438Z
UID:6210-1726272000-1726444799@pilates-verband.org
SUMMARY:Freiburg Geräte Ausbildung
DESCRIPTION:Studioausbildung (Matte und Geräte) – Modul 7-8\n Veranstaltungsort: Freiburg
URL:https://pilates-verband.org/event/freiburg-geraete-ausbildung-14/
LOCATION:BASI Pilates\, Kaiser Ludwig Straße 21\, Fürstenfeldbruck\, natascha@basipilates.net\, 82256\, Germany
CATEGORIES:Ausbildung
ATTACH;FMTTYPE=image/svg+xml:https://pilates-verband.org/wp-content/uploads/basi-pilates-logo.svg
END:VEVENT
BEGIN:VEVENT
DTSTART;VALUE=DATE:20240914
DTEND;VALUE=DATE:20240916
DTSTAMP:20260422T232254
CREATED:20231122T104949Z
LAST-MODIFIED:20231122T104949Z
UID:6327-1726272000-1726444799@pilates-verband.org
SUMMARY:Mattenausbildung 1
DESCRIPTION:Mattenausbildung 1\n Veranstaltungsort: Stuttgart
URL:https://pilates-verband.org/event/mattenausbildung-1-3/
LOCATION:Pilates New York\, Ostendstraße 72\, Stuttgart\, info@pilates-newyork.de\, 70188\, Germany
CATEGORIES:Ausbildung
ATTACH;FMTTYPE=image/jpeg:https://pilates-verband.org/wp-content/uploads/pilates-new-york-logo.jpg
END:VEVENT
BEGIN:VEVENT
DTSTART;VALUE=DATE:20240914
DTEND;VALUE=DATE:20240916
DTSTAMP:20260422T232254
CREATED:20231128T090457Z
LAST-MODIFIED:20231128T090457Z
UID:6349-1726272000-1726444799@pilates-verband.org
SUMMARY:Teacher Training /Classical Matwork
DESCRIPTION:Teacher Training /Classical Matwork\n Veranstaltungsort: Berlin
URL:https://pilates-verband.org/event/teacher-training-classical-matwork-2/
LOCATION:Pilates Studio Berlin – Galina Rohleder\, Kurfürstendamm 69\, Berlin\, info@pilates-studio.berlin\, 10707\, Germany
CATEGORIES:Ausbildung
ATTACH;FMTTYPE=image/svg+xml:https://pilates-verband.org/wp-content/uploads/pilates-studio-berlin-galina-rohleder-logo.svg
END:VEVENT
BEGIN:VEVENT
DTSTART;VALUE=DATE:20240914
DTEND;VALUE=DATE:20240916
DTSTAMP:20260422T232254
CREATED:20231204T113126Z
LAST-MODIFIED:20231204T115415Z
UID:6430-1726272000-1726444799@pilates-verband.org
SUMMARY:Comprehensive 3
DESCRIPTION:Comprehensive 3\n Veranstaltungsort: Frankfurt
URL:https://pilates-verband.org/event/comprehensive-3/
LOCATION:Polestar Pilates\, Krefelder Straße 18\, Köln\, info@polestarpilates.de\, 50670\, Germany
CATEGORIES:Ausbildung
ATTACH;FMTTYPE=image/png:https://pilates-verband.org/wp-content/uploads/polestar-pilates-logo.png
END:VEVENT
BEGIN:VEVENT
DTSTART;VALUE=DATE:20240914
DTEND;VALUE=DATE:20240916
DTSTAMP:20260422T232254
CREATED:20231205T112319Z
LAST-MODIFIED:20231205T112319Z
UID:6623-1726272000-1726444799@pilates-verband.org
SUMMARY:Köln - Anatomie in Bewegung – Pilates Basics
DESCRIPTION:Anatomie in Bewegung – Pilates Basics\n Veranstaltungsort: Köln
URL:https://pilates-verband.org/event/koeln-anatomie-in-bewegung-pilates-basics-2/
LOCATION:Polestar Pilates\, Krefelder Straße 18\, Köln\, info@polestarpilates.de\, 50670\, Germany
CATEGORIES:Fortbildung
ATTACH;FMTTYPE=image/png:https://pilates-verband.org/wp-content/uploads/POLESTAR_Logo.png
END:VEVENT
BEGIN:VEVENT
DTSTART;VALUE=DATE:20240914
DTEND;VALUE=DATE:20240916
DTSTAMP:20260422T232254
CREATED:20231207T105447Z
LAST-MODIFIED:20231207T105458Z
UID:6719-1726272000-1726444799@pilates-verband.org
SUMMARY:Peak Pilates® Classical Level 1 Modul 1
DESCRIPTION:Peak Pilates® Classical Level 1 Modul 1\n\n\n Veranstaltungsort: Dresden
URL:https://pilates-verband.org/event/peak-pilates-classical-level-1-modul-1-4/
LOCATION:Core Pilates\, Planufer 92\, Berlin\, training@corepilates.de\, 10967\, Germany
CATEGORIES:Ausbildung
ATTACH;FMTTYPE=image/svg+xml:https://pilates-verband.org/wp-content/uploads/core-pilates-logo.svg
END:VEVENT
BEGIN:VEVENT
DTSTART;VALUE=DATE:20240914
DTEND;VALUE=DATE:20240916
DTSTAMP:20260422T232254
CREATED:20240209T064208Z
LAST-MODIFIED:20240209T064916Z
UID:7160-1726272000-1726444799@pilates-verband.org
SUMMARY:Hamburg Geräte Ausbildung
DESCRIPTION:Studioausbildung (Matte und Geräte) – Modul 1-2\n Veranstaltungsort: Hamburg
URL:https://pilates-verband.org/event/hamburg-geraete-ausbildung/
LOCATION:BASI Pilates\, Kaiser Ludwig Straße 21\, Fürstenfeldbruck\, natascha@basipilates.net\, 82256\, Germany
CATEGORIES:Ausbildung
ATTACH;FMTTYPE=image/svg+xml:https://pilates-verband.org/wp-content/uploads/basi-pilates-logo.svg
END:VEVENT
BEGIN:VEVENT
DTSTART;VALUE=DATE:20240914
DTEND;VALUE=DATE:20240916
DTSTAMP:20260422T232254
CREATED:20240209T064211Z
LAST-MODIFIED:20240209T064916Z
UID:7165-1726272000-1726444799@pilates-verband.org
SUMMARY:Hamburg Matten Ausbildung
DESCRIPTION:Grundausbildung Matte – Modul 1-2\n Veranstaltungsort: Hamburg
URL:https://pilates-verband.org/event/hamburg-matten-ausbildung/
LOCATION:BASI Pilates\, Kaiser Ludwig Straße 21\, Fürstenfeldbruck\, natascha@basipilates.net\, 82256\, Germany
CATEGORIES:Ausbildung
ATTACH;FMTTYPE=image/svg+xml:https://pilates-verband.org/wp-content/uploads/basi-pilates-logo.svg
END:VEVENT
END:VCALENDAR