BEGIN:VCALENDAR
VERSION:2.0
PRODID:-//DPV - ECPv6.15.20//NONSGML v1.0//EN
CALSCALE:GREGORIAN
METHOD:PUBLISH
X-WR-CALNAME:DPV
X-ORIGINAL-URL:https://pilates-verband.org
X-WR-CALDESC:Veranstaltungen für DPV
REFRESH-INTERVAL;VALUE=DURATION:PT1H
X-Robots-Tag:noindex
X-PUBLISHED-TTL:PT1H
BEGIN:VTIMEZONE
TZID:Europe/Berlin
BEGIN:DAYLIGHT
TZOFFSETFROM:+0100
TZOFFSETTO:+0200
TZNAME:CEST
DTSTART:20230326T010000
END:DAYLIGHT
BEGIN:STANDARD
TZOFFSETFROM:+0200
TZOFFSETTO:+0100
TZNAME:CET
DTSTART:20231029T010000
END:STANDARD
BEGIN:DAYLIGHT
TZOFFSETFROM:+0100
TZOFFSETTO:+0200
TZNAME:CEST
DTSTART:20240331T010000
END:DAYLIGHT
BEGIN:STANDARD
TZOFFSETFROM:+0200
TZOFFSETTO:+0100
TZNAME:CET
DTSTART:20241027T010000
END:STANDARD
BEGIN:DAYLIGHT
TZOFFSETFROM:+0100
TZOFFSETTO:+0200
TZNAME:CEST
DTSTART:20250330T010000
END:DAYLIGHT
BEGIN:STANDARD
TZOFFSETFROM:+0200
TZOFFSETTO:+0100
TZNAME:CET
DTSTART:20251026T010000
END:STANDARD
END:VTIMEZONE
BEGIN:VEVENT
DTSTART;VALUE=DATE:20240101
DTEND;VALUE=DATE:20250101
DTSTAMP:20260422T183440
CREATED:20231012T091245Z
LAST-MODIFIED:20231012T091245Z
UID:6161-1704067200-1735689599@pilates-verband.org
SUMMARY:Pilates Reformer Modul 2
DESCRIPTION:Pilates Reformer Modul 2\n Veranstaltungsort: Berlin
URL:https://pilates-verband.org/event/pilates-reformer-modul-2/
LOCATION:Pilates Studio Berlin – Galina Rohleder\, Kurfürstendamm 69\, Berlin\, info@pilates-studio.berlin\, 10707\, Germany
CATEGORIES:Ausbildung
ATTACH;FMTTYPE=image/svg+xml:https://pilates-verband.org/wp-content/uploads/pilates-studio-berlin-galina-rohleder-logo.svg
END:VEVENT
BEGIN:VEVENT
DTSTART;VALUE=DATE:20240201
DTEND;VALUE=DATE:20241221
DTSTAMP:20260422T183440
CREATED:20231128T090215Z
LAST-MODIFIED:20231128T090215Z
UID:6345-1706745600-1734739199@pilates-verband.org
SUMMARY:Teacher Training / Complete System Classical Pilates
DESCRIPTION:Teacher Training / Complete System Classical Pilates\n \n Veranstaltungsort: Berlin
URL:https://pilates-verband.org/event/teacher-training-complete-system-classical-pilates/
LOCATION:Pilates Studio Berlin – Galina Rohleder\, Kurfürstendamm 69\, Berlin\, info@pilates-studio.berlin\, 10707\, Germany
CATEGORIES:Ausbildung
ATTACH;FMTTYPE=image/svg+xml:https://pilates-verband.org/wp-content/uploads/pilates-studio-berlin-galina-rohleder-logo.svg
END:VEVENT
BEGIN:VEVENT
DTSTART;VALUE=DATE:20240701
DTEND;VALUE=DATE:20250101
DTSTAMP:20260422T183440
CREATED:20231012T091127Z
LAST-MODIFIED:20231012T091127Z
UID:6159-1719792000-1735689599@pilates-verband.org
SUMMARY:Pilates Reformer Modul 1
DESCRIPTION:Pilates Reformer Modul 1\n Veranstaltungsort: Berlin
URL:https://pilates-verband.org/event/pilates-reformer-modul-1/
LOCATION:Pilates Studio Berlin – Galina Rohleder\, Kurfürstendamm 69\, Berlin\, info@pilates-studio.berlin\, 10707\, Germany
CATEGORIES:Ausbildung
ATTACH;FMTTYPE=image/svg+xml:https://pilates-verband.org/wp-content/uploads/pilates-studio-berlin-galina-rohleder-logo.svg
END:VEVENT
BEGIN:VEVENT
DTSTART;VALUE=DATE:20241012
DTEND;VALUE=DATE:20241209
DTSTAMP:20260422T183440
CREATED:20240119T045957Z
LAST-MODIFIED:20240119T045957Z
UID:7039-1728691200-1733702399@pilates-verband.org
SUMMARY:Pilates Matwork Ausbildung (PTT100)
DESCRIPTION:Pilates Matwork Ausbildung (PTT100)\n Veranstaltungsort: Stuttgart
URL:https://pilates-verband.org/event/pilates-matwork-ausbildung-ptt100/
LOCATION:More – Yoga und Pilates\, Leuschnerstraße 36\, Stuttgart\, pilates-akademie@more.yoga\, 70176\, Germany
CATEGORIES:Ausbildung
ATTACH;FMTTYPE=image/svg+xml:https://pilates-verband.org/wp-content/uploads/more-pilates-ypga-logo.svg
END:VEVENT
BEGIN:VEVENT
DTSTART;VALUE=DATE:20241030
DTEND;VALUE=DATE:20241104
DTSTAMP:20260422T183440
CREATED:20230316T104521Z
LAST-MODIFIED:20230316T104521Z
UID:5302-1730246400-1730678399@pilates-verband.org
SUMMARY:MEDICAL-STRETCHING® Experte
DESCRIPTION:MEDICAL-STRETCHING® Experte\nmit Kerstin Bredehorn und Jenni Karies\n Veranstaltungsort: Dortmund
URL:https://pilates-verband.org/event/medical-stretching-experte-5/
LOCATION:Die Bewegungsakademie\, Rosemeyerstrasse 2-4\, Dortmund\, info@die-bewegungsakademie.de\, 44139\, Germany
CATEGORIES:Pilatesrelevante Fortbildung
ATTACH;FMTTYPE=image/svg+xml:https://pilates-verband.org/wp-content/uploads/bewegungs-akademie-logo.svg
END:VEVENT
BEGIN:VEVENT
DTSTART;VALUE=DATE:20241102
DTEND;VALUE=DATE:20241105
DTSTAMP:20260422T183440
CREATED:20231121T095255Z
LAST-MODIFIED:20231121T095255Z
UID:6298-1730505600-1730764799@pilates-verband.org
SUMMARY:Comprehensive Teacher Training - Modul 7
DESCRIPTION:Comprehensive Teacher Training – Modul 7\n Veranstaltungsort: Berlin
URL:https://pilates-verband.org/event/comprehensive-teacher-training-modul-7/
LOCATION:The Body in Balance Studio\, Mehringdamm 69\, Berlin\, info@pilatesberlin.de\, 10961\, Germany
CATEGORIES:Ausbildung
ATTACH;FMTTYPE=image/svg+xml:https://pilates-verband.org/wp-content/uploads/the-body-in-balance-studio-pilates-berlin.svg
END:VEVENT
BEGIN:VEVENT
DTSTART;VALUE=DATE:20241103
DTEND;VALUE=DATE:20241104
DTSTAMP:20260422T183440
CREATED:20231013T023253Z
LAST-MODIFIED:20231013T024436Z
UID:6219-1730592000-1730678399@pilates-verband.org
SUMMARY:Freiburg Einweisung in das Kurskonzept BASI® Pilates Mattentraining
DESCRIPTION:Einweisung in das Kurskonzept BASI® Pilates Mattentraining\n Veranstaltungsort: Freiburg
URL:https://pilates-verband.org/event/freiburg-einweisung-in-das-kurskonzept-basi-pilates-mattentraining-2/
LOCATION:BASI Pilates\, Kaiser Ludwig Straße 21\, Fürstenfeldbruck\, natascha@basipilates.net\, 82256\, Germany
CATEGORIES:Fortbildung
ATTACH;FMTTYPE=image/svg+xml:https://pilates-verband.org/wp-content/uploads/basi-pilates-logo.svg
END:VEVENT
BEGIN:VEVENT
DTSTART;VALUE=DATE:20241108
DTEND;VALUE=DATE:20241110
DTSTAMP:20260422T183440
CREATED:20240313T130154Z
LAST-MODIFIED:20240313T130154Z
UID:7289-1731024000-1731196799@pilates-verband.org
SUMMARY:Pilates Matwork CLASSIC Lizenz Modul 2
DESCRIPTION:Modul 2 – Pre Pilates beginner & Classical Pilates intermediate\n Veranstaltungsort: München
URL:https://pilates-verband.org/event/pilates-matwork-classic-lizenz-modul-2-3/
LOCATION:keep in motion\, Sendlingerstraße 56\, München\, info@pilates-in-muenchen.de\, 80331\, Germany
CATEGORIES:Ausbildung
ATTACH;FMTTYPE=image/jpeg:https://pilates-verband.org/wp-content/uploads/keep-in-motion-pilates-logo.jpg
END:VEVENT
BEGIN:VEVENT
DTSTART;VALUE=DATE:20241108
DTEND;VALUE=DATE:20241112
DTSTAMP:20260422T183441
CREATED:20240403T073550Z
LAST-MODIFIED:20240403T073550Z
UID:7385-1731024000-1731369599@pilates-verband.org
SUMMARY:Intensiv Reformer\, Level 1
DESCRIPTION:Intensiv Reformer\, Level 1\n Veranstaltungsort: München
URL:https://pilates-verband.org/event/intensiv-reformer-level-1-3/
LOCATION:Pilatesbody eK\, Wittelsbacherstraße 16\, München\, michaela.bimbi-dresp@t-online.de\, 80469\, Germany
CATEGORIES:Ausbildung
ATTACH;FMTTYPE=image/png:https://pilates-verband.org/wp-content/uploads/pilatesbody-logo.png
END:VEVENT
BEGIN:VEVENT
DTSTART;VALUE=DATE:20241109
DTEND;VALUE=DATE:20241110
DTSTAMP:20260422T183441
CREATED:20231204T122541Z
LAST-MODIFIED:20231204T122541Z
UID:6460-1731110400-1731196799@pilates-verband.org
SUMMARY:Comprehensive
DESCRIPTION:Comprehensive\nKöln 2/online\n Veranstaltungsort: Köln
URL:https://pilates-verband.org/event/comprehensive-7/
LOCATION:Polestar Pilates\, Krefelder Straße 18\, Köln\, info@polestarpilates.de\, 50670\, Germany
CATEGORIES:Ausbildung
ATTACH;FMTTYPE=image/png:https://pilates-verband.org/wp-content/uploads/POLESTAR_Logo.png
END:VEVENT
BEGIN:VEVENT
DTSTART;VALUE=DATE:20241109
DTEND;VALUE=DATE:20241111
DTSTAMP:20260422T183441
CREATED:20230316T103025Z
LAST-MODIFIED:20230316T103025Z
UID:5275-1731110400-1731283199@pilates-verband.org
SUMMARY:Pilates Matwork Ausbildung Modul 4 - Prüfung
DESCRIPTION:Pilates Matwork Ausbildung Modul 4\nPrüfung\n Veranstaltungsort: Dortmund
URL:https://pilates-verband.org/event/pilates-matwork-ausbildung-modul-4-pruefung/
LOCATION:Die Bewegungsakademie\, Rosemeyerstrasse 2-4\, Dortmund\, info@die-bewegungsakademie.de\, 44139\, Germany
CATEGORIES:Ausbildung
ATTACH;FMTTYPE=image/svg+xml:https://pilates-verband.org/wp-content/uploads/bewegungs-akademie-logo.svg
END:VEVENT
BEGIN:VEVENT
DTSTART;VALUE=DATE:20241109
DTEND;VALUE=DATE:20241111
DTSTAMP:20260422T183441
CREATED:20231122T105437Z
LAST-MODIFIED:20231122T105437Z
UID:6333-1731110400-1731283199@pilates-verband.org
SUMMARY:Mattenausbildung 4
DESCRIPTION:Mattenausbildung 4\n Veranstaltungsort: Stuttgart
URL:https://pilates-verband.org/event/mattenausbildung-4-2/
LOCATION:Pilates New York\, Ostendstraße 72\, Stuttgart\, info@pilates-newyork.de\, 70188\, Germany
CATEGORIES:Ausbildung
ATTACH;FMTTYPE=image/jpeg:https://pilates-verband.org/wp-content/uploads/pilates-new-york-logo.jpg
END:VEVENT
BEGIN:VEVENT
DTSTART;VALUE=DATE:20241109
DTEND;VALUE=DATE:20241111
DTSTAMP:20260422T183441
CREATED:20231128T090819Z
LAST-MODIFIED:20231128T090819Z
UID:6357-1731110400-1731283199@pilates-verband.org
SUMMARY:Teacher Training /Classical Matwork
DESCRIPTION:Teacher Training /Classical Matwork\n Veranstaltungsort: Berlin
URL:https://pilates-verband.org/event/teacher-training-classical-matwork-6/
LOCATION:Pilates Studio Berlin – Galina Rohleder\, Kurfürstendamm 69\, Berlin\, info@pilates-studio.berlin\, 10707\, Germany
CATEGORIES:Ausbildung
ATTACH;FMTTYPE=image/svg+xml:https://pilates-verband.org/wp-content/uploads/pilates-studio-berlin-galina-rohleder-logo.svg
END:VEVENT
BEGIN:VEVENT
DTSTART;VALUE=DATE:20241109
DTEND;VALUE=DATE:20241111
DTSTAMP:20260422T183441
CREATED:20231204T115522Z
LAST-MODIFIED:20231204T115522Z
UID:6433-1731110400-1731283199@pilates-verband.org
SUMMARY:Comprehensive 4
DESCRIPTION:Comprehensive 4\n Veranstaltungsort: Frankfurt
URL:https://pilates-verband.org/event/comprehensive-4/
LOCATION:Polestar Pilates\, Krefelder Straße 18\, Köln\, info@polestarpilates.de\, 50670\, Germany
CATEGORIES:Ausbildung
ATTACH;FMTTYPE=image/png:https://pilates-verband.org/wp-content/uploads/polestar-pilates-logo.png
END:VEVENT
BEGIN:VEVENT
DTSTART;VALUE=DATE:20241109
DTEND;VALUE=DATE:20241111
DTSTAMP:20260422T183441
CREATED:20231205T102900Z
LAST-MODIFIED:20231205T102900Z
UID:6535-1731110400-1731283199@pilates-verband.org
SUMMARY:Matte 2
DESCRIPTION:Matte 2\n Veranstaltungsort: Basel
URL:https://pilates-verband.org/event/matte-2-8/
LOCATION:Polestar Pilates\, Krefelder Straße 18\, Köln\, info@polestarpilates.de\, 50670\, Germany
CATEGORIES:Ausbildung
ATTACH;FMTTYPE=image/png:https://pilates-verband.org/wp-content/uploads/POLESTAR_Logo.png
END:VEVENT
BEGIN:VEVENT
DTSTART;VALUE=DATE:20241109
DTEND;VALUE=DATE:20241111
DTSTAMP:20260422T183441
CREATED:20231205T103042Z
LAST-MODIFIED:20231205T103042Z
UID:6539-1731110400-1731283199@pilates-verband.org
SUMMARY:Reformer 2
DESCRIPTION:Reformer 2\n Veranstaltungsort: Hamburg
URL:https://pilates-verband.org/event/reformer-2-4/
LOCATION:Polestar Pilates\, Krefelder Straße 18\, Köln\, info@polestarpilates.de\, 50670\, Germany
CATEGORIES:Ausbildung
ATTACH;FMTTYPE=image/png:https://pilates-verband.org/wp-content/uploads/POLESTAR_Logo.png
END:VEVENT
BEGIN:VEVENT
DTSTART;VALUE=DATE:20241109
DTEND;VALUE=DATE:20241111
DTSTAMP:20260422T183441
CREATED:20231207T105642Z
LAST-MODIFIED:20231207T105642Z
UID:6724-1731110400-1731283199@pilates-verband.org
SUMMARY:Peak Pilates® Classical Level 1 Modul 3
DESCRIPTION:Peak Pilates® Classical Level 1 Modul 3\n Veranstaltungsort: Dresden
URL:https://pilates-verband.org/event/peak-pilates-classical-level-1-modul-3-4/
LOCATION:Core Pilates\, Planufer 92\, Berlin\, training@corepilates.de\, 10967\, Germany
CATEGORIES:Ausbildung
ATTACH;FMTTYPE=image/svg+xml:https://pilates-verband.org/wp-content/uploads/core-pilates-logo.svg
END:VEVENT
BEGIN:VEVENT
DTSTART;VALUE=DATE:20241109
DTEND;VALUE=DATE:20241111
DTSTAMP:20260422T183441
CREATED:20240121T084640Z
LAST-MODIFIED:20240121T084640Z
UID:7071-1731110400-1731283199@pilates-verband.org
SUMMARY:Comprehensive Matten Ausbildung
DESCRIPTION:Anatomie für Pilates ll\n Veranstaltungsort: Kassel
URL:https://pilates-verband.org/event/comprehensive-matten-ausbildung-2/
LOCATION:Kane School\, Josef-Mayburger Kai 28\, Salzburg\, pilatesedu@kaneschool.eu\, 5020\, Austria
CATEGORIES:Ausbildung
ATTACH;FMTTYPE=image/png:https://pilates-verband.org/wp-content/uploads/kane-school-logo.png
END:VEVENT
BEGIN:VEVENT
DTSTART;VALUE=DATE:20241109
DTEND;VALUE=DATE:20241111
DTSTAMP:20260422T183441
CREATED:20240522T071621Z
LAST-MODIFIED:20240522T071621Z
UID:7556-1731110400-1731283199@pilates-verband.org
SUMMARY:Wall Unit Complete und Variationen\, klassisch und modern
DESCRIPTION:Wall Unit Complete und Variationen\, klassisch und modern\n Veranstaltungsort: Hannover
URL:https://pilates-verband.org/event/wall-unit-complete-und-variationen-klassisch-und-modern/
LOCATION:Pilates Akademie Hannover\, Am Uhrturm 7\, Hannover\, info@completepilates-yoga.de\, 30519\, Germany
CATEGORIES:Fortbildung
ATTACH;FMTTYPE=image/jpeg:https://pilates-verband.org/wp-content/uploads/complete-pilates-akademie-hannover-logo.jpg
END:VEVENT
BEGIN:VEVENT
DTSTART;VALUE=DATE:20241109
DTEND;VALUE=DATE:20241111
DTSTAMP:20260422T183441
CREATED:20240927T153909Z
LAST-MODIFIED:20240927T153909Z
UID:7799-1731110400-1731283199@pilates-verband.org
SUMMARY:Modul Matte
DESCRIPTION:Modul Matte\n Veranstaltungsort: Hamburg
URL:https://pilates-verband.org/event/modul-matte/
LOCATION:Club Pilates Germany\, Brandstwiete 4\, Hamburg\, education@clubpilates.com.de\, 20457\, Germany
CATEGORIES:Ausbildung
ATTACH;FMTTYPE=image/png:https://pilates-verband.org/wp-content/uploads/club-pilates-logo.png
END:VEVENT
BEGIN:VEVENT
DTSTART;TZID=Europe/Berlin:20241109T100000
DTEND;TZID=Europe/Berlin:20241109T130000
DTSTAMP:20260422T183441
CREATED:20231206T113204Z
LAST-MODIFIED:20231206T113204Z
UID:6694-1731146400-1731157200@pilates-verband.org
SUMMARY:Relax More - stress less
DESCRIPTION:Relax More – stress less\n Veranstaltungsort: Online
URL:https://pilates-verband.org/event/relax-more-stress-less-5/
LOCATION:Polestar Pilates\, Krefelder Straße 18\, Köln\, info@polestarpilates.de\, 50670\, Germany
CATEGORIES:Pilatesrelevante Fortbildung
ATTACH;FMTTYPE=image/png:https://pilates-verband.org/wp-content/uploads/POLESTAR_Logo.png
END:VEVENT
BEGIN:VEVENT
DTSTART;VALUE=DATE:20241114
DTEND;VALUE=DATE:20241118
DTSTAMP:20260422T183441
CREATED:20240927T154042Z
LAST-MODIFIED:20240927T154042Z
UID:7801-1731542400-1731887999@pilates-verband.org
SUMMARY:Modul Reformer
DESCRIPTION:Modul Reformer\n Veranstaltungsort: Hamburg
URL:https://pilates-verband.org/event/modul-reformer/
LOCATION:Club Pilates Germany\, Brandstwiete 4\, Hamburg\, education@clubpilates.com.de\, 20457\, Germany
CATEGORIES:Ausbildung
ATTACH;FMTTYPE=image/png:https://pilates-verband.org/wp-content/uploads/club-pilates-logo.png
END:VEVENT
BEGIN:VEVENT
DTSTART;VALUE=DATE:20241115
DTEND;VALUE=DATE:20241118
DTSTAMP:20260422T183441
CREATED:20240522T070034Z
LAST-MODIFIED:20240522T070034Z
UID:7546-1731628800-1731887999@pilates-verband.org
SUMMARY:Pilates und Pilates inspiriete Übungen pre und Postnatal
DESCRIPTION:Pilates und Pilates inspiriete Übungen pre und Postnatal\n Veranstaltungsort: Hannover
URL:https://pilates-verband.org/event/pilates-und-pilates-inspiriete-uebungen-pre-und-postnatal/
LOCATION:Pilates Akademie Hannover\, Am Uhrturm 7\, Hannover\, info@completepilates-yoga.de\, 30519\, Germany
CATEGORIES:Fortbildung
ATTACH;FMTTYPE=image/jpeg:https://pilates-verband.org/wp-content/uploads/complete-pilates-akademie-hannover-logo.jpg
END:VEVENT
BEGIN:VEVENT
DTSTART;VALUE=DATE:20241115
DTEND;VALUE=DATE:20241119
DTSTAMP:20260422T183441
CREATED:20240403T072836Z
LAST-MODIFIED:20240403T072836Z
UID:7379-1731628800-1731974399@pilates-verband.org
SUMMARY:Intensiv Mat\, Level 1
DESCRIPTION:Intensiv Mat\, Level 1\n Veranstaltungsort: München
URL:https://pilates-verband.org/event/intensiv-mat-level-1-2/
LOCATION:Pilatesbody eK\, Wittelsbacherstraße 16\, München\, michaela.bimbi-dresp@t-online.de\, 80469\, Germany
CATEGORIES:Ausbildung
ATTACH;FMTTYPE=image/png:https://pilates-verband.org/wp-content/uploads/pilatesbody-logo.png
END:VEVENT
BEGIN:VEVENT
DTSTART;VALUE=DATE:20241116
DTEND;VALUE=DATE:20241117
DTSTAMP:20260422T183441
CREATED:20231130T111837Z
LAST-MODIFIED:20231130T111837Z
UID:6392-1731715200-1731801599@pilates-verband.org
SUMMARY:Cadillac / Tower Ausbildung - Teil 3
DESCRIPTION:Cadillac / Tower Ausbildung – Teil 3\n Veranstaltungsort: Tönisvorst
URL:https://pilates-verband.org/event/cadillac-tower-ausbildung-teil-3/
LOCATION:pilates-powers\, Westring 1a\, Tönisvorst\, ausbildung@pilates-powers.de\, 47918\, Germany
CATEGORIES:Ausbildung
ATTACH;FMTTYPE=image/png:https://pilates-verband.org/wp-content/uploads/pilates-powers-logo.png
END:VEVENT
BEGIN:VEVENT
DTSTART;VALUE=DATE:20241116
DTEND;VALUE=DATE:20241117
DTSTAMP:20260422T183441
CREATED:20231206T112917Z
LAST-MODIFIED:20231206T113038Z
UID:6688-1731715200-1731801599@pilates-verband.org
SUMMARY:Running Skills
DESCRIPTION:Running Skills\n Veranstaltungsort: Köln
URL:https://pilates-verband.org/event/running-skills-2/
LOCATION:Polestar Pilates\, Krefelder Straße 18\, Köln\, info@polestarpilates.de\, 50670\, Germany
CATEGORIES:Pilatesrelevante Fortbildung
ATTACH;FMTTYPE=image/png:https://pilates-verband.org/wp-content/uploads/POLESTAR_Logo.png
END:VEVENT
BEGIN:VEVENT
DTSTART;VALUE=DATE:20241116
DTEND;VALUE=DATE:20241117
DTSTAMP:20260422T183441
CREATED:20240515T101349Z
LAST-MODIFIED:20240515T101349Z
UID:7519-1731715200-1731801599@pilates-verband.org
SUMMARY:Octocore Profesional Workshop
DESCRIPTION:Octocore Professionell Workshop – hybrid\n Veranstaltungsort: München
URL:https://pilates-verband.org/event/octocore-profesional-workshop/
LOCATION:keep in motion\, Sendlingerstraße 56\, München\, info@pilates-in-muenchen.de\, 80331\, Germany
CATEGORIES:Pilatesrelevante Fortbildung
ATTACH;FMTTYPE=image/jpeg:https://pilates-verband.org/wp-content/uploads/keep-in-motion-pilates-logo.jpg
END:VEVENT
BEGIN:VEVENT
DTSTART;VALUE=DATE:20241116
DTEND;VALUE=DATE:20241118
DTSTAMP:20260422T183441
CREATED:20230316T103621Z
LAST-MODIFIED:20230316T103648Z
UID:5283-1731715200-1731887999@pilates-verband.org
SUMMARY:Pilates Reformer Ausbildung Modul 4 - Prüfung
DESCRIPTION:Pilates Reformer Ausbildung Modul 4\nPrüfung\n Veranstaltungsort: Dortmund
URL:https://pilates-verband.org/event/dortmund-pilates-reformer-ausbildung-modul-4-pruefung/
LOCATION:Die Bewegungsakademie\, Rosemeyerstrasse 2-4\, Dortmund\, info@die-bewegungsakademie.de\, 44139\, Germany
CATEGORIES:Ausbildung
ATTACH;FMTTYPE=image/svg+xml:https://pilates-verband.org/wp-content/uploads/bewegungs-akademie-logo.svg
END:VEVENT
BEGIN:VEVENT
DTSTART;VALUE=DATE:20241116
DTEND;VALUE=DATE:20241118
DTSTAMP:20260422T183441
CREATED:20231013T023223Z
LAST-MODIFIED:20231013T024436Z
UID:6212-1731715200-1731887999@pilates-verband.org
SUMMARY:Freiburg Geräte Ausbildung
DESCRIPTION:Studioausbildung (Matte und Geräte) – Modul 11-12\n Veranstaltungsort: Freiburg
URL:https://pilates-verband.org/event/freiburg-geraete-ausbildung-16/
LOCATION:BASI Pilates\, Kaiser Ludwig Straße 21\, Fürstenfeldbruck\, natascha@basipilates.net\, 82256\, Germany
CATEGORIES:Ausbildung
ATTACH;FMTTYPE=image/svg+xml:https://pilates-verband.org/wp-content/uploads/basi-pilates-logo.svg
END:VEVENT
BEGIN:VEVENT
DTSTART;VALUE=DATE:20241116
DTEND;VALUE=DATE:20241118
DTSTAMP:20260422T183441
CREATED:20231205T102306Z
LAST-MODIFIED:20231205T102306Z
UID:6522-1731715200-1731887999@pilates-verband.org
SUMMARY:Matte 2
DESCRIPTION:Matte 2\nKöln 2\n Veranstaltungsort: Köln
URL:https://pilates-verband.org/event/matte-2-6/
LOCATION:Polestar Pilates\, Krefelder Straße 18\, Köln\, info@polestarpilates.de\, 50670\, Germany
CATEGORIES:Ausbildung
ATTACH;FMTTYPE=image/png:https://pilates-verband.org/wp-content/uploads/POLESTAR_Logo.png
END:VEVENT
END:VCALENDAR